{"text_format":"1","workbook":"xlsx","n_sheets":9,"sheets":["Sheet2","Tidsplan","Lørdag løp","Lørdag trekning","Søndag trekning","Søndg løp","LØPSOPPSETT OPPSLAG","Krysstabell","FORMATERINGER"],"not_rendered":{"charts":0,"images":0,"macros":1,"external_links":1,"defined_names":26,"comments":2,"pivot_tables":1},"unopened":[],"bounds":{"document_bytes":16777216,"sheet_cells":100000,"rows_first":2000,"rows_last":500,"rows_between":2000,"halvings":0,"cell_chars":16384,"cell_head_chars":4096},"cells_cut":0,"cells_raw":0,"read":"whole","date_system":"1900"}

{"sheet":"Sheet2","index":0,"n_rows":25,"n_cols":27,"rows_kept":25,"cut":false,"hidden":true,"merged":[]}
[]
[]
["Count of Startnr","Column Labels"]
["Row Labels",1,2,3,4,5,6,7,8,9,10,11,12,13,14,15,16,17,18,19,20,21,22,23,24,"(blank)","Grand Total"]
["Aalesunds Roklub",null,null,null,1,null,null,null,null,null,null,null,null,null,null,null,null,null,null,null,null,null,null,null,null,null,1]
["Bestumkilen Roklubb",2,1,1,1,null,null,null,null,null,null,null,null,null,null,null,null,null,null,null,null,null,null,null,null,null,5]
["Bærum Roklubb",12,8,5,4,4,3,1,1,1,3,1,2,null,null,1,null,null,1,null,null,null,1,1,1,null,50]
["Christiania Roklub",3,3,3,1,null,null,2,1,1,null,2,null,null,null,null,null,null,null,null,null,null,null,null,null,null,16]
["Drammen Roklubb ",2,3,3,1,1,null,2,null,null,null,null,null,1,null,null,null,null,null,null,1,null,null,null,null,null,14]
["Fredrikstad Roklubb",null,1,null,null,null,null,null,null,null,null,null,null,null,null,null,null,null,null,null,null,null,null,null,null,null,1]
["Haldens Roklub",2,null,null,2,null,null,null,null,null,null,1,null,null,null,null,null,null,null,null,null,null,null,null,null,null,5]
["Moss Roklubb",null,4,5,4,2,2,1,null,2,null,1,null,null,null,null,2,null,null,null,null,null,null,null,null,null,23]
["Norske Studenters Roklub",8,8,3,5,4,3,1,2,null,2,null,null,1,1,null,null,1,null,1,null,1,null,null,null,null,41]
["NSR",null,null,null,1,null,null,null,null,null,null,null,null,null,null,null,null,null,null,null,null,null,null,null,null,null,1]
["Ormsund Roklub",6,1,6,3,2,2,2,1,null,null,1,null,null,null,1,null,null,null,null,null,null,null,null,null,null,25]
["Porsgrunn Roklubb",1,1,null,null,1,null,null,1,1,null,null,null,null,null,null,null,null,null,null,null,null,null,null,null,null,5]
["Sarpsborg Roklubb - Roing",3,1,1,1,1,3,1,2,1,null,null,1,1,2,null,null,null,null,null,null,null,null,null,null,null,18]
["Tønsberg",null,null,null,null,1,null,null,null,null,null,null,null,null,null,null,null,null,null,null,null,null,null,null,null,null,1]
["Tønsberg Roklub",2,2,2,1,2,1,2,1,null,1,null,null,null,null,null,null,1,null,null,null,null,null,null,null,null,15]
["Årungen Ro- og Kajakklubb",null,1,null,null,null,null,null,null,null,null,null,null,null,null,null,null,null,null,null,null,null,null,null,null,null,1]
["(blank)"]
["Grand Total",41,34,29,25,18,14,12,9,6,6,6,3,3,3,2,2,2,1,1,1,1,1,1,1,null,222]
[]
[]
[null,36,29,24,21,16,11,10,8,7,5,5,3,3,3,2,2,2,1,1,1,1,1,1,1,194]

{"sheet":"Tidsplan","index":1,"n_rows":105,"n_cols":15,"rows_kept":105,"cut":false,"hidden":false,"merged":[]}
["LØPSDAG","LØP NR","FORSØKSLØP","FINALER","Antall Båter","#Heat","\"Hjemme-klubb\"","Påmeldt av (person)","Mobil","E-post","Påmeldt dato",null,null,"VEIING"]
["Lørdag 22.08.2015","140F","0900",{"$f":"VLOOKUP(LEFT(B2,3)*1,B:D,3,FALSE)","v":"1620"},14,2]
["Lørdag 22.08.2015","122F","0910",{"$f":"VLOOKUP(LEFT(B3,3)*1,B:D,3,FALSE)","v":"1440"},11,3]
["Lørdag 22.08.2015","121F","0925",{"$f":"VLOOKUP(LEFT(B4,3)*1,B:D,3,FALSE)","v":"1425"},7,2]
["Lørdag 22.08.2015","111F","0935",{"$f":"VLOOKUP(LEFT(B5,3)*1,B:D,3,FALSE)","v":"1305"},10,4]
["Lørdag 22.08.2015",102,"0955","0950",null,3]
["Lørdag 22.08.2015",101,1010,"1005",23,4]
[null,null,"1030"]
["LAGLEDERMØTE","1LLM","LAGLEDERMØTE","1100"]
["Lørdag 22.08.2015",103,{"$f":"IFERROR(VLOOKUP(B10&\"F\",B:D,2,FALSE),\"\")","v":""},"1200"]
["Lørdag 22.08.2015",105,"","1220"]
["Lørdag 22.08.2015",106,"","1220"]
["Lørdag 22.08.2015",107,"","1250"]
["Lørdag 22.08.2015",108,"","1255"]
["Lørdag 22.08.2015",109,"","1300"]
["Lørdag 22.08.2015",110,"","1305"]
["Lørdag 22.08.2015",111,"0935","1305"]
["Lørdag 22.08.2015",112,"","1315"]
["Lørdag 22.08.2015",104,"","1320"]
["Lørdag 22.08.2015",113,"","1330"]
["Lørdag 22.08.2015",114,"","1335"]
["Lørdag 22.08.2015",115,"","1340"]
["Lørdag 22.08.2015",116,"","1345"]
["Lørdag 22.08.2015",117,"","1350",null,null,null,null,null,null,null,null,null,"1145-1245"]
["Lørdag 22.08.2015",118,"","1350"]
["Lørdag 22.08.2015",119,"","1355"]
["Lørdag 22.08.2015",120,"","1410"]
["Lørdag 22.08.2015",121,"0925","1425"]
["Lørdag 22.08.2015",122,"0910","1440"]
["Lørdag 22.08.2015",123,"","1455"]
["Lørdag 22.08.2015",124,"","1500"]
["Lørdag 22.08.2015",125,"","1505"]
["Lørdag 22.08.2015",126,"","1510"]
["Lørdag 22.08.2015",127,"","1515"]
["Lørdag 22.08.2015",128,"","1520"]
["Lørdag 22.08.2015",129,"","1525"]
["Lørdag 22.08.2015",130,"","1530"]
["Lørdag 22.08.2015",131,"","1535"]
["Lørdag 22.08.2015",132,"","1540"]
["Lørdag 22.08.2015",133,"","1545"]
["Lørdag 22.08.2015",134,"","1555"]
["Lørdag 22.08.2015",135,"","1600"]
["Lørdag 22.08.2015",136,"","1600"]
["Lørdag 22.08.2016",137,"","1605"]
["Lørdag 22.08.2015",138,"","1605"]
["Lørdag 22.08.2015",139,"","1615"]
["Lørdag 22.08.2015",140,"0900","1620"]
["Lørdag 22.08.2015",141,"","1625"]
["Lørdag 22.08.2016",142,"","1630"]
["Lørdag 22.08.2017",143,"","1635"]
[null,null,null,null,null,null,null,null,null,null,null,null,null,null,7]
[null,null,"SØNDAG"]
[]
["Søndag 23.08.2015","240F","0900",{"$f":"VLOOKUP(LEFT(B54,3)*1,B:D,3,FALSE)","v":"1555"},null,2]
["Søndag 23.08.2015","222F","0910",{"$f":"VLOOKUP(LEFT(B55,3)*1,B:D,3,FALSE)","v":"1430"},null,3]
["Søndag 23.08.2015","221F","0925",{"$f":"VLOOKUP(LEFT(B56,3)*1,B:D,3,FALSE)","v":"1420"},null,2]
["Søndag 23.08.2015","232F","0935",{"$f":"VLOOKUP(LEFT(B57,3)*1,B:D,3,FALSE)","v":"1520"},null,2]
["Søndag 23.08.2015","211F","0945",{"$f":"VLOOKUP(LEFT(B58,3)*1,B:D,3,FALSE)","v":"1305"},null,3]
["Søndag 23.08.2015",202,{"$f":"IFERROR(VLOOKUP(B59&\"F\",B:D,2,FALSE),\"\")","v":""},"1020",null,4]
["Søndag 23.08.2015",201,{"$f":"IFERROR(VLOOKUP(B60&\"F\",B:D,2,FALSE),\"\")","v":""},"1000",null,3]
[null,null,null,"1035"]
[null,"2LLM","LAGLEDERMØTE","1100"]
[]
["Søndag 23.08.2015",203,{"$f":"IFERROR(VLOOKUP(B64&\"F\",B:D,2,FALSE),\"\")","v":""},"1200"]
["Søndag 23.08.2015",205,"","1220"]
["Søndag 23.08.2015",206,"","1220"]
["Søndag 23.08.2015",207,"","1250"]
["Søndag 23.08.2015",208,"","1255"]
["Søndag 23.08.2015",209,"","1255"]
["Søndag 23.08.2015",210,"","1300"]
["Søndag 23.08.2015",211,"0945","1305"]
["Søndag 23.08.2015",212,"","1315"]
["Søndag 23.08.2015",204,"","1315"]
["Søndag 23.08.2015",213,"","1335"]
["Søndag 23.08.2015",214,"","1335"]
["Søndag 23.08.2015",215,"","1340"]
["Søndag 23.08.2015",216,"","1340"]
["Søndag 23.08.2015",217,"","1340"]
["Søndag 23.08.2015",218,"","1345"]
["Søndag 23.08.2015",219,"","1350"]
["Søndag 23.08.2015",220,"","1405"]
["Søndag 23.08.2015",221,"0925","1420",13]
["Søndag 23.08.2015",222,"0910","1430",7]
["Søndag 23.08.2015",223,"","1445"]
["Søndag 23.08.2015",224,"","1450"]
["Søndag 23.08.2015",225,"","1455"]
["Søndag 23.08.2015",226,"","1500"]
["Søndag 23.08.2015",227,"","1500"]
["Søndag 23.08.2015",228,"","1505"]
["Søndag 23.08.2015",229,"","1510"]
["Søndag 23.08.2015",230,"","1510"]
["Søndag 23.08.2015",231,"","1515"]
["Søndag 23.08.2015",232,"0935","1520"]
["Søndag 23.08.2015",233,"","1525"]
["Søndag 23.08.2015",234,"","1535"]
["Søndag 23.08.2015",235,"","1540"]
["Søndag 23.08.2015",236,"","1540"]
["Søndag 23.08.2015",237,"","1545"]
["Søndag 23.08.2015",238,"","1545"]
["Søndag 23.08.2015",239,"","1550"]
["Søndag 23.08.2015",240,"0900","1555"]
["Søndag 23.08.2015",241,"","1600"]
["Søndag 23.08.2015",242,"","1605"]
["Søndag 23.08.2016",243,"","1610"]
["Søndag 23.08.2017",244,"","1615"]

{"sheet":"Lørdag løp","index":2,"n_rows":48,"n_cols":8,"rows_kept":48,"cut":false,"hidden":false,"merged":[[2,1,2,2],[0,0,0,7],[5,0,5,7]]}
["LØPSOPPSETT LØRDAG"]
["DAG","Løp nr.","Kjønn","Klasse","Båttype","Distanse","ANNET","Startkontingent"]
["Lørdag","FORSØKSLØP\nFORSØKSLØP"]
[null,101,"H","JB","1x",500," ",275]
[null,102,"D","JB","1x",500,"K",275]
["Pause\nLAGLEDERMØTE kl. 11.00"]
[null,103,"D/H","Nybeg","Åpen",500," ",150]
[null,{"$f":"B16+1","v":105},"H","JA","8+",500,"SP/K",475]
[null,{"$f":"B8+1","v":106},"H","JC","1x",500," ",275]
[null,107,"D","JC","2x",500," ",325]
[null,108,"D","S","1x",500,"SP",275]
[null,109,"D","JA","2x",500,"SP",325]
[null,110,"D","S","2-",500,null,325]
[null,111,"H","JA","1x",500,"K",275]
[null,112,"H","S/Master","4-",500," ",375]
[null,{"$f":"B7+1","v":104},"D/H","JD","2x",500,null,275]
[null,{"$f":"B15+1","v":113},"D","Master","4x",500,"K",375]
[null,114,"H","JA","2-",500,"SP",325]
[null,115,"H","S","1x",500,"K",275]
[null,116,"D","JA","4-",500,"SP",375]
[null,117,"H","S L ","1x",500,"K",275]
[null,118,"D","S","2x",500," ",325]
[null,119,"H","JC","2x",500," ",325]
[null,120,"D","JC","1x",500," ",275]
[null,121,"H","JB","2x",500,"K",325]
[null,122,"D","JA","1x",500,"K",275]
[null,123,"D","JB","4x",500,"K",375]
[null,124,"H","Master","2x",500," ",325]
[null,125,"D","Master","2x",500,"K",325]
[null,126,"D","S L ","2x",500,"K",325]
[null,127,"H","S","2x",500,"SP",325]
[null,128,"D","S","4x",500,"K",375]
[null,129,"H","JA","4x",500,"SP",375]
[null,130,"D","JA","2-",500,"SP",325]
[null,131,"H","JB","4-",500,"K",375]
[null,132,"D","JB","2x",500,"K",325]
[null,133,"MIX","JC","4x",500,null,375]
[null,134,"H","JA","4-",500,"K",375]
[null,135,"H","S","2-",500,"K ",325]
[null,136,"D","JA","4x",500,"SP",375]
[null,137,"H","S L"," 2x",500,"SP",325]
[null,138,"D","S L ","1x",500,"SP",275]
[null,139,"H","S/Master","4x",500,"SP/K",375]
[null,140,"H","JA","2x",500,"K",325]
[null,141,"H","JB","4x",500,"K",375]
[null,142,"H","Master","1x",500,"K",275]
[null,143,"D","Master","1x",500," ",275]
[null,144,"D","S","8+",500,"SP",475]

{"sheet":"Lørdag trekning","index":3,"n_rows":801,"n_cols":52,"rows_kept":801,"cut":false,"hidden":false,"merged":[]}
[{"$f":"COLUMNS($A1:A1)","v":1},{"$f":"COLUMNS($A1:B1)","v":2},{"$f":"COLUMNS($A1:C1)","v":3},{"$f":"COLUMNS($A1:D1)","v":4},{"$f":"COLUMNS($A1:E1)","v":5},{"$f":"COLUMNS($A1:F1)","v":6},{"$f":"COLUMNS($A1:G1)","v":7},{"$f":"COLUMNS($A1:H1)","v":8},{"$f":"COLUMNS($A1:I1)","v":9},{"$f":"COLUMNS($A1:J1)","v":10},{"$f":"COLUMNS($A1:K1)","v":11},{"$f":"COLUMNS($A1:L1)","v":12},{"$f":"COLUMNS($A1:M1)","v":13},{"$f":"COLUMNS($A1:N1)","v":14},{"$f":"COLUMNS($A1:O1)","v":15},{"$f":"COLUMNS($A1:P1)","v":16},{"$f":"COLUMNS($A1:Q1)","v":17},18,19,20,21,{"$f":"COLUMNS($A1:V1)","v":22},{"$f":"COLUMNS($A1:W1)","v":23},{"$f":"COLUMNS($A1:X1)","v":24},{"$f":"COLUMNS($A1:Y1)","v":25},{"$f":"COLUMNS($A1:Z1)","v":26},null,{"$f":"COLUMNS($A1:AB1)","v":28},{"$f":"COLUMNS($A1:AC1)","v":29},{"$f":"COLUMNS($A1:AD1)","v":30},{"$f":"COLUMNS($A1:AE1)","v":31},{"$f":"COLUMNS($A1:AF1)","v":32},{"$f":"COLUMNS($A1:AG1)","v":33},{"$f":"COLUMNS($A1:AH1)","v":34},{"$f":"COLUMNS($A1:AI1)","v":35},{"$f":"COLUMNS($A1:AJ1)","v":36},{"$f":"COLUMNS($A1:AK1)","v":37},{"$f":"COLUMNS($A1:AL1)","v":38},{"$f":"COLUMNS($A1:AM1)","v":39},{"$f":"COLUMNS($A1:AN1)","v":40},{"$f":"COLUMNS($A1:AO1)","v":41},{"$f":"COLUMNS($A1:AP1)","v":42},{"$f":"COLUMNS($A1:AQ1)","v":43},{"$f":"COLUMNS($A1:AR1)","v":44},{"$f":"COLUMNS($A1:AS1)","v":45},{"$f":"COLUMNS($A1:AT1)","v":46},null,null,null,null,null,18]
[null,null,null,null,null,null,null,null,null,null,null,null,null,null,null,null,null,null,3,5,6]
[null,null,null,null,null,null,null,null,null,null,null,null,null,null,null,null,null,621,null,null,null,null,null,null,null,null,{"$f":"SUBTOTAL(9,AA4:AA798)-1","v":-1},null,{"$f":"SUBTOTAL(3,AC4:AC798)-1","v":47}]
["ID","Oppslag","LØPSDAG","LØP NR","Plassering","Start Finale","Start Forsøk","Veiing","Forsøk","Slått ut","Semifinale","Start Forsøk","Rendom 1","random","Sprintmesterskap (S)","Kretsmesterslap (K)","Heat","Startnr","Heat actual","Plassering","Tid","Plass x Heat","Poeng","Kjønn","Klasse","Båttype","Deltakere (seter)","Distanse","Roklubb","ROERE","NC Kvalifisering Nordisk/Baltic","START-KONTIGENT","Etteranmeldt/Strøket","Påmeldene/Betalende klubb","Betaling registrert","Betalingstransaksjon","Fødselsdato","Påmelding innenfor klasse (ja/nei)","Idrettsnummer","Person ID","Betalt lisens","\"Hjemme-klubb\"","Påmeldt av (person)","Mobil","E-post","Påmeldt dato"]
[{"$f":"D5&R5","v":"1400"},1,"Lør 01.09",140,null,{"$f":"VLOOKUP($D5,Tidsplan!$B:$D,3,FALSE)","v":"1620"},{"$f":"VLOOKUP($D5,Tidsplan!$B:$D,2,FALSE)","v":"0900"},null,null,null,null,null,null,4.8955150214641363E-2,null,"K",null,0,null,null,null,null,null,"H","H J A","2x",{"$f":"IF(R5<>0,LEFT(Z5,1),0)*1","v":0},"500 m "]
["140F1",{"$f":"OFFSET(B6,-1,0)","v":1},"Lør 01.09","140F",null,{"$f":"OFFSET(F6,-1,0)","v":"1620"},{"$f":"OFFSET(G6,-1,0)","v":"0900"},null,null,null,null,null,null,0.43262627475249849,null,null,1,1,null,null,{"$f":"IF(#REF!=1,IFERROR(VLOOKUP(#REF!,[1]Sheet1!$A:$N,U$2,FALSE),\"\"),\"\")","v":{"$error":"#REF!"}},null,null,"H","H J A","2x",null,"500 m ","Christiania Roklub 1","Tinius Halvdan Wilhelmsen\nAndreas Dugstad Sørskaar","09:00",325,null,"Christiania Roklub",null,null,"18.10.2001\n10.06.2001","Ja\nJa","M181001TIN04\nM100601AND03","6005810\n5234159","03.04.2018\n","Christiania Roklub\nChristiania Roklub","Grete Isachsen Stokke\n","91338845\n","greteistokke@hotmail.com;grisach@gmail.com\n","22.08.2018\n22.08.2018"]
["140F2",1,"Lør 01.09","140F",null,{"$f":"OFFSET(F7,-1,0)","v":"1620"},"0900",null,null,null,null,null,null,0.11960363869878754,null,null,1,2,null,null,{"$f":"IF(#REF!=1,IFERROR(VLOOKUP(#REF!,[1]Sheet1!$A:$N,U$2,FALSE),\"\"),\"\")","v":{"$error":"#REF!"}},null,null,"H","H J A","2x",null,"500 m ","Bærum Roklubb 2","Eirik Hauge\nSindre Fuglseth","09:00",325,null,"Bærum Roklubb",null,null,"12.09.2000\n26.09.2000","Ja\nJa","M120900BRA03\nM260900SIN02","4908711\n6073987","17.04.2018\n17.04.2018","Bærum Roklubb\nBærum Roklubb","Bente Dingen\n","45411863\n","bente.dingen@lundin-norway.no\n","22.08.2018\n22.08.2018"]
["140F3",1,"Lør 01.09","140F",null,"1620","0900",null,null,null,null,null,null,0.61772743698317256,null,null,1,3,null,null,{"$f":"IF(#REF!=1,IFERROR(VLOOKUP(#REF!,[1]Sheet1!$A:$N,U$2,FALSE),\"\"),\"\")","v":{"$error":"#REF!"}},null,null,"H","H J A","2x",null,"500 m ","Sarpsborg Roklubb ","Diderik Fabian Sørby Skjønhaug\nJacob Gundersen","09:00",325,null,"Sarpsborg Roklubb - Roing",null,null,"28.12.2000\n08.04.2001","Ja\nJa","M281200DID01\nM080401JAC01","5330116\n5584584","22.03.2018\n22.03.2018","Sarpsborg Roklubb - Roing\nSarpsborg Roklubb - Roing","Thomas Gundersen\n","91874904\n","Thomas.gundersen@afgruppen.no;thomas.gundersen@afgruppen.no\n","22.08.2018\n22.08.2018"]
["140F4",1,"Lør 01.09","140F",null,"1620","0900",null,null,null,null,null,null,0.54352635832955742,null,null,1,4,null,null,{"$f":"IF(#REF!=1,IFERROR(VLOOKUP(#REF!,[1]Sheet1!$A:$N,U$2,FALSE),\"\"),\"\")","v":{"$error":"#REF!"}},null,null,"H","H J A","2x",null,"500 m ","Christiania Roklub 2","Marius Bjørn-Hansen Ahlsand\nJonathan Wang-Norderud","09:00",325,null,"Christiania Roklub",null,null,"22.01.2002\n19.07.2002","Nei\nNei","M220102MAR12\nM190702JON01","7781581\n5260818","06.03.2018\n","Christiania Roklub\nChristiania Roklub","Grete Isachsen Stokke\n","91338845\n","greteistokke@hotmail.com;grisach@gmail.com\n","22.08.2018\n22.08.2018"]
["140F5",1,"Lør 01.09","140F",null,"1620","0900",null,null,null,null,null,null,0.78547241220961905,null,null,2,5,null,null,{"$f":"IF(#REF!=1,IFERROR(VLOOKUP(#REF!,[1]Sheet1!$A:$N,U$2,FALSE),\"\"),\"\")","v":{"$error":"#REF!"}},null,null,"H","H J A","2x",null,"500 m ","Bærum Roklubb 1","Lars Moberg Værnes\nØystein Dingen Endresen","09:00",325,null,"Bærum Roklubb",null,null,"02.06.2000\n20.06.2000","Ja\nJa","M020600LAR04\nM070600ØYS01","6806488\n5372192","\n13.04.2018","Bærum Roklubb\nBærum Roklubb","Bente Dingen\n","45411863\n","bente.dingen@lundin-norway.no\n","22.08.2018\n22.08.2018"]
["140F6",1,"Lør 01.09","140F",null,"1620","0900",null,null,null,null,null,null,0.86300614945301446,null,null,2,6,null,null,{"$f":"IF(#REF!=1,IFERROR(VLOOKUP(#REF!,[1]Sheet1!$A:$N,U$2,FALSE),\"\"),\"\")","v":{"$error":"#REF!"}},null,null,"H","H J A","2x",null,"500 m ","Tønsberg Roklub 1","Lars Jørann Lindgren\nIsak Vartal-Gjerde","09:00",325,null,"Tønsberg Roklub",null,null,"30.05.2001\n24.12.2000","Ja\nJa","M300501LAR02\nM241200ISA03","4234298\n7173184","13.04.2018\n13.04.2018","Tønsberg Roklub\nTønsberg Roklub","Svend Andersen\n","92061715\n","svendandersen@me.com\n","21.08.2018\n21.08.2018"]
["140F7",1,"Lør 01.09","140F",null,"1620","0900",null,null,null,null,null,null,0.9054631890337973,null,null,2,7,null,null,{"$f":"IF(#REF!=1,IFERROR(VLOOKUP(#REF!,[1]Sheet1!$A:$N,U$2,FALSE),\"\"),\"\")","v":{"$error":"#REF!"}},null,null,"H","H J A","2x",null,"500 m","Aalesunds Roklub","Fredrik Reite\n Arild Lykkebø Johnsen","09:00",325,null,"Aalesunds Roklub",null,null,null,"Nei\nNei",null,null,null,"Aalesunds Roklub\nAalesunds Roklub","Johan Gerhard Myklebust\n","90894714\n","johan.myklebust@nordea.no\n","21.08.2018\n21.08.2018"]
["121F0",0,"Lør 01.09","121F",null,{"$f":"VLOOKUP($D13,Tidsplan!$B:$D,3,FALSE)","v":"1425"},{"$f":"VLOOKUP($D13,Tidsplan!$B:$D,2,FALSE)","v":"0925"},null,null,null,null,"0830",null,null,null,null,null,0,null,null,{"$f":"IF(#REF!=1,IFERROR(VLOOKUP(#REF!,[1]Sheet1!$A:$N,U$2,FALSE),\"\"),\"\")","v":{"$error":"#REF!"}},null,null,"H","H J B","2x",{"$f":"IF(R13<>0,LEFT(Z13,1),0)*1","v":0},"500 m "]
["121F1",{"$f":"OFFSET(B14,-1,0)","v":0},"Lør 1.9","121F",null,{"$f":"OFFSET(F14,-1,0)","v":"1425"},"0925",null,null,null,null,null,null,0.55906422817959678,null,null,1,1,null,null,{"$f":"IF(#REF!=1,IFERROR(VLOOKUP(#REF!,[1]Sheet1!$A:$N,U$2,FALSE),\"\"),\"\")","v":{"$error":"#REF!"}},null,null,"H","H J B","2x",null,"500 m ","Drammen Roklubb  4","Christian Juven Brandt\nHåkon Villum Hansen","09:00",325,null,"Drammen Roklubb ",null,null,"16.09.2003\n04.05.2004","Ja\nNei","M160903CHR01\nM040504HÅK13","4573154\n8104025","10.04.2018\n30.05.2018","Drammen Roklubb \nDrammen Roklubb ","Beate Pharo\n","90660478\n","beatepharo@gmail.com\n","21.08.2018\n21.08.2018"]
["121F2",0,"Lør 1.9","121F",null,"1425","0925",null,null,null,null,null,null,0.32834509423771641,null,null,1,2,null,null,{"$f":"IF(#REF!=1,IFERROR(VLOOKUP(#REF!,[1]Sheet1!$A:$N,U$2,FALSE),\"\"),\"\")","v":{"$error":"#REF!"}},null,null,"H","H J B","2x",null,"500 m ","Moss Roklubb 1","Simen Solbakken Thømt\nSimen Meinike Dørre","09:00",325,null,"Moss Roklubb",null,null,"17.05.2002\n01.04.2003","Ja\nJa","M170502SIM07\nM010403SIM03","7189809\n7261136","22.03.2018\n22.03.2018","Moss Roklubb\nMoss Roklubb","Jon Børre Rekstad\n","92252667\n","rekstad0@gmail.com\n","22.08.2018\n22.08.2018"]
["121F3",0,"Lør 1.9","121F",null,"1425","0925",null,null,null,null,null,null,0.52161150735223949,null,null,1,3,null,null,{"$f":"IF(#REF!=1,IFERROR(VLOOKUP(#REF!,[1]Sheet1!$A:$N,U$2,FALSE),\"\"),\"\")","v":{"$error":"#REF!"}},null,null,"H","H J B","2x",null,"500 m ","Christiania Roklub 1","Jonathan Wang-Norderud\nMarius Bjørn-Hansen Ahlsand","09:00",325,null,"Christiania Roklub",null,null,"19.07.2002\n22.01.2002","Ja\nJa","M190702JON01\nM220102MAR12","5260818\n7781581","\n06.03.2018","Christiania Roklub\nChristiania Roklub","Grete Isachsen Stokke\n","91338845\n","greteistokke@hotmail.com;grisach@gmail.com\n","22.08.2018\n22.08.2018"]
["121F4",0,"Lør 1.9","121F",null,"1425","0925",null,null,null,null,null,null,0.657102750456799,null,null,1,4,null,null,{"$f":"IF(#REF!=1,IFERROR(VLOOKUP(#REF!,[1]Sheet1!$A:$N,U$2,FALSE),\"\"),\"\")","v":{"$error":"#REF!"}},null,null,"H","H J B","2x",null,"500 m ","Drammen Roklubb  1","Ulrik Pharo Lohne\nHampus Erik Vesterberg-Heltne","09:00",325,null,"Drammen Roklubb ",null,null,"09.05.2004\n07.02.2003","Nei\nJa","M090504ULR01\nM070203HAM03","5057646\n6756072","12.03.2018\n12.03.2018","Drammen Roklubb \nDrammen Roklubb ","Beate Pharo\n","90660478\n","beatepharo@gmail.com\n","21.08.2018\n21.08.2018"]
["121F5",0,"Lør 1.9","121F",null,"1425","0925",null,null,null,null,null,null,0.65902179521367144,null,null,1,5,null,null,{"$f":"IF(#REF!=1,IFERROR(VLOOKUP(#REF!,[1]Sheet1!$A:$N,U$2,FALSE),\"\"),\"\")","v":{"$error":"#REF!"}},null,null,"H","H J B","2x",null,"500 m ","Sarpsborg Roklubb - Roing 1","Majlind Begaj\nMarius Antonsen Thime","09:00",325,null,"Sarpsborg Roklubb - Roing",null,null,"30.04.2002\n07.06.2004","Ja\nNei","M300402MAJ01\nM070604MAR06","6977105\n6707662","22.03.2018\n22.03.2018","Sarpsborg Roklubb - Roing\nSarpsborg Roklubb - Roing","Thomas Gundersen\n","91874904\n","Thomas.gundersen@afgruppen.no;thomas.gundersen@afgruppen.no\n","22.08.2018\n22.08.2018"]
["121F6",0,"Lør 1.9","121F",null,"1425","0925",null,null,null,null,null,null,0.72746675645768444,null,null,2,6,null,null,{"$f":"IF(#REF!=1,IFERROR(VLOOKUP(#REF!,[1]Sheet1!$A:$N,U$2,FALSE),\"\"),\"\")","v":{"$error":"#REF!"}},null,null,"H","H J B","2x",null,"500 m ","Norske Studenters Roklub 1","Kristofer Grønntun\nKnut Wang Melbye","09:00",325,null,"Norske Studenters Roklub",null,null,"28.07.2003\n29.06.2002","Ja\nJa","M280703KRI02\nM290602KNU03","4936947\n8137181","07.06.2018\n29.03.2018","Norske Studenters Roklub\nNorske Studenters Roklub","Erik Juel\n","48039369\n","eri-juel@online.no\n","22.08.2018\n22.08.2018"]
["121F7",0,"Lør 1.9","121F",null,"1425","0925",null,null,null,null,null,null,0.67241862564450039,null,null,2,7,null,null,{"$f":"IF(#REF!=1,IFERROR(VLOOKUP(#REF!,[1]Sheet1!$A:$N,U$2,FALSE),\"\"),\"\")","v":{"$error":"#REF!"}},null,null,"H","H J B","2x",null,"500 m ","Sarpsborg Roklubb ","Håkon Grønberg Møller\nOliver Andreas Melnes","09:00",325,null,"Sarpsborg Roklubb - Roing",null,null,"22.12.2002\n24.02.2002","Ja\nJa","M221202HÅK01\nM240202OLI01","6848301\n7448632","22.03.2018\n","Sarpsborg Roklubb - Roing\nSarpsborg Roklubb - Roing","Thomas Gundersen\n","91874904\n","Thomas.gundersen@afgruppen.no;thomas.gundersen@afgruppen.no\n","22.08.2018\n22.08.2018"]
["121F8",0,"Lør 1.9","121F",null,"1425","0925",null,null,null,null,null,null,0.69652057411333823,null,null,2,8,null,null,{"$f":"IF(#REF!=1,IFERROR(VLOOKUP(#REF!,[1]Sheet1!$A:$N,U$2,FALSE),\"\"),\"\")","v":{"$error":"#REF!"}},null,null,"H","H J B","2x",null,"500 m ","Drammen Roklubb  3","Sebastian Meier Rasmussen\nJohan Sebastian Remmen","09:00",325,null,"Drammen Roklubb ",null,null,"14.04.2003\n14.07.2003","Ja\nJa","M140403SEB04\nM140703JOH03","7710737\n6131539","\n12.03.2018","Drammen Roklubb \nDrammen Roklubb ","Beate Pharo\n","90660478\n","beatepharo@gmail.com\n","21.08.2018\n21.08.2018"]
["121F9",0,"Lør 1.9","121F",null,"1425","0925",null,null,null,null,null,null,0.74022996272252106,null,null,2,9,null,null,{"$f":"IF(#REF!=1,IFERROR(VLOOKUP(#REF!,[1]Sheet1!$A:$N,U$2,FALSE),\"\"),\"\")","v":{"$error":"#REF!"}},null,null,"H","H J B","2x",null,"500 m ","Tønsberg Roklub 1","Tobias Kjersem Larsen\nTobias Solvang","09:00",325,null,"Tønsberg Roklub",null,null,"15.09.2003\n30.05.2003","Ja\nJa","M150903TOB06\nM300503TOB07","7936549\n7014841","\n13.04.2018","Tønsberg Roklub\nTønsberg Roklub","Svend Andersen\n","92061715\n","svendandersen@me.com\n","21.08.2018\n21.08.2018"]
["121F10",0,"Lør 1.9","121F",null,"1425","0925",null,null,null,null,null,null,0.75658806411394364,null,null,2,10,null,null,{"$f":"IF(#REF!=1,IFERROR(VLOOKUP(#REF!,[1]Sheet1!$A:$N,U$2,FALSE),\"\"),\"\")","v":{"$error":"#REF!"}},null,null,"H","H J B","2x",null,"500 m ","Norske Studenters Roklub 2","Trygve Bye Løken\nBror Henrik Flyen Storsten","09:00",325,null,"Norske Studenters Roklub",null,null,"22.04.2003\n17.01.2002","Ja\nJa","M220403TRY05\nM170102BRO01","8235153\n5003101","29.03.2018\n","Norske Studenters Roklub\nNorske Studenters Roklub","Erik Juel\n","48039369\n","eri-juel@online.no\n","22.08.2018\n22.08.2018"]
["121F",0,"Lør 1.9","121F",null,"1425","0925",null,null,null,null,null,null,3,null,null,null,null,null,null,{"$f":"IF(#REF!=1,IFERROR(VLOOKUP(#REF!,[1]Sheet1!$A:$N,U$2,FALSE),\"\"),\"\")","v":{"$error":"#REF!"}},null,null,"H","H J B","2x",null,"500 m ","Christiania Roklub 2","Elias Mahler\nÅsmund Olai Sand-Larsen","09:00",325,null,"Christiania Roklub",null,null,"22.12.2002\n15.10.2002","Ja\nJa","M221202ELI03\nM151002ÅSM01","5391954\n4513284","06.03.2018\n06.03.2018","Christiania Roklub\nChristiania Roklub","Grete Isachsen Stokke\n","91338845\n","greteistokke@hotmail.com;grisach@gmail.com\n","22.08.2018\n22.08.2018"]
["111F0",null,"Lør 01.09","111F",null,{"$f":"VLOOKUP($D25,Tidsplan!$B:$D,3,FALSE)","v":"1305"},{"$f":"VLOOKUP($D25,Tidsplan!$B:$D,2,FALSE)","v":"0935"},null,null,null,null,"0845",null,null,null,null,null,0,null,null,{"$f":"IF(#REF!=1,IFERROR(VLOOKUP(#REF!,[1]Sheet1!$A:$N,U$2,FALSE),\"\"),\"\")","v":{"$error":"#REF!"}},null,null,"H","HJA","1x",{"$f":"IF(R25<>0,LEFT(Z25,1),0)*1","v":0},"500 m "]
["111F1",null,"Lør 01.09","111F",null,{"$f":"OFFSET(F26,-1,0)","v":"1305"},"0935",null,null,null,null,null,null,0.10142108896421786,null,null,1,1,null,null,{"$f":"IF(#REF!=1,IFERROR(VLOOKUP(#REF!,[1]Sheet1!$A:$N,U$2,FALSE),\"\"),\"\")","v":{"$error":"#REF!"}},null,null,"H","H J A","1x",null,"500 m","Norske Studenters Roklub","Nicolai Fongaard","09:00",275,null,"Norske Studenters Roklub","Nei",null,"06.08.2001","Ja","M060801NIC02","4916382","29.03.2018","Norske Studenters Roklub","Erik Juel","48039369","eri-juel@online.no","22.08.2018"]
["111F2",null,"Lør 01.09","111F",null,"1305","0935",null,null,null,null,null,null,5.6448562890204279E-2,null,null,1,2,null,null,{"$f":"IF(#REF!=1,IFERROR(VLOOKUP(#REF!,[1]Sheet1!$A:$N,U$2,FALSE),\"\"),\"\")","v":{"$error":"#REF!"}},null,null,"H","H J A","1x",null,"500 m","Bærum Roklubb","Lars Moberg Værnes","09:00",275,null,"Bærum Roklubb","Nei",null,"02.06.2000","Ja","M020600LAR02","4487587","13.04.2018","Bærum Roklubb","Bente Dingen","45411863","bente.dingen@lundin-norway.no","21.08.2018"]
["111F3",null,"Lør 01.09","111F",null,"1305","0935",null,null,null,null,null,null,7.4385315764129434E-3,null,null,1,3,null,null,{"$f":"IF(#REF!=1,IFERROR(VLOOKUP(#REF!,[1]Sheet1!$A:$N,U$2,FALSE),\"\"),\"\")","v":{"$error":"#REF!"}},null,null,"H","H J A","1x",null,"500 m","Porsgrunn Roklubb","Sturla Mogstad","09:00",275,null,"Porsgrunn Roklubb","Nei",null,"28.02.2002","Nei","M280202STU01","6187816","07.05.2018","Porsgrunn Roklubb","Dag Mogstad","40912611","dagmog@hotmail.com","22.08.2018"]
["111F4",null,"Lør 01.09","111F",null,"1305","0935",null,null,null,null,null,null,7.2766612866092428E-2,null,null,1,4,null,null,{"$f":"IF(#REF!=1,IFERROR(VLOOKUP(#REF!,[1]Sheet1!$A:$N,U$2,FALSE),\"\"),\"\")","v":{"$error":"#REF!"}},null,null,"H","H J A","1x",null,"500 m","Aalesunds Roklub",null,"09:00",275,null,"Aalesunds Roklub","Nei",null,"26.07.2001","Ja","M260701FRE03","7811197","13.04.2018","Aalesunds Roklub","Johan Myklebust","90894714","johan.myklebust@nordea.no","21.08.2018"]
["111F5",null,"Lør 01.09","111F",null,"1305","0935",null,null,null,null,null,null,0.13273468281896927,null,null,1,5,null,null,{"$f":"IF(#REF!=1,IFERROR(VLOOKUP(#REF!,[1]Sheet1!$A:$N,U$2,FALSE),\"\"),\"\")","v":{"$error":"#REF!"}},null,null,"H","H J A","1x",null,"500 m","Norske Studenters Roklub","Oscar Wohlfahrt","09:00",275,null,"Norske Studenters Roklub","Nei",null,"06.05.2001","Ja","M060501OSC01","7315162","29.03.2018","Norske Studenters Roklub","Erik Juel","48039369","eri-juel@online.no","22.08.2018"]
["111F6",null,"Lør 01.09","111F",null,"1305","0935",null,null,null,null,null,null,0.19357097094009679,null,null,1,6,null,null,{"$f":"IF(#REF!=1,IFERROR(VLOOKUP(#REF!,[1]Sheet1!$A:$N,U$2,FALSE),\"\"),\"\")","v":{"$error":"#REF!"}},null,null,"H","H J A","1x",null,"500 m","Bærum Roklubb","Brage Bragstad","09:00",275,null,"Bærum Roklubb","Nei",null,"12.09.2000","Ja","M120900BRA02","8203074",null,"Bærum Roklubb","Bente Dingen","45411863","bente.dingen@lundin-norway.no","22.08.2018"]
["111F7",null,"Lør 01.09","111F",null,"1305","0935",null,null,null,null,null,null,0.20985740762610017,null,null,2,7,null,null,{"$f":"IF(#REF!=1,IFERROR(VLOOKUP(#REF!,[1]Sheet1!$A:$N,U$2,FALSE),\"\"),\"\")","v":{"$error":"#REF!"}},null,null,"H","H J A","1x",null,"500 m","Sarpsborg Roklubb - Roing","Diderik Skjønhaug","09:00",275,null,"Sarpsborg Roklubb - Roing","Nei",null,"28.12.2000","Ja","M281200DID01","5330116","22.03.2018","Sarpsborg Roklubb - Roing","Thomas Gundersen","91874904","Thomas.gundersen@afgruppen.no;thomas.gundersen@afgruppen.no","22.08.2018"]
["111F8",null,"Lør 01.09","111F",null,"1305","0935",null,null,null,null,null,null,0.25465728735557569,null,null,2,8,null,null,{"$f":"IF(#REF!=1,IFERROR(VLOOKUP(#REF!,[1]Sheet1!$A:$N,U$2,FALSE),\"\"),\"\")","v":{"$error":"#REF!"}},null,null,"H","H J A","1x",null,"500 m","Tønsberg Roklub","Lars Jørann Lindgren","09:00",275,null,"Tønsberg Roklub","Nei",null,"30.05.2001","Ja","M300501LAR02","4234298","13.04.2018","Tønsberg Roklub",null,"92061715","svendandersen@me.com","21.08.2018"]
["111F9",null,"Lør 01.09","111F",null,"1305","0935",null,null,null,null,null,null,0.36182322350498353,null,null,2,9,null,null,{"$f":"IF(#REF!=1,IFERROR(VLOOKUP(#REF!,[1]Sheet1!$A:$N,U$2,FALSE),\"\"),\"\")","v":{"$error":"#REF!"}},null,null,"H","H J A","1x",null,"500 m","Norske Studenters Roklub","Petter Arnøy","09:00",275,null,"Norske Studenters Roklub","Nei",null,"16.02.2001","Ja","M160201PET02","4179438","13.04.2018","Norske Studenters Roklub","Erik Juel","48039369","eri-juel@online.no","22.08.2018"]
["111F10",null,"Lør 01.09","111F",null,"1305","0935",null,null,null,null,null,null,0.42231268612420347,null,null,2,10,null,null,{"$f":"IF(#REF!=1,IFERROR(VLOOKUP(#REF!,[1]Sheet1!$A:$N,U$2,FALSE),\"\"),\"\")","v":{"$error":"#REF!"}},null,null,"H","H J A","1x",null,"500 m","Horten Roklubb","Benjamin Nærsnes","09:00",275,null,"Horten Roklubb","Nei",null,"13.09.2001","Ja","M130901BEN04","6102843","12.04.2018","Horten Roklubb","Bjørn-Inge Pettersen","93280397","pettersen.bjorn.inge@gmail.com","22.08.2018"]
["111F11",null,"Lør 01.09","111F",null,"1305","0935",null,null,null,null,null,null,0.42293663929216985,null,null,2,11,null,null,{"$f":"IF(#REF!=1,IFERROR(VLOOKUP(#REF!,[1]Sheet1!$A:$N,U$2,FALSE),\"\"),\"\")","v":{"$error":"#REF!"}},null,null,"H","H J A","1x",null,"500 m","Bærum Roklubb","Eirik Myreng Hauge","09:00",275,null,"Bærum Roklubb","Nei",null,"17.04.2000","Ja","M170400EIR02","5005277",null,"Bærum Roklubb","Bente Dingen","45411863","bente.dingen@lundin-norway.no","22.08.2018"]
["111F12",null,"Lør 01.09","111F",null,"1305","0935",null,null,null,null,null,null,0.44708744497115882,null,null,3,12,null,null,{"$f":"IF(#REF!=1,IFERROR(VLOOKUP(#REF!,[1]Sheet1!$A:$N,U$2,FALSE),\"\"),\"\")","v":{"$error":"#REF!"}},null,null,"H","H J A","1x",null,"500 m","Tønsberg Roklub","Martin Asheim","09:00",275,null,"Tønsberg Roklub","Nei",null,"05.05.2001","Ja","M050501MAR07","7153998","13.04.2018","Tønsberg Roklub",null,"92061715","svendandersen@me.com","22.08.2018"]
["111F13",null,"Lør 01.09","111F",null,"1305","0935",null,null,null,null,null,null,0.45061596440735352,null,null,3,13,null,null,{"$f":"IF(#REF!=1,IFERROR(VLOOKUP(#REF!,[1]Sheet1!$A:$N,U$2,FALSE),\"\"),\"\")","v":{"$error":"#REF!"}},null,null,"H","H J A","1x",null,"500 m","Norske Studenters Roklub","Vitus Aparicio Tjøm","09:00",275,null,"Norske Studenters Roklub","Nei",null,"26.06.2001","Ja","M260101VIT01","5062270","29.03.2018","Norske Studenters Roklub","Erik Juel","48039369","eri-juel@online.no","22.08.2018"]
["111F14",null,"Lør 01.09","111F",null,"1305","0935",null,null,null,null,null,null,0.50583503445003708,null,null,3,14,null,null,{"$f":"IF(#REF!=1,IFERROR(VLOOKUP(#REF!,[1]Sheet1!$A:$N,U$2,FALSE),\"\"),\"\")","v":{"$error":"#REF!"}},null,null,"H","H J A","1x",null,"500 m","Aalesunds Roklub","Arild Lykkebø Johnsen","09:00",275,null,"Aalesunds Roklub","Nei",null,"27.10.2001","Ja","M271001ARI02","5661384","30.05.2018","Aalesunds Roklub","Johan Myklebust","90894714","johan.myklebust@nordea.no","21.08.2018"]
["111F15",null,"Lør 01.09","111F",null,"1305","0935",null,null,null,null,null,null,0.51655835414638185,null,null,3,15,null,null,{"$f":"IF(#REF!=1,IFERROR(VLOOKUP(#REF!,[1]Sheet1!$A:$N,U$2,FALSE),\"\"),\"\")","v":{"$error":"#REF!"}},null,null,"H","H J A","1x",null,"500 m","Drammen Roklubb ","Elias Loe Eritsland","09:00",275,null,"Drammen Roklubb ","Nei",null,"13.02.2001","Ja","M130201ELI03","7554836",null,"Drammen Roklubb ",null,"90660478","beatepharo@gmail.com","21.08.2018"]
["111F16",null,"Lør 01.09","111F",null,"1305","0935",null,null,null,null,null,null,0.66956410096838936,null,null,3,16,null,null,{"$f":"IF(#REF!=1,IFERROR(VLOOKUP(#REF!,[1]Sheet1!$A:$N,U$2,FALSE),\"\"),\"\")","v":{"$error":"#REF!"}},null,null,"H","H J A","1x",null,"500 m","Sarpsborg Roklubb - Roing","Jacob Gundersen","09:00",275,null,"Sarpsborg Roklubb - Roing","Nei",null,"08.04.2001","Ja","M080401JAC01","5584584","22.03.2018","Sarpsborg Roklubb - Roing","Thomas Gundersen","91874904","Thomas.gundersen@afgruppen.no;thomas.gundersen@afgruppen.no","22.08.2018"]
["111F17",null,"Lør 01.09","111F",null,"1305","0935",null,null,null,null,null,null,0.68000959454289467,null,null,4,17,null,null,{"$f":"IF(#REF!=1,IFERROR(VLOOKUP(#REF!,[1]Sheet1!$A:$N,U$2,FALSE),\"\"),\"\")","v":{"$error":"#REF!"}},null,null,"H","H J A","1x",null,"500 m","Tønsberg Roklub","Isak Vartal-Gjerde","09:00",275,null,"Tønsberg Roklub","Nei",null,"24.12.2000","Ja","M241200ISA03","7173184","13.04.2018","Tønsberg Roklub",null,"92061715","svendandersen@me.com","21.08.2018"]
["111F18",null,"Lør 01.09","111F",null,"1305","0935",null,null,null,null,null,null,0.71039277173845383,null,null,4,18,null,null,{"$f":"IF(#REF!=1,IFERROR(VLOOKUP(#REF!,[1]Sheet1!$A:$N,U$2,FALSE),\"\"),\"\")","v":{"$error":"#REF!"}},null,null,"H","H J A","1x",null,"500 m","Christiania Roklub","Erik  Johansen","09:00",275,null,"Christiania Roklub","Nei",null,"26.06.2001","Ja","M260601ERI03","7563109","03.04.2018","Christiania Roklub","Grete Isachsen Stokke","91338845","greteistokke@hotmail.com;grisach@gmail.com","22.08.2018"]
["111F19",null,"Lør 01.09","111F",null,"1305","0935",null,null,null,null,null,null,0.86289476743229099,null,null,4,19,null,null,{"$f":"IF(#REF!=1,IFERROR(VLOOKUP(#REF!,[1]Sheet1!$A:$N,U$2,FALSE),\"\"),\"\")","v":{"$error":"#REF!"}},null,null,"H","H J A","1x",null,"500 m","Ormsund Roklub"," Jonathan Kvalvaag Dysvik","09:00",275,null,"Ormsund Roklub","Nei",null,"12.05.2001","Ja","M120501JON02","8128878","06.04.2018","Ormsund Roklub","Eva Hansen","90799966","eva.hansen@wenaasnordic.com","22.08.2018"]
["111F20",{"$f":"OFFSET(B45,-1,0)","v":0},"Søn 02.09","111F",null,"1305","0935",null,null,null,null,null,null,0.79893005055235999,null,null,4,20,null,null,{"$f":"IF(#REF!=1,IFERROR(VLOOKUP(#REF!,[1]Sheet1!$A:$N,U$2,FALSE),\"\"),\"\")","v":{"$error":"#REF!"}},null,null,"H","H J A","1x",null,"500 m","Tønsberg Roklub","Sander Benden Nilsen","09:00",275,null,"Tønsberg Roklub","Nei",null,"05.05.2001","Ja","M050501MAR07","7153998","13.04.2018","Tønsberg Roklub",null,"92061715","svendandersen@me.com","22.08.2018"]
["111F21",null,"Lør 01.09","111F",null,"1305","0935",null,null,null,null,null,null,0.91859791712124128,null,null,4,21,null,null,{"$f":"IF(#REF!=1,IFERROR(VLOOKUP(#REF!,[1]Sheet1!$A:$N,U$2,FALSE),\"\"),\"\")","v":{"$error":"#REF!"}},null,null,"H","H J A","1x",null,"500 m","Moss Roklubb","Jarle Hjortkjær Sæby","09:00",275,null,"Moss Roklubb","Nei",null,"17.08.2000","Ja","M170800JAR02","2794789","22.03.2018","Moss Roklubb","Jon Rekstad","92252667","rekstad0@gmail.com","22.08.2018"]
["111F",null,"Lør 01.09","111F",null,"1305","0935",null,null,null,null,null,null,3,null,null," ",null,null,null,{"$f":"IF(#REF!=1,IFERROR(VLOOKUP(#REF!,[1]Sheet1!$A:$N,U$2,FALSE),\"\"),\"\")","v":{"$error":"#REF!"}},null,null,"H","H J A","1x",null,"500 m","Bærum Roklubb","Øystein Dingen Endresen","09:00",275,null,"Bærum Roklubb","Nei",null,"20.06.2000","Ja","M070600ØYS01","5372192","13.04.2018","Bærum Roklubb","Bente Dingen","45411863","bente.dingen@lundin-norway.no","21.08.2018"]
["122F0",0,"Lør 01.09","122F",null,{"$f":"VLOOKUP($D48,Tidsplan!$B:$D,3,FALSE)","v":"1440"},{"$f":"VLOOKUP($D48,Tidsplan!$B:$D,2,FALSE)","v":"0910"},null,null,null,null,"0900",null,0.47461873500694196,null,null,null,0,null,null,{"$f":"IF(#REF!=1,IFERROR(VLOOKUP(#REF!,[1]Sheet1!$A:$N,U$2,FALSE),\"\"),\"\")","v":{"$error":"#REF!"}},null,null,"D","D J A","1x",{"$f":"IF(R48<>0,LEFT(Z48,1),0)*1","v":0},"500 m"]
["122F1",{"$f":"OFFSET(B49,-1,0)","v":0},"Lør 01.09","122F",null,{"$f":"OFFSET(F49,-1,0)","v":"1440"},"0910",null,null,null,null,null,null,2.2682127773359873E-2,null,null,1,1,null,null,{"$f":"IF(#REF!=1,IFERROR(VLOOKUP(#REF!,[1]Sheet1!$A:$N,U$2,FALSE),\"\"),\"\")","v":{"$error":"#REF!"}},null,null,"D","D J A","1x",null,"500 m","Tønsberg Roklub","Ida kyvik Sandvik","09:00",275,null,"Tønsberg Roklub","Nei",null,"24.07.2002","Nei","K240702IDA05","7173655","13.04.2018","Tønsberg Roklub",null,"92061715","svendandersen@me.com","21.08.2018"]
["122F2",0,"Lør 01.09","122F",null,"1440","0910",null,null,null,null,null,null,7.7273904883819466E-2,null,null,1,2,null,null,{"$f":"IF(#REF!=1,IFERROR(VLOOKUP(#REF!,[1]Sheet1!$A:$N,U$2,FALSE),\"\"),\"\")","v":{"$error":"#REF!"}},null,null,"D","D J A","1x",null,"500 m","Bærum Roklubb","Stina Vad","09:00",275,null,"Bærum Roklubb","Nei",null,"26.09.2000","Ja","K260900STI02","6778019","13.04.2018","Bærum Roklubb","Bente Dingen","45411863","bente.dingen@lundin-norway.no","21.08.2018"]
["122F3",0,"Lør 01.09","122F",null,"1440","0910",null,null,null,null,null,null,0.10599175677585959,null,null,1,3,null,null,{"$f":"IF(#REF!=1,IFERROR(VLOOKUP(#REF!,[1]Sheet1!$A:$N,U$2,FALSE),\"\"),\"\")","v":{"$error":"#REF!"}},null,null,"D","D J A","1x",null,"500 m","Christiania Roklub",null,"09:00",275,null,"Christiania Roklub","Nei",null,"20.08.2001","Ja","K200801ANN08","8030448","14.05.2018","Christiania Roklub","Grete Isachsen Stokke","91338845","greteistokke@hotmail.com;grisach@gmail.com","22.08.2018"]
["122F4",0,"Lør 01.09","122F",null,"1440","0910",null,null,null,null,null,null,0.11610977830411884,null,null,1,4,null,null,{"$f":"IF(#REF!=1,IFERROR(VLOOKUP(#REF!,[1]Sheet1!$A:$N,U$2,FALSE),\"\"),\"\")","v":{"$error":"#REF!"}},null,null,"D","D J A","1x",null,"500 m","Moss Roklubb","Lise Meinike Dørre","09:00",275,null,"Moss Roklubb","Nei",null,"13.02.2000","Ja","K130200LIS02","6059397",null,"Ukjent/ikke registrert klubb","Jon Rekstad","92252667","rekstad0@gmail.com","22.08.2018"]
["122F5",0,"Lør 01.09","122F",null,"1440","0910",null,null,null,null,null,null,0.22301230658775717,null,null,1,5,null,null,{"$f":"IF(#REF!=1,IFERROR(VLOOKUP(#REF!,[1]Sheet1!$A:$N,U$2,FALSE),\"\"),\"\")","v":{"$error":"#REF!"}},null,null,"D","D J A","1x",null,"500 m","Aalesunds Roklub","Hedda Roth","09:00",275,null,"Aalesunds Roklub","Nei",null,"01.08.2001","Ja","K010801HED01","5213239","30.05.2018","Aalesunds Roklub","Johan Myklebust","90894714","johan.myklebust@nordea.no","21.08.2018"]
["122F6",0,"Lør 01.09","122F",null,"1440","0910",null,null,null,null,null,null,0.23117940207677623,null,null,2,6,null,null,{"$f":"IF(#REF!=1,IFERROR(VLOOKUP(#REF!,[1]Sheet1!$A:$N,U$2,FALSE),\"\"),\"\")","v":{"$error":"#REF!"}},null,null,"D","D J A","1x",null,"500 m","Horten Roklubb","Mia Helene Falch","09:00",275,null,"Horten Roklubb","Nei",null,"25.12.2000","Ja","K251200MIA01","4997049","12.04.2018","Horten Roklubb","Bjørn-Inge Pettersen","93280397","pettersen.bjorn.inge@gmail.com","22.08.2018"]
["122F7",0,"Lør 01.09","122F",null,"1440","0910",null,null,null,null,null,null,0.3383312060756275,null,null,2,7,null,null,{"$f":"IF(#REF!=1,IFERROR(VLOOKUP(#REF!,[1]Sheet1!$A:$N,U$2,FALSE),\"\"),\"\")","v":{"$error":"#REF!"}},null,null,"D","D J A","1x",null,"500 m","Tønsberg Roklub","Marie Andrup-Næss","09:00",275,null,"Tønsberg Roklub","Nei",null,"09.05.2002","Nei","K090502MAR15","8036277","13.04.2018","Tønsberg Roklub",null,"92061715","svendandersen@me.com","21.08.2018"]
["122F8",0,"Lør 01.09","122F",null,"1440","0910",null,null,null,null,null,null,0.45722055153585306,null,null,2,8,null,null,{"$f":"IF(#REF!=1,IFERROR(VLOOKUP(#REF!,[1]Sheet1!$A:$N,U$2,FALSE),\"\"),\"\")","v":{"$error":"#REF!"}},null,null,"D","D J A","1x",null,"500 m","Drammen Roklubb ","Karoline Rydland Masch","09:00",275,null,"Drammen Roklubb ","Nei",null,"14.04.2001","Ja","K140401KAR10","7214275",null,"Drammen Roklubb ",null,"90660478","beatepharo@gmail.com","21.08.2018"]
["122F9",0,"Lør 01.09","122F",null,"1440","0910",null,null,null,null,null,null,0.4766437375031386,null,null,2,9,null,null,{"$f":"IF(#REF!=1,IFERROR(VLOOKUP(#REF!,[1]Sheet1!$A:$N,U$2,FALSE),\"\"),\"\")","v":{"$error":"#REF!"}},null,null,"D","D J A","1x",null,"500 m","Bærum Roklubb","Caitlin Aalders","09:00",275,null,"Bærum Roklubb","Nei",null,"03.06.2001","Ja","K030601CAI03","7289717","17.04.2018","Bærum Roklubb","Bente Dingen","45411863","bente.dingen@lundin-norway.no","21.08.2018"]
["122F10",0,"Lør 01.09","122F",null,"1440","0910",null,null,null,null,null,null,0.58091600843599345,null,null,2,10,null,null,{"$f":"IF(#REF!=1,IFERROR(VLOOKUP(#REF!,[1]Sheet1!$A:$N,U$2,FALSE),\"\"),\"\")","v":{"$error":"#REF!"}},null,null,"D","D J A","1x",null,"500 m","Christiania Roklub","Marte Morgenlie Skei","09:00",275,null,"Christiania Roklub","Nei",null,"20.05.2000","Ja","K200500MAR04","4488301","31.07.2018","Christiania Roklub","Grete Isachsen Stokke","91338845","greteistokke@hotmail.com;grisach@gmail.com","22.08.2018"]
["122F11",0,"Lør 01.09","122F",null,"1440","0910",null,null,null,null,null,null,0.55495531709439294,null,null,3,11,null,null,{"$f":"IF(#REF!=1,IFERROR(VLOOKUP(#REF!,[1]Sheet1!$A:$N,U$2,FALSE),\"\"),\"\")","v":{"$error":"#REF!"}},null,null,"D","D J A","1x",null,"500 m","Aalesunds Roklub","Karoline Berset","09:00",275,null,"Aalesunds Roklub","Nei",null,"01.11.2002","Nei","K011102KAR02","7811195","13.04.2018","Aalesunds Roklub","Johan Myklebust","90894714","johan.myklebust@nordea.no","21.08.2018"]
["122F12",0,"Lør 01.09","122F",null,"1440","0910",null,null,null,null,null,null,0.62993719637759038,null,null,3,12,null,null,{"$f":"IF(#REF!=1,IFERROR(VLOOKUP(#REF!,[1]Sheet1!$A:$N,U$2,FALSE),\"\"),\"\")","v":{"$error":"#REF!"}},null,null,"D","D J A","1x",null,"500 m","Christiania Roklub","Nicoline Lovise Lindstrøm","09:00",275,null,"Christiania Roklub","Nei",null,"25.09.2002","Nei","K250902NIC02","8247202","14.05.2018","Christiania Roklub","Grete Isachsen Stokke","91338845","greteistokke@hotmail.com;grisach@gmail.com","22.08.2018"]
["122F13",0,"Lør 01.09","122F",null,"1440","0910",null,null,null,null,null,null,0.85729708465965737,null,null,3,13,null,null,{"$f":"IF(#REF!=1,IFERROR(VLOOKUP(#REF!,[1]Sheet1!$A:$N,U$2,FALSE),\"\"),\"\")","v":{"$error":"#REF!"}},null,null,"D","D J A","1x",null,"500 m","Ormsund Roklub","Hannah Elisabeth Grude","09:00",275,null,"Ormsund Roklub","Nei",null,"19.07.2001","Ja","K190701HAN12","7882501","06.04.2018","Ormsund Roklub","Eva Hansen","90799966","eva.hansen@wenaasnordic.com","22.08.2018"]
["122F14",0,"Lør 01.09","122F",null,"1440","0910",null,null,null,null,null,null,0.91455952851849609,null,null,3,14,null,null,{"$f":"IF(#REF!=1,IFERROR(VLOOKUP(#REF!,[1]Sheet1!$A:$N,U$2,FALSE),\"\"),\"\")","v":{"$error":"#REF!"}},null,null,"D","D J A","1x",null,"500 m","Tønsberg Roklub","Lene Samland","09:00",275,null,"Tønsberg Roklub","Nei",null,"30.11.2000","Ja","K301100LEN03","6134299","13.04.2018","Tønsberg Roklub",null,"92061715","svendandersen@me.com","21.08.2018"]
["122F15",0,"Lør 01.09","122F",null,"1440","0910",null,null,null,null,null,null,0.97745934219677133,null,null,3,15,null,null,{"$f":"IF(#REF!=1,IFERROR(VLOOKUP(#REF!,[1]Sheet1!$A:$N,U$2,FALSE),\"\"),\"\")","v":{"$error":"#REF!"}},null,null,"D","D J A","1x",null,"500 m","Drammen Roklubb ","Elisabeth Maria Stenberg","09:00",275,null,"Drammen Roklubb ","Nei",null,"27.02.2001","Ja","K270201ELI03","7334407","10.04.2018","Drammen Roklubb ",null,"90660478","beatepharo@gmail.com","21.08.2018"]
["1020",1,"Lør 01.09",102,null,{"$f":"VLOOKUP($D64,Tidsplan!$B:$D,3,FALSE)","v":"0950"},{"$f":"VLOOKUP($D64,Tidsplan!$B:$D,2,FALSE)","v":"0955"},null,null,null,null,null,null,null,null,"K",null,0,null,null,{"$f":"IF(#REF!=1,IFERROR(VLOOKUP(#REF!,[1]Sheet1!$A:$N,U$2,FALSE),\"\"),\"\")","v":{"$error":"#REF!"}},null,null,"D","D J B","1x",{"$f":"IF(R64<>0,LEFT(Z64,1),0)*1","v":0},"500 m"]
["1021",{"$f":"OFFSET(B65,-1,0)","v":1},"Lør 01.09",102,null,{"$f":"OFFSET(F65,-1,0)","v":"0950"},null,null,null,null,null,null,null,8,null,null,1,1,null,null,{"$f":"IF(#REF!=1,IFERROR(VLOOKUP(#REF!,[1]Sheet1!$A:$N,U$2,FALSE),\"\"),\"\")","v":{"$error":"#REF!"}},null,null,"D","D J B","1x",null,"500 m","Aalesunds Roklub","Olida Nesset","09:00",275,null,"Aalesunds Roklub","Nei",null,"05.02.2002","Ja","K050202OLI01","5934237","30.05.2018","Aalesunds Roklub","Johan Myklebust","90894714","johan.myklebust@nordea.no","21.08.2018"]
["1022",1,"Lør 01.09",102,null,"0950",null,null,null,null,null,null,null,6,null,null,1,2,null,null,{"$f":"IF(#REF!=1,IFERROR(VLOOKUP(#REF!,[1]Sheet1!$A:$N,U$2,FALSE),\"\"),\"\")","v":{"$error":"#REF!"}},null,null,"D","D J B","1x",null,"500 m","Christiania Roklub","Nicoline Lovise Lindstrøm","09:00",275,null,"Christiania Roklub","Nei",null,"25.09.2002","Ja","K250902NIC02","8247202","14.05.2018","Christiania Roklub","Grete Isachsen Stokke","91338845","greteistokke@hotmail.com;grisach@gmail.com","22.08.2018"]
["1023",1,"Lør 01.09",102,null,"0950",null,null,null,null,null,null,null,1,null,null,1,3,null,null,{"$f":"IF(#REF!=1,IFERROR(VLOOKUP(#REF!,[1]Sheet1!$A:$N,U$2,FALSE),\"\"),\"\")","v":{"$error":"#REF!"}},null,null,"D","D J B","1x",null,"500 m","Horten Roklubb","Henrikke Enstad Haraldseth","09:00",275,null,"Horten Roklubb","Nei",null,"01.04.2003","Ja","K010403HEN02","4996831","12.04.2018","Horten Roklubb","Bjørn-Inge Pettersen","93280397","pettersen.bjorn.inge@gmail.com","22.08.2018"]
["1024",1,"Lør 01.09",102,null,"0950",null,null,null,null,null,null,null,4,null,null,1,4,null,null,{"$f":"IF(#REF!=1,IFERROR(VLOOKUP(#REF!,[1]Sheet1!$A:$N,U$2,FALSE),\"\"),\"\")","v":{"$error":"#REF!"}},null,null,"D","D J B","1x",null,"500 m","Norske Studenters Roklub","Sara Sverdrup-Thygeson","09:00",275,null,"Norske Studenters Roklub","Nei",null,"23.08.2002","Ja","K230802SAR02","7321246","29.03.2018","Norske Studenters Roklub","Erik Juel","48039369","eri-juel@online.no","22.08.2018"]
[{"$f":"D69&R69","v":"1025"},1,"Lør 01.09",102,null,"0950",null,null,null,null,null,null,null,13,null,null,1,5,null,null,{"$f":"IF(#REF!=1,IFERROR(VLOOKUP(#REF!,[1]Sheet1!$A:$N,U$2,FALSE),\"\"),\"\")","v":{"$error":"#REF!"}},null,null,"D","D J B","1x",null,"500 m","Bærum Roklubb","Ida Moberg Værnes","09:00",275,null,"Bærum Roklubb","Nei",null,"22.05.2002","Ja","M220502IDA01","6806491",null,"Bærum Roklubb","Bente Dingen","45411863","bente.dingen@lundin-norway.no","21.08.2018"]
["1026",1,"Lør 01.09",102,null,"0950",null,null,null,null,null,null,null,60,null,null,2,6,null,null,{"$f":"IF(#REF!=1,IFERROR(VLOOKUP(#REF!,[1]Sheet1!$A:$N,U$2,FALSE),\"\"),\"\")","v":{"$error":"#REF!"}},null,null,"D","D J B","1x",null,"500 m","Christiania Roklub","Vårin Fagerbakke","09:00",275,null,"Christiania Roklub","Nei",null,"01.01.2003","Ja","K010103VÅR01","7755151","06.03.2018","Christiania Roklub","Grete Isachsen Stokke","91338845","greteistokke@hotmail.com;grisach@gmail.com","22.08.2018"]
["1027",1,"Lør 01.09",102,null,"0950",null,null,null,null,null,null,null,30,null,null,2,7,null,null,{"$f":"IF(#REF!=1,IFERROR(VLOOKUP(#REF!,[1]Sheet1!$A:$N,U$2,FALSE),\"\"),\"\")","v":{"$error":"#REF!"}},null,null,"D","D J B","1x",null,"500 m","Norske Studenters Roklub","Lisa Nakamoto Byberg","09:00",275,null,"Norske Studenters Roklub","Nei",null,"08.04.2003","Ja","K080403LIS01","5391349","29.03.2018","Norske Studenters Roklub","Erik Juel","48039369","eri-juel@online.no","22.08.2018"]
["1028",1,"Lør 01.09",102,null,"0950",null,null,null,null,null,null,null,15,null,null,2,8,null,null,{"$f":"IF(#REF!=1,IFERROR(VLOOKUP(#REF!,[1]Sheet1!$A:$N,U$2,FALSE),\"\"),\"\")","v":{"$error":"#REF!"}},null,null,"D","D J B","1x",null,"500 m","Aalesunds Roklub","Helle Andreassen","09:00",275,null,"Aalesunds Roklub","Nei",null,"28.10.2003","Ja","K281003HEL05","6860116","30.05.2018","Aalesunds Roklub","Johan Myklebust","90894714","johan.myklebust@nordea.no","21.08.2018"]
["1029",1,"Lør 01.09",102,null,"0950",null,null,null,null,null,null,null,29,null,null,2,9,null,null,{"$f":"IF(#REF!=1,IFERROR(VLOOKUP(#REF!,[1]Sheet1!$A:$N,U$2,FALSE),\"\"),\"\")","v":{"$error":"#REF!"}},null,null,"D","D J B","1x",null,"500 m","Sarpsborg Roklubb - Roing","Fatima Vakili","09:00",275,null,"Sarpsborg Roklubb - Roing","Nei",null,"20.10.2002","Ja","K201002FAT01","6772620","22.03.2018","Sarpsborg Roklubb - Roing","Thomas Gundersen","91874904","Thomas.gundersen@afgruppen.no;thomas.gundersen@afgruppen.no","22.08.2018"]
["10210",1,"Lør 01.09",102,null,"0950",null,null,null,null,null,null,null,60,null,null,2,10,null,null,{"$f":"IF(#REF!=1,IFERROR(VLOOKUP(#REF!,[1]Sheet1!$A:$N,U$2,FALSE),\"\"),\"\")","v":{"$error":"#REF!"}},null,null,"D","D J B","1x",null,"500 m","Christiania Roklub","Martine Nesse","09:00",275,null,"Christiania Roklub","Nei",null,"31.03.2003","Ja","K310303MAR02","7896615","06.03.2018","Christiania Roklub","Grete Isachsen Stokke","91338845","greteistokke@hotmail.com;grisach@gmail.com","22.08.2018"]
["10211",1,"Lør 01.09",102,null,"0950",null,null,null,null,null,null,null,60,null,null,3,11,null,null,{"$f":"IF(#REF!=1,IFERROR(VLOOKUP(#REF!,[1]Sheet1!$A:$N,U$2,FALSE),\"\"),\"\")","v":{"$error":"#REF!"}},null,null,"D","D J B","1x",null,"500 m","Norske Studenters Roklub","Sara Sigurdsen","09:00",275,null,"Norske Studenters Roklub","Nei",null,"26.04.2003","Ja","K260403SAR01","7679466","07.06.2018","Norske Studenters Roklub","Erik Juel","48039369","eri-juel@online.no","22.08.2018"]
["10212",1,"Lør 01.09",102,null,"0950",null,null,null,null,null,null,null,60,null,null,3,12,null,null,{"$f":"IF(#REF!=1,IFERROR(VLOOKUP(#REF!,[1]Sheet1!$A:$N,U$2,FALSE),\"\"),\"\")","v":{"$error":"#REF!"}},null,null,"D","D J B","1x",null,"500 m","Aalesunds Roklub","Karoline Berset","09:00",275,null,"Aalesunds Roklub","Nei",null,"01.11.2002","Ja","K011102KAR02","7811195","13.04.2018","Aalesunds Roklub","Johan Myklebust","90894714","johan.myklebust@nordea.no","21.08.2018"]
["10213",1,"Lør 01.09",102,null,"0950",null,null,null,null,null,null,null,60,null,null,3,13,null,null,{"$f":"IF(#REF!=1,IFERROR(VLOOKUP(#REF!,[1]Sheet1!$A:$N,U$2,FALSE),\"\"),\"\")","v":{"$error":"#REF!"}},null,null,"D","D J B","1x",null,"500 m","Drammen Roklubb ","Victoria Linnéa Wikheim Lang","09:00",275,null,"Drammen Roklubb ","Nei",null,"22.01.2002","Ja","K220102VIC04","8199687","12.03.2018","Drammen Roklubb ",null,"90660478","beatepharo@gmail.com","21.08.2018"]
["10214",1,"Lør 01.09",102,null,"0950",null,null,null,null,null,null,null,60,null,null,3,14,null,null,{"$f":"IF(#REF!=1,IFERROR(VLOOKUP(#REF!,[1]Sheet1!$A:$N,U$2,FALSE),\"\"),\"\")","v":{"$error":"#REF!"}},null,null,"D","D J B","1x",null,"500 m","Norske Studenters Roklub","Marie Glomnes Rudi","09:00",275,null,"Norske Studenters Roklub","Nei",null,"25.07.2003","Ja","K250703MAR04","5247452","29.03.2018","Norske Studenters Roklub","Erik Juel","48039369","eri-juel@online.no","22.08.2018"]
["1010",1,"Lør 01.09",101,null,{"$f":"VLOOKUP($D79,Tidsplan!$B:$D,3,FALSE)","v":"1005"},{"$f":"VLOOKUP($D79,Tidsplan!$B:$D,2,FALSE)","v":1010},null,null,null,null,null,null,null," ",null,null,0,null,null,{"$f":"IF(#REF!=1,IFERROR(VLOOKUP(#REF!,[1]Sheet1!$A:$N,U$2,FALSE),\"\"),\"\")","v":{"$error":"#REF!"}},null,null,"H","H J B","1x",{"$f":"IF(R79<>0,LEFT(Z79,1),0)*1","v":0},"500 m"]
["1011",null,"Lør 01.09",101,null,{"$f":"OFFSET(F80,-1,0)","v":"1005"},null,null,null,null,null,null,null,9,null,null,1,1,null,null,{"$f":"IF(#REF!=1,IFERROR(VLOOKUP(#REF!,[1]Sheet1!$A:$N,U$2,FALSE),\"\"),\"\")","v":{"$error":"#REF!"}},null,null,"H","H J B","1x",null,"500 m","Sarpsborg Roklubb - Roing","Oliver Andreas Melnes","09:00",275,null,"Sarpsborg Roklubb - Roing","Nei",null,"24.02.2002","Ja","M240202OLI01","7448632",null,"Sarpsborg Roklubb - Roing","Thomas Gundersen","91874904","Thomas.gundersen@afgruppen.no;thomas.gundersen@afgruppen.no","22.08.2018"]
["1012",null,"Lør 01.09",101,null,"1005",null,null,null,null,null,null,null,8,null,null,1,2,null,null,{"$f":"IF(#REF!=1,IFERROR(VLOOKUP(#REF!,[1]Sheet1!$A:$N,U$2,FALSE),\"\"),\"\")","v":{"$error":"#REF!"}},null,null,"H","H J B","1x",null,"500 m","Porsgrunn Roklubb","Brage Rakkestad","09:00",275,null,"Porsgrunn Roklubb","Nei",null,"05.09.2002","Ja","M050902BRA04","8087430","24.05.2018","Porsgrunn Roklubb","Dag Mogstad","40912611","dagmog@hotmail.com","22.08.2018"]
["1013",null,"Lør 01.09",101,null,"1005",null,null,null,null,null,null,null,1,null,null,1,3,null,null,{"$f":"IF(#REF!=1,IFERROR(VLOOKUP(#REF!,[1]Sheet1!$A:$N,U$2,FALSE),\"\"),\"\")","v":{"$error":"#REF!"}},null,null,"H","H J B","1x",null,"500 m","Haldens Roklub","Haakon Elias Solli Borge","09:00",275,null,"Haldens Roklub","Nei",null,"21.02.2002","Ja","M210202HAA02","5006685","13.04.2018","Haldens Roklub",null,"91725846","oskarvanetten@gmail.com","22.08.2018"]
["1014",null,"Lør 01.09",101,null,"1005",null,null,null,null,null,null,null,2,null,null,1,4,null,null,{"$f":"IF(#REF!=1,IFERROR(VLOOKUP(#REF!,[1]Sheet1!$A:$N,U$2,FALSE),\"\"),\"\")","v":{"$error":"#REF!"}},null,null,"H","H J B","1x",null,"500 m","Norske Studenters Roklub","Trygve Bye Løken","09:00",275,null,"Norske Studenters Roklub","Nei",null,"22.04.2003","Ja","M220403TRY05","8235153","29.03.2018","Norske Studenters Roklub","Erik Juel","48039369","eri-juel@online.no","22.08.2018"]
["1015",null,"Lør 01.09",101,null,"1005",null,null,null,null,null,null,null,4,null,null,1,5,null,null,{"$f":"IF(#REF!=1,IFERROR(VLOOKUP(#REF!,[1]Sheet1!$A:$N,U$2,FALSE),\"\"),\"\")","v":{"$error":"#REF!"}},null,null,"H","H J B","1x",null,"500 m","Sarpsborg Roklubb - Roing","Håkon Grønberg Møller","09:00",275,null,"Sarpsborg Roklubb - Roing","Nei",null,"22.12.2002","Ja","M221202HÅK01","6848301","22.03.2018","Sarpsborg Roklubb - Roing","Thomas Gundersen","91874904","Thomas.gundersen@afgruppen.no;thomas.gundersen@afgruppen.no","22.08.2018"]
["1016",null,"Lør 01.09",101,null,"1005",null,null,null,null,null,null,null,13,null,null,1,6,null,null,{"$f":"IF(#REF!=1,IFERROR(VLOOKUP(#REF!,[1]Sheet1!$A:$N,U$2,FALSE),\"\"),\"\")","v":{"$error":"#REF!"}},null,null,"H","H J B","1x",null,"500 m","Norske Studenters Roklub","Bror Flyen Storsten","09:00",275,null,"Norske Studenters Roklub","Nei",null,"17.01.2002","Ja","M170102BRO01","5003101",null,"Norske Studenters Roklub","Erik Juel","48039369","eri-juel@online.no","22.08.2018"]
["1017",null,"Lør 01.09",101,null,"1005",null,null,null,null,null,null,null,25,null,null,2,7,null,null,{"$f":"IF(#REF!=1,IFERROR(VLOOKUP(#REF!,[1]Sheet1!$A:$N,U$2,FALSE),\"\"),\"\")","v":{"$error":"#REF!"}},null,null,"H","H J B","1x",null,"500 m","Sarpsborg Roklubb - Roing","Philip Draget","09:00",275,null,"Sarpsborg Roklubb - Roing","Nei",null,"17.04.2002","Ja","M170402PHI02","6387522","22.03.2018","Sarpsborg Roklubb - Roing","Thomas Gundersen","91874904","Thomas.gundersen@afgruppen.no;thomas.gundersen@afgruppen.no","22.08.2018"]
["1018",null,"Lør 01.09",101,null,"1005",null,null,null,null,null,null,null,23,null,null,2,8,null,null,{"$f":"IF(#REF!=1,IFERROR(VLOOKUP(#REF!,[1]Sheet1!$A:$N,U$2,FALSE),\"\"),\"\")","v":{"$error":"#REF!"}},null,null,"H","H J B","1x",null,"500 m","Horten Roklubb","Kasper Bruun Frantzen","09:00",275,null,"Horten Roklubb","Nei",null,"03.02.2003","Ja","M030203KAS03","6159104","12.04.2018","Horten Roklubb","Bjørn-Inge Pettersen","93280397","pettersen.bjorn.inge@gmail.com","22.08.2018"]
["1019",null,"Lør 01.09",101,null,"1005",null,null,null,null,null,null,null,14,null,null,2,9,null,null,{"$f":"IF(#REF!=1,IFERROR(VLOOKUP(#REF!,[1]Sheet1!$A:$N,U$2,FALSE),\"\"),\"\")","v":{"$error":"#REF!"}},null,null,"H","H J B","1x",null,"500 m","Drammen Roklubb ","Hampus Westerberg-Heltne","09:00",275,null,"Drammen Roklubb ","Nei",null,"07.02.2003","Ja","M070203HAM03","6756072","12.03.2018","Drammen Roklubb ",null,"90660478","beatepharo@gmail.com","21.08.2018"]
["10110",null,"Lør 01.09",101,null,"1005",null,null,null,null,null,null,null,20,null,null,2,10,null,null,{"$f":"IF(#REF!=1,IFERROR(VLOOKUP(#REF!,[1]Sheet1!$A:$N,U$2,FALSE),\"\"),\"\")","v":{"$error":"#REF!"}},null,null,"H","H J B","1x",null,"500 m","Sarpsborg Roklubb - Roing","Majlind Begaj","09:00",275,null,"Sarpsborg Roklubb - Roing","Nei",null,"30.04.2002","Ja","M300402MAJ01","6977105","22.03.2018","Sarpsborg Roklubb - Roing","Thomas Gundersen","91874904","Thomas.gundersen@afgruppen.no;thomas.gundersen@afgruppen.no","22.08.2018"]
["10111",null,"Lør 01.09",101,null,"1005",null,null,null,null,null,null,null,18,null,null,2,11,null,null,{"$f":"IF(#REF!=1,IFERROR(VLOOKUP(#REF!,[1]Sheet1!$A:$N,U$2,FALSE),\"\"),\"\")","v":{"$error":"#REF!"}},null,null,"H","H J B","1x",null,"500 m","Drammen Roklubb ","Jonas Willand-Evensen","09:00",275,null,"Drammen Roklubb ","Nei",null,"30.08.2003","Ja","M300803JON01","4879656","12.03.2018","Drammen Roklubb ",null,"90660478","beatepharo@gmail.com","21.08.2018"]
["10112",null,"Lør 01.09",101,null,"1005",null,null,null,null,null,null,null,24,null,null,2,12,null,null,{"$f":"IF(#REF!=1,IFERROR(VLOOKUP(#REF!,[1]Sheet1!$A:$N,U$2,FALSE),\"\"),\"\")","v":{"$error":"#REF!"}},null,null,"H","H J B","1x",null,"500 m","Moss Roklubb","Simen Solbakken-Thømt","09:00",275,null,"Moss Roklubb","Nei",null,"17.05.2002","Ja","M170502SIM07","7189809","22.03.2018","Moss Roklubb","Jon Rekstad","92252667","rekstad0@gmail.com","22.08.2018"]
["10113",null,"Lør 01.09",101,null,"1005",null,null,null,null,null,null,null,35,null,null,3,13,null,null,{"$f":"IF(#REF!=1,IFERROR(VLOOKUP(#REF!,[1]Sheet1!$A:$N,U$2,FALSE),\"\"),\"\")","v":{"$error":"#REF!"}},null,null,"H","H J B","1x",null,"500 m","Moss Roklubb","Viktor Rekstad","09:00",275,null,"Moss Roklubb","Nei",null,"29.01.2003","Ja","M290103VIK01","5993278","22.03.2018","Moss Roklubb","Jon Rekstad","92252667","rekstad0@gmail.com","22.08.2018"]
["10114",null,"Lør 01.09",101,null,"1005",null,null,null,null,null,null,null,29,null,null,3,14,null,null,{"$f":"IF(#REF!=1,IFERROR(VLOOKUP(#REF!,[1]Sheet1!$A:$N,U$2,FALSE),\"\"),\"\")","v":{"$error":"#REF!"}},null,null,"H","H J B","1x",null,"500 m","Drammen Roklubb ","Ulrik Pharo Lohne","09:00",275,null,"Drammen Roklubb ","Nei",null,"09.05.2004","Nei","M090504ULR01","5057646","12.03.2018","Drammen Roklubb ",null,"90660478","beatepharo@gmail.com","21.08.2018"]
["10115",null,"Lør 01.09",101,null,"1005",null,null,null,null,null,null,null,27,null,null,3,15,null,null,{"$f":"IF(#REF!=1,IFERROR(VLOOKUP(#REF!,[1]Sheet1!$A:$N,U$2,FALSE),\"\"),\"\")","v":{"$error":"#REF!"}},null,null,"H","H J B","1x",null,"500 m","Christiania Roklub","Åsmund Sand-Larsen","09:00",275,null,"Christiania Roklub","Nei",null,"15.10.2002","Ja","M151002ÅSM01","4513284","06.03.2018","Christiania Roklub","Grete Isachsen Stokke","91338845","greteistokke@hotmail.com;grisach@gmail.com","22.08.2018"]
["10116",null,"Lør 01.09",101,null,"1005",null,null,null,null,null,null,null,26,null,null,3,16,null,null,{"$f":"IF(#REF!=1,IFERROR(VLOOKUP(#REF!,[1]Sheet1!$A:$N,U$2,FALSE),\"\"),\"\")","v":{"$error":"#REF!"}},null,null,"H","H J B","1x",null,"500 m","Moss Roklubb","Simen Dørre","09:00",275,null,"Moss Roklubb","Nei",null,"01.04.2003","Ja","M010403SIM03","7261136","22.03.2018","Moss Roklubb","Jon Rekstad","92252667","rekstad0@gmail.com","22.08.2018"]
["10117",null,"Lør 01.09",101,null,"1005",null,null,null,null,null,null,null,31,null,null,3,17,null,null,{"$f":"IF(#REF!=1,IFERROR(VLOOKUP(#REF!,[1]Sheet1!$A:$N,U$2,FALSE),\"\"),\"\")","v":{"$error":"#REF!"}},null,null,"H","H J B","1x",null,"500 m","Tønsberg Roklub","Tobias Kjersem Larsen","09:00",275,null,"Tønsberg Roklub","Nei",null,"15.09.2003","Ja","M150903TOB06","7936549",null,"Tønsberg Roklub",null,"92061715","svendandersen@me.com","21.08.2018"]
["10118",null,"Lør 01.09",101,null,"1005",null,null,null,null,null,null,null,33,null,null,3,18,null,null,{"$f":"IF(#REF!=1,IFERROR(VLOOKUP(#REF!,[1]Sheet1!$A:$N,U$2,FALSE),\"\"),\"\")","v":{"$error":"#REF!"}},null,null,"H","H J B","1x",null,"500 m","Drammen Roklubb ","Sebastian Mejer Rasmussen","09:00",275,null,"Drammen Roklubb ","Nei",null,"14.04.2003","Ja","M140403SEB06","7310627","12.03.2018","Drammen Roklubb ",null,"90660478","beatepharo@gmail.com","21.08.2018"]
["10119",null,"Lør 01.09",101,null,"1005",null,null,null,null,null,null,null,60,null,null,4,19,null,null,{"$f":"IF(#REF!=1,IFERROR(VLOOKUP(#REF!,[1]Sheet1!$A:$N,U$2,FALSE),\"\"),\"\")","v":{"$error":"#REF!"}},null,null,"H","H J B","1x",null,"500 m","Drammen Roklubb ","Christian Juven Brandt","09:00",275,null,"Drammen Roklubb ","Nei",null,"16.09.2003","Ja","M160903CHR01","4573154","10.04.2018","Drammen Roklubb ",null,"90660478","beatepharo@gmail.com","21.08.2018"]
["10120",null,"Lør 01.09",101,null,"1005",null,null,null,null,null,null,null,55,null,null,4,20,null,null,{"$f":"IF(#REF!=1,IFERROR(VLOOKUP(#REF!,[1]Sheet1!$A:$N,U$2,FALSE),\"\"),\"\")","v":{"$error":"#REF!"}},null,null,"H","H J B","1x",null,"500 m","Norske Studenters Roklub","Knut Wang Melbye","09:00",275,null,"Norske Studenters Roklub","Nei",null,"29.06.2002","Ja","M290602KNU03",8137181,"29.03.2018","Norske Studenters Roklub","Erik Juel","48039369","eri-juel@online.no","22.08.2018"]
["10121",null,"Lør 01.09",101,null,"1005",null,null,null,null,null,null,null,51,null,null,4,21,null,null,{"$f":"IF(#REF!=1,IFERROR(VLOOKUP(#REF!,[1]Sheet1!$A:$N,U$2,FALSE),\"\"),\"\")","v":{"$error":"#REF!"}},null,null,"H","H J B","1x",null,"500 m","Norske Studenters Roklub","Kristoffer Grønntun","09:00",275,null,"Norske Studenters Roklub","Nei",null,"28.07.2003","Ja","M280703KRI02","4936947","07.06.2018","Norske Studenters Roklub","Erik Juel","48039369","eri-juel@online.no","22.08.2018"]
["10122",null,"Lør 01.09",101,null,"1005",null,null,null,null,null,null,null,39,null,null,4,22,null,null,{"$f":"IF(#REF!=1,IFERROR(VLOOKUP(#REF!,[1]Sheet1!$A:$N,U$2,FALSE),\"\"),\"\")","v":{"$error":"#REF!"}},null,null,"H","H J B","1x",null,"500 m","Tønsberg Roklub","Tobias Solvang","09:00",275,null,"Tønsberg Roklub","Nei",null,"30.05.2003","Ja","M300503TOB07","7014841","13.04.2018","Tønsberg Roklub",null,"92061715","svendandersen@me.com","21.08.2018"]
["10123",null,"Lør 01.09",101,null,"1005",null,null,null,null,null,null,null,54,null,null,4,23,null,null,{"$f":"IF(#REF!=1,IFERROR(VLOOKUP(#REF!,[1]Sheet1!$A:$N,U$2,FALSE),\"\"),\"\")","v":{"$error":"#REF!"}},null,null,"H","H J B","1x",null,"500 m","Norske Studenters Roklub","Jack Schønberg","09:00",275,null,"Norske Studenters Roklub","Nei",null,"01.01.2003","Ja","M010103JAC04","8247213","07.06.2018","Norske Studenters Roklub","Erik Juel","48039369","eri-juel@online.no","22.08.2018"]
["10124",null,"Lør 01.09",101,null,"1005",null,null,null,null,null,null,null,60,null,null,4,24,null,null,{"$f":"IF(#REF!=1,IFERROR(VLOOKUP(#REF!,[1]Sheet1!$A:$N,U$2,FALSE),\"\"),\"\")","v":{"$error":"#REF!"}},null,null,"H","H J B","1x",null,"500 m","Drammen Roklubb ","Johan Sebastian Remmen","09:00",275,null,"Drammen Roklubb ","Nei",null,"14.07.2003","Ja","M140703JOH03","6131539","12.03.2018","Drammen Roklubb ",null,"90660478","beatepharo@gmail.com","21.08.2018"]
["101",null,"Lør 01.09",101,null,"1005",null,null,null,null,null,null,null,70,null,null,null,null,null,null,{"$f":"IF(#REF!=1,IFERROR(VLOOKUP(#REF!,[1]Sheet1!$A:$N,U$2,FALSE),\"\"),\"\")","v":{"$error":"#REF!"}},null,null,"H","H J B","1x",null,"500 m","Christiania Roklub","Elias Mahler","09:00",275,null,"Christiania Roklub","Nei",null,"22.12.2002","Ja","M221202ELI02","4671202",null,"Ukjent/ikke registrert klubb","Grete Isachsen Stokke","91338845","greteistokke@hotmail.com;grisach@gmail.com","22.08.2018"]
[null,null,null,null,null,null,null,null,null,null,null,null,null,null,null,null,null,null,null,null,{"$f":"IF(#REF!=1,IFERROR(VLOOKUP(#REF!,[1]Sheet1!$A:$N,U$2,FALSE),\"\"),\"\")","v":{"$error":"#REF!"}}]
[{"$f":"D106&R106","v":"1"},{"$f":"OFFSET(B106,-1,0)","v":0},"Lør 01.09",null,null,null,null,null,null,null,null,null,null,null,null,null,null,1,null,null,{"$f":"IF(#REF!=1,IFERROR(VLOOKUP(#REF!,[1]Sheet1!$A:$N,U$2,FALSE),\"\"),\"\")","v":{"$error":"#REF!"}},null,null,null,null,null,{"$f":"IF(R106<>0,LEFT(Z106,1),0)*1","v":{"$error":"#VALUE!"}}]
["3",{"$f":"OFFSET(B107,-1,0)","v":0},"Lør 01.09",null,null,null,null,null,null,null,null,null,null,null,null,null,null,3,null,null,{"$f":"IF(#REF!=1,IFERROR(VLOOKUP(#REF!,[1]Sheet1!$A:$N,U$2,FALSE),\"\"),\"\")","v":{"$error":"#REF!"}},null,null,null,null,null,{"$f":"IF(R107<>0,LEFT(Z107,1),0)*1","v":{"$error":"#VALUE!"}}]
["1LLM4",{"$f":"OFFSET(B108,-1,0)","v":0},"Lør 01.09","1LLM",null,{"$f":"VLOOKUP($D108,Tidsplan!$B:$D,3,FALSE)","v":"1100"},null,null,null,null,null,null,null,null,null,null,null,4,null,null,{"$f":"IF(#REF!=1,IFERROR(VLOOKUP(#REF!,[1]Sheet1!$A:$N,U$2,FALSE),\"\"),\"\")","v":{"$error":"#REF!"}},null,null,null,"LAGLEDERMØTE",null,{"$f":"IF(R108<>0,LEFT(Z108,1),0)*1","v":{"$error":"#VALUE!"}}]
["5",{"$f":"OFFSET(B109,-1,0)","v":0},"Lør 01.09",null,null,null,null,null,null,null,null,null,null,null,null,null,null,5,null,null,{"$f":"IF(#REF!=1,IFERROR(VLOOKUP(#REF!,[1]Sheet1!$A:$N,U$2,FALSE),\"\"),\"\")","v":{"$error":"#REF!"}},null,null,null,null,null,{"$f":"IF(R109<>0,LEFT(Z109,1),0)*1","v":{"$error":"#VALUE!"}}]
["1036",1,"Lør 01.09",103,null,{"$f":"VLOOKUP($D110,Tidsplan!$B:$D,3,FALSE)","v":"1200"},{"$f":"VLOOKUP($D110,Tidsplan!$B:$D,2,FALSE)","v":""},null,null,null,null,null,null,null," ",null,null,6,null,null,{"$f":"IF(#REF!=1,IFERROR(VLOOKUP(#REF!,[1]Sheet1!$A:$N,U$2,FALSE),\"\"),\"\")","v":{"$error":"#REF!"}},null,null,null,"Åpen Nyb",null,{"$f":"IF(R110<>0,LEFT(Z110,1),0)*1","v":{"$error":"#VALUE!"}}]
["1031",null,"Lør 01.09",103,null,{"$f":"OFFSET(F111,-1,0)","v":"1200"},null,null,null,null,null,null,null,0.63130214792518047,null,null,1,1,null,null,{"$f":"IF(#REF!=1,IFERROR(VLOOKUP(#REF!,[1]Sheet1!$A:$N,U$2,FALSE),\"\"),\"\")","v":{"$error":"#REF!"}},null,null,"Åpen","Åpen nybegynner","1x",null,"500 m","Sarpsborg Roklubb - Roing","Aurora Begaj","09:00",150,null,"Sarpsborg Roklubb - Roing","Nei",null,"24.09.2006",null,"K240906AUR03","6895451","22.03.2018","Sarpsborg Roklubb - Roing","Thomas Gundersen","91874904","Thomas.gundersen@afgruppen.no;thomas.gundersen@afgruppen.no","22.08.2018"]
["1032",null,"Lør 01.09",103,null,"1200",null,null,null,null,null,null,null,0.13831446746985976,null,null,1,2,null,null,{"$f":"IF(#REF!=1,IFERROR(VLOOKUP(#REF!,[1]Sheet1!$A:$N,U$2,FALSE),\"\"),\"\")","v":{"$error":"#REF!"}},null,null,"Åpen","Åpen nybegynner","1x",null,"500 m","Ormsund Roklub","Gabriel Lund","09:00",150,null,"Ormsund Roklub","Nei",null,"01.05.2006",null,"M010506GAB03","8030335","06.04.2018","Ormsund Roklub","Eva Hansen","90799966","eva.hansen@wenaasnordic.com","22.08.2018"]
[103,{"$f":"OFFSET(B113,-1,0)","v":0},"Lør 01.09",106,null,"1200",null,null,null,null,null,null,null,0.1706453624269586,null,null,1,3,null,null,{"$f":"IF(#REF!=1,IFERROR(VLOOKUP(#REF!,[1]Sheet1!$A:$N,U$2,FALSE),\"\"),\"\")","v":{"$error":"#REF!"}},null,null,"Åpen","Åpen nybegynner","2x",null,"500 m","Aalesunds Roklub","Guro-Elise  Bjørkavoll Hofseide\nTuva-Josefine Bjørkedal-Engeset","09:00",150,null,"Aalesunds Roklub","Nei",null,null,null,null,null,null,"Aalesunds Roklub","Johan Myklebust","90894714","johan.myklebust@nordea.no","21.08.2018"]
[{"$f":"D114&R114","v":"1034"},null,"Lør 01.09",103,null,"1200",null,null,null,null,null,null,null,0.32398492043429616,null,null,1,4,null,null,{"$f":"IF(#REF!=1,IFERROR(VLOOKUP(#REF!,[1]Sheet1!$A:$N,U$2,FALSE),\"\"),\"\")","v":{"$error":"#REF!"}},null,null,"Åpen","Åpen nybegynner","1x",null,"500 m","Bærum Roklubb","Oliver Nilsen","09:00",150,null,"Bærum Roklubb","Nei",null,null,null,null,null,null,"Bærum Roklubb","Bente Dingen","45411863","bente.dingen@lundin-norway.no","20.08.2018"]
[{"$f":"D115&R115","v":"1035"},null,"Lør 01.09",103,null,"1200",null,null,null,null,null,null,null,0.38988571963191976,null,null,1,5,null,null,{"$f":"IF(#REF!=1,IFERROR(VLOOKUP(#REF!,[1]Sheet1!$A:$N,U$2,FALSE),\"\"),\"\")","v":{"$error":"#REF!"}},null,null,"Åpen","Åpen nybegynner","1x",null,"500 m","Sarpsborg Roklubb - Roing","Pia Antonsen Thime","09:00",150,null,"Sarpsborg Roklubb - Roing","Nei",null,"14.09.2007",null,"K140907PIA01","7920500","22.03.2018","Sarpsborg Roklubb - Roing","Thomas Gundersen","91874904","Thomas.gundersen@afgruppen.no;thomas.gundersen@afgruppen.no","22.08.2018"]
[{"$f":"D116&R116","v":"1036"},null,"Lør 01.09",103,null,"1200",null,null,null,null,null,null,null,0.47882998519808473,null,null,2,6,null,null,{"$f":"IF(#REF!=1,IFERROR(VLOOKUP(#REF!,[1]Sheet1!$A:$N,U$2,FALSE),\"\"),\"\")","v":{"$error":"#REF!"}},null,null,"Åpen","Åpen nybegynner","1x",null,"500 m","Sarpsborg Roklubb - Roing","Naberd Bakir Mustafa","09:00",150,null,"Sarpsborg Roklubb - Roing","Nei",null,"21.07.2006",null,"M210706NAB01","7920489","22.03.2018","Sarpsborg Roklubb - Roing","Thomas Gundersen","91874904","Thomas.gundersen@afgruppen.no;thomas.gundersen@afgruppen.no","22.08.2018"]
[{"$f":"D117&R117","v":"1037"},null,"Lør 01.09",103,null,"1200",null,null,null,null,null,null,null,0.49492990369341983,null,null,2,7,null,null,{"$f":"IF(#REF!=1,IFERROR(VLOOKUP(#REF!,[1]Sheet1!$A:$N,U$2,FALSE),\"\"),\"\")","v":{"$error":"#REF!"}},null,null,"Åpen","Åpen nybegynner","1x",null,"500 m","Bærum Roklubb","Våle Koss-Russar","09:00",150,null,"Bærum Roklubb","Nei",null,"28.09.2004",null,"M280904VÅL03","8162101",null,"Bærum Roklubb","Bente Dingen","45411863","bente.dingen@lundin-norway.no","20.08.2018"]
[103,{"$f":"OFFSET(B118,-1,0)","v":0},"Lør 01.09",106,null,"1200",null,null,null,null,null,null,null,0.73888554117061878,null,null,2,8,null,null,{"$f":"IF(#REF!=1,IFERROR(VLOOKUP(#REF!,[1]Sheet1!$A:$N,U$2,FALSE),\"\"),\"\")","v":{"$error":"#REF!"}},null,null,"Åpen","Åpen nybegynner","2x",null,"500 m","Aalesunds Roklub","Heine Furuli\nPhilip Monsen","09:00",150,null,"Aalesunds Roklub","Nei",null,null,null,null,null,null,"Aalesunds Roklub","Johan Myklebust","90894714","johan.myklebust@nordea.no","21.08.2018"]
[{"$f":"D119&R119","v":"1039"},null,"Lør 01.09",103,null,"1200",null,null,null,null,null,null,null,0.87589278692961481,null,null,2,9,null,null,{"$f":"IF(#REF!=1,IFERROR(VLOOKUP(#REF!,[1]Sheet1!$A:$N,U$2,FALSE),\"\"),\"\")","v":{"$error":"#REF!"}},null,null,"Åpen","Åpen nybegynner","1x",null,"500 m","Sarpsborg Roklubb - Roing","Sondre Walen Jørgensen","09:00",150,null,"Sarpsborg Roklubb - Roing","Nei",null,"30.08.2002",null,"M300802SON04","6270267",null,"Sarpsborg Roklubb - Roing","Thomas Gundersen","91874904","Thomas.gundersen@afgruppen.no;thomas.gundersen@afgruppen.no","22.08.2018"]
[null,null,null,null,null,null,null,null,null,null,null,null,null,0.47000356901892582,null,null,null,null,null,null,{"$f":"IF(#REF!=1,IFERROR(VLOOKUP(#REF!,[1]Sheet1!$A:$N,U$2,FALSE),\"\"),\"\")","v":{"$error":"#REF!"}}]
[{"$f":"D121&R121","v":"1040"},1,"Lør 01.09",104,null,{"$f":"VLOOKUP($D121,Tidsplan!$B:$D,3,FALSE)","v":"1320"},{"$f":"VLOOKUP($D121,Tidsplan!$B:$D,2,FALSE)","v":""},null,null,null,null,null,null,0.6210491699149604," ",null,null,0,null,null,{"$f":"IF(#REF!=1,IFERROR(VLOOKUP(#REF!,[1]Sheet1!$A:$N,U$2,FALSE),\"\"),\"\")","v":{"$error":"#REF!"}},null,null,"H/D","D/H J D","2x",{"$f":"IF(R121<>0,LEFT(Z121,1),0)*1","v":0},"500 m ",null,"Ror sammen med 118 kl 1325"]
[{"$f":"D122&R122","v":"1041"},{"$f":"OFFSET(B122,-1,0)","v":1},"Lør 01.09",104,null,{"$f":"VLOOKUP($D122,Tidsplan!$B:$D,3,FALSE)","v":"1320"},null,null,null,null,null,null,null,0.82253916707878505,null,null,1,1,null,null,{"$f":"IF(#REF!=1,IFERROR(VLOOKUP(#REF!,[1]Sheet1!$A:$N,U$2,FALSE),\"\"),\"\")","v":{"$error":"#REF!"}},null,null,"H","H J D","2x",null,"500 m ","Ormsund Roklub 1","Arthur Kaltenborn\nAlva Reykdal","09:00",325,null,"Ormsund Roklub","Nei",null,"12.08.2006\n22.07.2006",null,"M120806ART03\nK220706ALV01","8128251\n5812861","08.06.2018\n06.04.2018","Ormsund Roklub\nOrmsund Roklub","Eva Hansen\n","90799966\n","eva.hansen@wenaasnordic.com\n","22.08.2018\n22.08.2018"]
[{"$f":"D123&R123","v":"1042"},{"$f":"OFFSET(B123,-1,0)","v":1},"Lør 01.09",104,null,{"$f":"OFFSET(F123,-1,0)","v":"1320"},null,null,null,null,null,null,null,0.25926134362752673,null,null,1,2,null,null,{"$f":"IF(#REF!=1,IFERROR(VLOOKUP(#REF!,[1]Sheet1!$A:$N,U$2,FALSE),\"\"),\"\")","v":{"$error":"#REF!"}},null,null,"H","H J D","2x",null,"500 m","Aalesunds Roklub","Susanne Steffenssen Myklebust\nJulie Kringstad Nørve\n","09:00",325,null,"Aalesunds Roklub","Nei",null,null,null,null,null,null,"Aalesunds Roklub","Johan Myklebust","90894714","johan.myklebust@nordea.no","21.08.2018"]
[{"$f":"D124&R124","v":"1043"},{"$f":"OFFSET(B124,-1,0)","v":1},"Lør 01.09",104,null,{"$f":"OFFSET(F124,-1,0)","v":"1320"},null,null,null,null,null,null,null,5.3117607214789198E-2,null,null,1,3,null,null,{"$f":"IF(#REF!=1,IFERROR(VLOOKUP(#REF!,[1]Sheet1!$A:$N,U$2,FALSE),\"\"),\"\")","v":{"$error":"#REF!"}},null,null,"H","H J D","2x",null,"500 m ","Norske Studenters Roklub 2","Sander Holmedal Bjerke\nFelix Østerberg Spydevold","09:00",325,null,"Norske Studenters Roklub",null,null,"20.01.2006\n01.10.2006","Nei\nNei","M010306SAN01\nM011006FEL03","7266956\n6965861","07.06.2018\n07.06.2018","Norske Studenters Roklub\nNorske Studenters Roklub","Erik Juel\n","48039369\n","eri-juel@online.no\n","22.08.2018\n22.08.2018"]
[null,null,null,null,null,null,null,null,null,null,null,null,null,0.6179627508492993,null,null,null,null,null,null,{"$f":"IF(#REF!=1,IFERROR(VLOOKUP(#REF!,[1]Sheet1!$A:$N,U$2,FALSE),\"\"),\"\")","v":{"$error":"#REF!"}}]
[{"$f":"D126&R126","v":"1050"},1,"Lør 01.09",105,null,{"$f":"VLOOKUP($D126,Tidsplan!$B:$D,3,FALSE)","v":"1220"},{"$f":"VLOOKUP($D126,Tidsplan!$B:$D,2,FALSE)","v":""},null,null,null,null,null,null,0.57185170145533459,"S","K",null,0,null,null,{"$f":"IF(#REF!=1,IFERROR(VLOOKUP(#REF!,[1]Sheet1!$A:$N,U$2,FALSE),\"\"),\"\")","v":{"$error":"#REF!"}},null,null,"H","H J A","8+",{"$f":"IF(R126<>0,LEFT(Z126,1),0)*1","v":0},"500 m"]
[null,null,null,null,null,null,null,null,null,null,null,null,null,0.17881910935060141,null,null,null,null,null,null,{"$f":"IF(#REF!=1,IFERROR(VLOOKUP(#REF!,[1]Sheet1!$A:$N,U$2,FALSE),\"\"),\"\")","v":{"$error":"#REF!"}}]
[{"$f":"D128&R128","v":"1060"},1,"Lør 01.09",106,null,{"$f":"VLOOKUP($D128,Tidsplan!$B:$D,3,FALSE)","v":"1220"},{"$f":"VLOOKUP($D128,Tidsplan!$B:$D,2,FALSE)","v":""},null,null,null,null,null,null,0.90195462039728858," ",null,null,0,null,null,{"$f":"IF(#REF!=1,IFERROR(VLOOKUP(#REF!,[1]Sheet1!$A:$N,U$2,FALSE),\"\"),\"\")","v":{"$error":"#REF!"}},null,null,"H","H J C","1x",{"$f":"IF(R128<>0,LEFT(Z128,1),0)*1","v":0},"500 m"]
["1061",{"$f":"OFFSET(B129,-1,0)","v":1},"Lør 01.09",106,null,{"$f":"OFFSET(F129,-1,0)","v":"1220"},null,null,null,null,null,null,null,0.28782693311496321,null,null,1,1,null,null,{"$f":"IF(#REF!=1,IFERROR(VLOOKUP(#REF!,[1]Sheet1!$A:$N,U$2,FALSE),\"\"),\"\")","v":{"$error":"#REF!"}},null,null,"H","H J C","1x",null,"500 m","Bærum Roklubb","Brage Alexander Rognli","09:00",275,null,"Bærum Roklubb","Nei",null,"19.02.2005","Ja","M190205BRA01","4214459","05.08.2018","Bærum Roklubb","Bente Dingen","45411863","bente.dingen@lundin-norway.no","20.08.2018"]
["1062",1,"Lør 01.09",106,null,"1220",null,null,null,null,null,null,null,5.4787812321574481E-2,null,null,1,2,null,null,{"$f":"IF(#REF!=1,IFERROR(VLOOKUP(#REF!,[1]Sheet1!$A:$N,U$2,FALSE),\"\"),\"\")","v":{"$error":"#REF!"}},null,null,"H","H J C","1x",null,"500 m","Drammen Roklubb ","Peter Anker Hassel","09:00",275,null,"Drammen Roklubb ","Nei",null,"06.08.2004","Ja","M060804PET02","7726990","10.04.2018","Drammen Roklubb ",null,"90660478","beatepharo@gmail.com","21.08.2018"]
["1063",1,"Lør 01.09",106,null,"1220",null,null,null,null,null,null,null,5.4917148389980852E-2,null,null,1,3,null,null,{"$f":"IF(#REF!=1,IFERROR(VLOOKUP(#REF!,[1]Sheet1!$A:$N,U$2,FALSE),\"\"),\"\")","v":{"$error":"#REF!"}},null,null,"H","H J C","1x",null,"500 m","Aalesunds Roklub","Peter Prytz Berset","09:00",275,null,"Aalesunds Roklub","Nei",null,"22.12.2005","Ja","M221205PET02","7619015","30.05.2018","Aalesunds Roklub","Johan Myklebust","90894714","johan.myklebust@nordea.no","21.08.2018"]
["1064",1,"Lør 01.09",106,null,"1220",null,null,null,null,null,null,null,8.3679167922257269E-2,null,null,1,4,null,null,{"$f":"IF(#REF!=1,IFERROR(VLOOKUP(#REF!,[1]Sheet1!$A:$N,U$2,FALSE),\"\"),\"\")","v":{"$error":"#REF!"}},null,null,"H","H J C","1x",null,"500 m","Norske Studenters Roklub","Aksel Glomnes Rudi","09:00",275,null,"Norske Studenters Roklub","Nei",null,"22.10.2005","Ja","M221005AKS02","5564987","07.06.2018","Norske Studenters Roklub","Erik Juel","48039369","eri-juel@online.no","22.08.2018"]
["1065",1,"Lør 01.09",106,null,"1220",null,null,null,null,null,null,null,0.18836661300460267,null,null,1,5,null,null,{"$f":"IF(#REF!=1,IFERROR(VLOOKUP(#REF!,[1]Sheet1!$A:$N,U$2,FALSE),\"\"),\"\")","v":{"$error":"#REF!"}},null,null,"H","H J C","1x",null,"500 m","Sarpsborg Roklubb - Roing","Tormod Simonsen","09:00",275,null,"Sarpsborg Roklubb - Roing","Nei",null,"01.04.2004","Ja","M010404TOR02","7786944","22.03.2018","Sarpsborg Roklubb - Roing","Thomas Gundersen","91874904","Thomas.gundersen@afgruppen.no;thomas.gundersen@afgruppen.no","22.08.2018"]
["1066",1,"Lør 01.09",106,null,"1220",null,null,null,null,null,null,null,0.22648387902607692,null,null,1,6,null,null,{"$f":"IF(#REF!=1,IFERROR(VLOOKUP(#REF!,[1]Sheet1!$A:$N,U$2,FALSE),\"\"),\"\")","v":{"$error":"#REF!"}},null,null,"H","H J C","1x",null,"500 m","Bærum Roklubb","Emil Svanes","09:00",275,null,"Bærum Roklubb","Nei",null,"09.02.2005","Ja","M090205EMI01","7947640","11.05.2018","Bærum Roklubb","Bente Dingen","45411863","bente.dingen@lundin-norway.no","20.08.2018"]
["1067",1,"Lør 01.09",106,null,"1220",null,null,null,null,null,null,null,0.25596304687513005,null,null,2,7,null,null,{"$f":"IF(#REF!=1,IFERROR(VLOOKUP(#REF!,[1]Sheet1!$A:$N,U$2,FALSE),\"\"),\"\")","v":{"$error":"#REF!"}},null,null,"H","H J C","1x",null,"500 m","Bærum Roklubb","Jacob Philip Munthe","09:00",275,null,"Bærum Roklubb","Nei",null,"30.04.2005","Ja","M300405JAC02","8085498","13.06.2018","Bærum Roklubb","Bente Dingen","45411863","bente.dingen@lundin-norway.no","20.08.2018"]
["1068",1,"Lør 01.09",106,null,"1220",null,null,null,null,null,null,null,0.30343270058164806,null,null,2,8,null,null,{"$f":"IF(#REF!=1,IFERROR(VLOOKUP(#REF!,[1]Sheet1!$A:$N,U$2,FALSE),\"\"),\"\")","v":{"$error":"#REF!"}},null,null,"H","H J C","1x",null,"500 m","Christiania Roklub",null,"09:00",275,null,"Christiania Roklub","Nei",null,"20.08.2004","Ja","M200804BRA04","7758069","06.03.2018","Christiania Roklub","Grete Isachsen Stokke","91338845","greteistokke@hotmail.com;grisach@gmail.com","22.08.2018"]
["1069",1,"Lør 01.09",106,null,"1220",null,null,null,null,null,null,null,0.32576399835307002,null,null,2,9,null,null,{"$f":"IF(#REF!=1,IFERROR(VLOOKUP(#REF!,[1]Sheet1!$A:$N,U$2,FALSE),\"\"),\"\")","v":{"$error":"#REF!"}},null,null,"H","H J C","1x",null,"500 m","Aalesunds Roklub","Anders Myklebust Øyen","09:00",275,null,"Aalesunds Roklub","Nei",null,"20.07.2005","Ja","M200705AND02","6228122","30.05.2018","Aalesunds Roklub","Johan Myklebust","90894714","johan.myklebust@nordea.no","21.08.2018"]
["10610",1,"Lør 01.09",106,null,"1220",null,null,null,null,null,null,null,0.35282440959514039,null,null,2,10,null,null,{"$f":"IF(#REF!=1,IFERROR(VLOOKUP(#REF!,[1]Sheet1!$A:$N,U$2,FALSE),\"\"),\"\")","v":{"$error":"#REF!"}},null,null,"H","H J C","1x",null,"500 m","Ormsund Roklub","Truls Oskar Hansen","09:00",275,null,"Ormsund Roklub","Nei",null,"22.07.2004","Ja","M220704TRU01","7203412","06.04.2018","Ormsund Roklub","Eva Hansen","90799966","eva.hansen@wenaasnordic.com","22.08.2018"]
["10611",1,"Lør 01.09",106,null,"1220",null,null,null,null,null,null,null,0.40001647720421041,null,null,2,11,null,null,{"$f":"IF(#REF!=1,IFERROR(VLOOKUP(#REF!,[1]Sheet1!$A:$N,U$2,FALSE),\"\"),\"\")","v":{"$error":"#REF!"}},null,null,"H","H J C","1x",null,"500 m","Sarpsborg Roklubb - Roing","Nor Mustaf","09:00",275,null,"Sarpsborg Roklubb - Roing","Nei",null,"22.10.2004","Ja","M221004NOR01","6917184","22.03.2018","Sarpsborg Roklubb - Roing","Thomas Gundersen","91874904","Thomas.gundersen@afgruppen.no;thomas.gundersen@afgruppen.no","22.08.2018"]
["10612",1,"Lør 01.09",106,null,"1220",null,null,null,null,null,null,null,0.40335746021227969,null,null,2,12,null,null,{"$f":"IF(#REF!=1,IFERROR(VLOOKUP(#REF!,[1]Sheet1!$A:$N,U$2,FALSE),\"\"),\"\")","v":{"$error":"#REF!"}},null,null,"H","H J C","1x",null,"500 m","Bærum Roklubb","Noah Holger Johnsen Fangel","09:00",275,null,"Bærum Roklubb","Nei",null,"24.10.2004","Ja","M241004NOA04","8111044","05.06.2018","Bærum Roklubb","Bente Dingen","45411863","bente.dingen@lundin-norway.no","20.08.2018"]
["10613",1,"Lør 01.09",106,null,"1220",null,null,null,null,null,null,null,0.43333140576034623,null,null,3,13,null,null,{"$f":"IF(#REF!=1,IFERROR(VLOOKUP(#REF!,[1]Sheet1!$A:$N,U$2,FALSE),\"\"),\"\")","v":{"$error":"#REF!"}},null,null,"H","H J C","1x",null,"500 m","Bærum Roklubb","Brage Skaar","09:00",275,null,"Bærum Roklubb","Nei",null,"27.12.2004","Ja","M271204BRA01","5137898","13.06.2018","Bærum Roklubb","Bente Dingen","45411863","bente.dingen@lundin-norway.no","20.08.2018"]
["10614",1,"Lør 01.09",106,null,"1220",null,null,null,null,null,null,null,0.53628242684087135,null,null,3,14,null,null,{"$f":"IF(#REF!=1,IFERROR(VLOOKUP(#REF!,[1]Sheet1!$A:$N,U$2,FALSE),\"\"),\"\")","v":{"$error":"#REF!"}},null,null,"H","H J C","1x",null,"500 m","Norske Studenters Roklub","Mathis Grimstad","09:00",275,null,"Norske Studenters Roklub","Nei",null,"16.07.2006","Nei","M160706MAT02","5820353","22.06.2018","Norske Studenters Roklub","Erik Juel","48039369","eri-juel@online.no","22.08.2018"]
["10615",1,"Lør 01.09",106,null,"1220",null,null,null,null,null,null,null,0.44473344734310138,null,null,3,15,null,null,{"$f":"IF(#REF!=1,IFERROR(VLOOKUP(#REF!,[1]Sheet1!$A:$N,U$2,FALSE),\"\"),\"\")","v":{"$error":"#REF!"}},null,null,"H","H J C","1x",null,"500 m","Christiania Roklub",null,"09:00",275,null,"Christiania Roklub","Nei",null,"31.05.2005","Ja","M310505JOH04","8208422","06.03.2018","Christiania Roklub","Grete Isachsen Stokke","91338845","greteistokke@hotmail.com;grisach@gmail.com","22.08.2018"]
["10616",1,"Lør 01.09",106,null,"1220",null,null,null,null,null,null,null,0.50873537915824918,null,null,3,16,null,null,{"$f":"IF(#REF!=1,IFERROR(VLOOKUP(#REF!,[1]Sheet1!$A:$N,U$2,FALSE),\"\"),\"\")","v":{"$error":"#REF!"}},null,null,"H","H J C","1x",null,"500 m","Aalesunds Roklub",null,"09:00",275,null,"Aalesunds Roklub","Nei",null,"12.05.2004","Ja","M120504ERL04","8150106","30.05.2018","Aalesunds Roklub","Johan Myklebust","90894714","johan.myklebust@nordea.no","21.08.2018"]
["10617",1,"Lør 01.09",106,null,"1220",null,null,null,null,null,null,null,0.53699964303457515,null,null,3,17,null,null,{"$f":"IF(#REF!=1,IFERROR(VLOOKUP(#REF!,[1]Sheet1!$A:$N,U$2,FALSE),\"\"),\"\")","v":{"$error":"#REF!"}},null,null,"H","H J C","1x",null,"500 m","Norske Studenters Roklub","Felix Spydevold","09:00",275,null,"Norske Studenters Roklub","Nei",null,"01.10.2006","Nei","M011006FEL03","6965861","07.06.2018","Norske Studenters Roklub","Erik Juel","48039369","eri-juel@online.no","22.08.2018"]
["10618",1,"Lør 01.09",106,null,"1220",null,null,null,null,null,null,null,0.57154063448579284,null,null,3,18,null,null,{"$f":"IF(#REF!=1,IFERROR(VLOOKUP(#REF!,[1]Sheet1!$A:$N,U$2,FALSE),\"\"),\"\")","v":{"$error":"#REF!"}},null,null,"H","H J C","1x",null,"500 m","Christiania Roklub","Balder Haug Hagen","09:00",275,null,"Christiania Roklub","Nei",null,"14.01.2004","Ja","M140104JAC01","7522750",null,"Christiania Roklub","Grete Isachsen Stokke","91338845","greteistokke@hotmail.com;grisach@gmail.com","22.08.2018"]
["10619",1,"Lør 01.09",106,null,"1220",null,null,null,null,null,null,null,0.67755929893769107,null,null,4,19,null,null,{"$f":"IF(#REF!=1,IFERROR(VLOOKUP(#REF!,[1]Sheet1!$A:$N,U$2,FALSE),\"\"),\"\")","v":{"$error":"#REF!"}},null,null,"H","H J C","1x",null,"500 m","Moss Roklubb","Sigurd Brevold","09:00",275,null,"Moss Roklubb","Nei",null,"30.08.2004","Ja","M300804SIG03","7678533","22.03.2018","Moss Roklubb","Jon Rekstad","92252667","rekstad0@gmail.com","22.08.2018"]
["10620",1,"Lør 01.09",106,null,"1220",null,null,null,null,null,null,null,0.55825716331808128,null,null,4,20,null,null,{"$f":"IF(#REF!=1,IFERROR(VLOOKUP(#REF!,[1]Sheet1!$A:$N,U$2,FALSE),\"\"),\"\")","v":{"$error":"#REF!"}},null,null,"H","H J C","1x",null,"500 m","Bærum Roklubb","Thov Espeseth","09:00",275,null,"Bærum Roklubb","Nei",null,"29.06.2005","Ja","M290605THO01","7328781","05.06.2018","Bærum Roklubb","Bente Dingen","45411863","bente.dingen@lundin-norway.no","20.08.2018"]
["10621",1,"Lør 01.09",106,null,"1220",null,null,null,null,null,null,null,0.5954248069544873,null,null,4,21,null,null,{"$f":"IF(#REF!=1,IFERROR(VLOOKUP(#REF!,[1]Sheet1!$A:$N,U$2,FALSE),\"\"),\"\")","v":{"$error":"#REF!"}},null,null,"H","H J C","1x",null,"500 m","Christiania Roklub",null,"09:00",275,null,"Christiania Roklub","Nei",null,"29.01.2004","Ja","M290104LOR01","8138326","06.03.2018","Christiania Roklub","Grete Isachsen Stokke","91338845","greteistokke@hotmail.com;grisach@gmail.com","22.08.2018"]
["10622",1,"Lør 01.09",106,null,"1220",null,null,null,null,null,null,null,0.66101132599582424,null,null,4,22,null,null,{"$f":"IF(#REF!=1,IFERROR(VLOOKUP(#REF!,[1]Sheet1!$A:$N,U$2,FALSE),\"\"),\"\")","v":{"$error":"#REF!"}},null,null,"H","H J C","1x",null,"500 m","Aalesunds Roklub","Gabriel Pedersen","09:00",275,null,"Aalesunds Roklub","Nei",null,"24.11.2004","Ja","M241104GAB01","7633038","30.05.2018","Aalesunds Roklub","Johan Myklebust","90894714","johan.myklebust@nordea.no","21.08.2018"]
["10623",1,"Lør 01.09",106,null,"1220",null,null,null,null,null,null,null,0.68355484784244946,null,null,4,23,null,null,{"$f":"IF(#REF!=1,IFERROR(VLOOKUP(#REF!,[1]Sheet1!$A:$N,U$2,FALSE),\"\"),\"\")","v":{"$error":"#REF!"}},null,null,"H","H J C","1x",null,"500 m","Moss Roklubb","Kim-Daniel K. Munoz","09:00",275,null,"Moss Roklubb","Nei",null,"30.12.2005","Ja","M301205KIM02","5477783","22.03.2018","Moss Roklubb","Jon Rekstad","92252667","rekstad0@gmail.com","22.08.2018"]
["10624",1,"Lør 01.09",106,null,"1220",null,null,null,null,null,null,null,0.69085985007720407,null,null,4,24,null,null,{"$f":"IF(#REF!=1,IFERROR(VLOOKUP(#REF!,[1]Sheet1!$A:$N,U$2,FALSE),\"\"),\"\")","v":{"$error":"#REF!"}},null,null,"H","H J C","1x",null,"500 m","Christiania Roklub","Jostein Eriksen Thon","09:00",275,null,"Christiania Roklub","Nei",null,"08.01.2004","Ja","M080104JOS02","6201834","06.03.2018","Christiania Roklub","Grete Isachsen Stokke","91338845","greteistokke@hotmail.com;grisach@gmail.com","22.08.2018"]
["10625",1,"Lør 01.09",106,null,"1220",null,null,null,null,null,null,null,0.70413201698103622,null,null,5,25,null,null,{"$f":"IF(#REF!=1,IFERROR(VLOOKUP(#REF!,[1]Sheet1!$A:$N,U$2,FALSE),\"\"),\"\")","v":{"$error":"#REF!"}},null,null,"H","H J C","1x",null,"500 m","Drammen Roklubb ","Håkon Villum Hansen","09:00",275,null,"Drammen Roklubb ","Nei",null,"04.05.2004","Ja","M040504HÅK13","8104025","30.05.2018","Drammen Roklubb ",null,"90660478","beatepharo@gmail.com","21.08.2018"]
["10626",1,"Lør 01.09",106,null,"1220",null,null,null,null,null,null,null,0.72169691615665432,null,null,5,26,null,null,{"$f":"IF(#REF!=1,IFERROR(VLOOKUP(#REF!,[1]Sheet1!$A:$N,U$2,FALSE),\"\"),\"\")","v":{"$error":"#REF!"}},null,null,"H","H J C","1x",null,"500 m","Tønsberg Roklub","Edvin Ingvaldsen","09:00",275,null,"Tønsberg Roklub","Nei",null,"24.04.2005","Ja","M240405EDV04","8171027","01.05.2018","Tønsberg Roklub",null,"92061715","svendandersen@me.com","22.08.2018"]
["10627",1,"Lør 01.09",106,null,"1220",null,null,null,null,null,null,null,0.72616984933903794,null,null,5,27,null,null,{"$f":"IF(#REF!=1,IFERROR(VLOOKUP(#REF!,[1]Sheet1!$A:$N,U$2,FALSE),\"\"),\"\")","v":{"$error":"#REF!"}},null,null,"H","H J C","1x",null,"500 m","Aalesunds Roklub",null,"09:00",275,null,"Aalesunds Roklub","Nei",null,"27.05.2006","Nei","M270506MAD02","8233207","30.05.2018","Aalesunds Roklub","Johan Myklebust","90894714","johan.myklebust@nordea.no","21.08.2018"]
["10628",1,"Lør 01.09",106,null,"1220",null,null,null,null,null,null,null,0.75277070036884008,null,null,5,28,null,null,{"$f":"IF(#REF!=1,IFERROR(VLOOKUP(#REF!,[1]Sheet1!$A:$N,U$2,FALSE),\"\"),\"\")","v":{"$error":"#REF!"}},null,null,"H","H J C","1x",null,"500 m","Sarpsborg Roklubb - Roing","Marius Antonsen Thime","09:00",275,null,"Sarpsborg Roklubb - Roing","Nei",null,"07.06.2004","Ja","M070604MAR06","6707662","22.03.2018","Sarpsborg Roklubb - Roing","Thomas Gundersen","91874904","Thomas.gundersen@afgruppen.no;thomas.gundersen@afgruppen.no","22.08.2018"]
["10629",1,"Lør 01.09",106,null,"1220",null,null,null,null,null,null,null,0.76085265651221923,null,null,5,29,null,null,{"$f":"IF(#REF!=1,IFERROR(VLOOKUP(#REF!,[1]Sheet1!$A:$N,U$2,FALSE),\"\"),\"\")","v":{"$error":"#REF!"}},null,null,"H","H J C","1x",null,"500 m","Bærum Roklubb","Thor Saga","09:00",275,null,"Bærum Roklubb","Nei",null,"28.08.2005","Ja","M280805THO03","6142424","05.06.2018","Bærum Roklubb","Bente Dingen","45411863","bente.dingen@lundin-norway.no","20.08.2018"]
["10630",1,"Lør 01.09",106,null,"1220",null,null,null,null,null,null,null,0.7616869220452841,null,null,6,30,null,null,{"$f":"IF(#REF!=1,IFERROR(VLOOKUP(#REF!,[1]Sheet1!$A:$N,U$2,FALSE),\"\"),\"\")","v":{"$error":"#REF!"}},null,null,"H","H J C","1x",null,"500 m","Norske Studenters Roklub","Sander Bjerke","09:00",275,null,"Norske Studenters Roklub","Nei",null,"20.01.2006","Nei","M010306SAN01","7266956","07.06.2018","Norske Studenters Roklub","Erik Juel","48039369","eri-juel@online.no","22.08.2018"]
["10631",1,"Lør 01.09",106,null,"1220",null,null,null,null,null,null,null,0.77762859077460578,null,null,6,31,null,null,{"$f":"IF(#REF!=1,IFERROR(VLOOKUP(#REF!,[1]Sheet1!$A:$N,U$2,FALSE),\"\"),\"\")","v":{"$error":"#REF!"}},null,null,"H","H J C","1x",null,"500 m","Christiania Roklub","Christoffer Widding","09:00",275,null,"Christiania Roklub","Nei",null,"25.04.2004","Ja","M250404CHR01","5051812","06.03.2018","Christiania Roklub","Grete Isachsen Stokke","91338845","greteistokke@hotmail.com;grisach@gmail.com","22.08.2018"]
["10632",1,"Lør 01.09",106,null,"1220",null,null,null,null,null,null,null,0.79137338020489389,null,null,6,32,null,null,{"$f":"IF(#REF!=1,IFERROR(VLOOKUP(#REF!,[1]Sheet1!$A:$N,U$2,FALSE),\"\"),\"\")","v":{"$error":"#REF!"}},null,null,"H","H J C","1x",null,"500 m","Ormsund Roklub","Max Andresen","09:00",275,null,"Ormsund Roklub","Nei",null,"22.06.2004","Ja","M220604MAX04","7259283","06.04.2018","Ormsund Roklub","Eva Hansen","90799966","eva.hansen@wenaasnordic.com","22.08.2018"]
["10633",1,"Lør 01.09",106,null,"1220",null,null,null,null,null,null,null,0.89734659424835261,null,null,6,33,null,null,{"$f":"IF(#REF!=1,IFERROR(VLOOKUP(#REF!,[1]Sheet1!$A:$N,U$2,FALSE),\"\"),\"\")","v":{"$error":"#REF!"}},null,null,"H","H J C","1x",null,"500 m","Bærum Roklubb","Ferdinand Tenden","09:00",275,null,"Bærum Roklubb","Nei",null,"25.02.2005","Ja","M250205FER01","5587277","05.08.2018","Bærum Roklubb","Bente Dingen","45411863","bente.dingen@lundin-norway.no","20.08.2018"]
["10634",1,"Lør 01.09",106,null,"1220",null,null,null,null,null,null,null,0.98962772828045187,null,null,6,34,null,null,{"$f":"IF(#REF!=1,IFERROR(VLOOKUP(#REF!,[1]Sheet1!$A:$N,U$2,FALSE),\"\"),\"\")","v":{"$error":"#REF!"}},null,null,"H","H J C","1x",null,"500 m","Christiania Roklub",null,"09:00",275,null,"Christiania Roklub","Nei",null,"27.04.2005","Ja","M270405KAS03","7758071","06.03.2018","Christiania Roklub","Grete Isachsen Stokke","91338845","greteistokke@hotmail.com;grisach@gmail.com","22.08.2018"]
[null,null,null,null,null,null,null,null,null,null,null,null,null,null,null,null,null,null,null,null,{"$f":"IF(#REF!=1,IFERROR(VLOOKUP(#REF!,[1]Sheet1!$A:$N,U$2,FALSE),\"\"),\"\")","v":{"$error":"#REF!"}}]
[{"$f":"D164&R164","v":"1070"},1,"Lør 01.09",107,null,{"$f":"VLOOKUP($D164,Tidsplan!$B:$D,3,FALSE)","v":"1250"},{"$f":"VLOOKUP($D164,Tidsplan!$B:$D,2,FALSE)","v":""},null,null,null,null,null,null,0.66450382193766588," ",null,null,0,null,null,{"$f":"IF(#REF!=1,IFERROR(VLOOKUP(#REF!,[1]Sheet1!$A:$N,U$2,FALSE),\"\"),\"\")","v":{"$error":"#REF!"}},null,null,"D","D J C","2x",{"$f":"IF(R164<>0,LEFT(Z164,1),0)*1","v":0},"500 m "]
["1071",{"$f":"OFFSET(B165,-1,0)","v":1},"Lør 01.09",107,null,{"$f":"OFFSET(F165,-1,0)","v":"1250"},null,null,null,null,null,null,null,0.41697438297552614,null,null,1,1,null,null,{"$f":"IF(#REF!=1,IFERROR(VLOOKUP(#REF!,[1]Sheet1!$A:$N,U$2,FALSE),\"\"),\"\")","v":{"$error":"#REF!"}},null,null,"D","D J C","2x",null,"500 m ","Aalesunds Roklub 1","Ida Sofie Ness Lorgen\nNatalie Grønnevik Langlo","09:00",325,null,"Aalesunds Roklub",null,null,"22.03.2005\n05.08.2005","Ja\nJa","K220305IDA04\nK050805NAT01","7094408\n7095895","30.05.2018\n30.05.2018","Aalesunds Roklub\nAalesunds Roklub","Johan Gerhard Myklebust\n","90894714\n","johan.myklebust@nordea.no\n","21.08.2018\n21.08.2018"]
["1072",1,"Lør 01.09",107,null,"1250",null,null,null,null,null,null,null,0.12065984944540697,null,null,1,2,null,null,{"$f":"IF(#REF!=1,IFERROR(VLOOKUP(#REF!,[1]Sheet1!$A:$N,U$2,FALSE),\"\"),\"\")","v":{"$error":"#REF!"}},null,null,"D","D J C","2x",null,"500 m ","Tønsberg Roklub 1","Shirin Synnavåg","09:00",325,null,"Tønsberg Roklub",null,null,"07.02.2005","Ja","K070205SHI02","7919053","01.05.2018","Tønsberg Roklub","Svend Andersen","92061715","svendandersen@me.com","22.08.2018"]
["1073",1,"Lør 01.09",107,null,"1250",null,null,null,null,null,null,null,0.14507901610814766,null,null,1,3,null,null,{"$f":"IF(#REF!=1,IFERROR(VLOOKUP(#REF!,[1]Sheet1!$A:$N,U$2,FALSE),\"\"),\"\")","v":{"$error":"#REF!"}},null,null,"D","D J C","2x",null,"500 m ","Ormsund Roklub 1","Tyra Eklo Hjemdal\nAnna Luna Bjønness Yngsdal","09:00",325,null,"Ormsund Roklub",null,null,"18.12.2004\n31.12.2004","Ja\nJa","K181204TYR02\nK311204ANN05","7259282\n7203396","06.04.2018\n06.04.2018","Ormsund Roklub\nOrmsund Roklub","Eva Hansen\n","90799966\n","eva.hansen@wenaasnordic.com\n","22.08.2018\n22.08.2018"]
["1074",1,"Lør 01.09",107,null,"1250",null,null,null,null,null,null,null,0.29246700204308484,null,null,1,4,null,null,{"$f":"IF(#REF!=1,IFERROR(VLOOKUP(#REF!,[1]Sheet1!$A:$N,U$2,FALSE),\"\"),\"\")","v":{"$error":"#REF!"}},null,null,"D","D J C","2x",null,"500 m ","Aalesunds Roklub 3","Erika Roth\nMia Rolland Engvik","09:00",325,null,"Aalesunds Roklub",null,null,"27.08.2004\n22.04.2004","Ja\nJa","K270804ERI01\nK220404MIA01","5395032\n7091604","30.05.2018\n30.05.2018","Aalesunds Roklub\nAalesunds Roklub","Johan Gerhard Myklebust\n","90894714\n","johan.myklebust@nordea.no\n","21.08.2018\n21.08.2018"]
["1075",1,"Lør 01.09",107,null,"1250",null,null,null,null,null,null,null,0.50216619687035913,null,null,1,5,null,null,{"$f":"IF(#REF!=1,IFERROR(VLOOKUP(#REF!,[1]Sheet1!$A:$N,U$2,FALSE),\"\"),\"\")","v":{"$error":"#REF!"}},null,null,"D","D J C","2x",null,"500 m ","Ormsund Roklub 2","Mille Aslaksen Wåle\nEmbla Reykdal","09:00",325,null,"Ormsund Roklub",null,null,"07.07.2004\n17.01.2004","Ja\nJa","K070704MIL03\nK170104EMB01","5812808\n7697937","06.04.2018\n06.04.2018","Ormsund Roklub\nOrmsund Roklub","Eva Hansen\n","90799966\n","eva.hansen@wenaasnordic.com\n","22.08.2018\n22.08.2018"]
["1076",1,"Lør 01.09",107,null,"1250",null,null,null,null,null,null,null,0.86790617612589283,null,null,1,6,null,null,{"$f":"IF(#REF!=1,IFERROR(VLOOKUP(#REF!,[1]Sheet1!$A:$N,U$2,FALSE),\"\"),\"\")","v":{"$error":"#REF!"}},null,null,"D","D J C","2x",null,"500 m ","Aalesunds Roklub 2","Live Strømshoved\nSelma Steen Bjørlykke","09:00",325,null,"Aalesunds Roklub",null,null,"16.02.2004\n31.01.2004","Ja\nJa","K160204LIV01\nK310104SEL01","7633009\n6871648","30.05.2018\n30.05.2018","Aalesunds Roklub\nAalesunds Roklub","Johan Gerhard Myklebust\n","90894714\n","johan.myklebust@nordea.no\n","21.08.2018\n21.08.2018"]
[null,null,null,null,null,null,null,null,null,null,null,null,null,null,null,null,null,null,null,null,{"$f":"IF(#REF!=1,IFERROR(VLOOKUP(#REF!,[1]Sheet1!$A:$N,U$2,FALSE),\"\"),\"\")","v":{"$error":"#REF!"}}]
[{"$f":"D172&R172","v":"1080"},1,"Lør 01.09",108,null,{"$f":"VLOOKUP($D172,Tidsplan!$B:$D,3,FALSE)","v":"1255"},{"$f":"VLOOKUP($D172,Tidsplan!$B:$D,2,FALSE)","v":""},null,null,null,null,null,null,0.64773055357364751,"S",null,null,0,null,null,{"$f":"IF(#REF!=1,IFERROR(VLOOKUP(#REF!,[1]Sheet1!$A:$N,U$2,FALSE),\"\"),\"\")","v":{"$error":"#REF!"}},null,null,"D","D S","1x",{"$f":"IF(R172<>0,LEFT(Z172,1),0)*1","v":0},"500 m"]
[{"$f":"D173&R173","v":"1081"},{"$f":"OFFSET(B173,-1,0)","v":1},"Lør 01.09",108,null,{"$f":"OFFSET(F173,-1,0)","v":"1255"},null,null,null,null,null,null,null,0.33626468236637164,null,null,1,1,null,null,{"$f":"IF(#REF!=1,IFERROR(VLOOKUP(#REF!,[1]Sheet1!$A:$N,U$2,FALSE),\"\"),\"\")","v":{"$error":"#REF!"}},null,null,"D","D S","1x",null,"500 m","Bærum Roklubb","Synnøve Gillebo Foss","09:00",275,null,"Bærum Roklubb","Nei",null,"11.08.1999","Ja","K110899SYN04","8066138",null,"Bærum Roklubb","Bente Dingen","45411863","bente.dingen@lundin-norway.no","22.08.2018"]
[{"$f":"D174&R174","v":"1082"},{"$f":"OFFSET(B174,-1,0)","v":1},"Lør 01.09",108,null,{"$f":"OFFSET(F174,-1,0)","v":"1255"},null,null,null,null,null,null,null,0.38509984138667031,null,null,1,2,null,null,{"$f":"IF(#REF!=1,IFERROR(VLOOKUP(#REF!,[1]Sheet1!$A:$N,U$2,FALSE),\"\"),\"\")","v":{"$error":"#REF!"}},null,null,"D","D S","1x",null,"500 m","Christiania Roklub",null,"09:00",275,null,"Christiania Roklub","Nei",null,"07.05.1991","Ja","K070591HEL01","8124580","03.04.2018","Christiania Roklub","Grete Isachsen Stokke","91338845","greteistokke@hotmail.com;grisach@gmail.com","22.08.2018"]
[{"$f":"D175&R175","v":"1083"},{"$f":"OFFSET(B175,-1,0)","v":1},"Lør 01.09",108,null,{"$f":"OFFSET(F175,-1,0)","v":"1255"},null,null,null,null,null,null,null,0.5369472136425808,null,null,1,3,null,null,{"$f":"IF(#REF!=1,IFERROR(VLOOKUP(#REF!,[1]Sheet1!$A:$N,U$2,FALSE),\"\"),\"\")","v":{"$error":"#REF!"}},null,null,"D","D S","1x",null,"500 m","Drammen Roklubb ",null,"09:00",275,null,"Drammen Roklubb ","Nei",null,"20.09.1994","Ja","K200994FAN03","8149207","12.03.2018","Drammen Roklubb ",null,"90660478","beatepharo@gmail.com","21.08.2018"]
[null,null,null,null,null,null,null,null,null,null,null,null,null,null,null,null,null,null,null,null,{"$f":"IF(#REF!=1,IFERROR(VLOOKUP(#REF!,[1]Sheet1!$A:$N,U$2,FALSE),\"\"),\"\")","v":{"$error":"#REF!"}}]
[{"$f":"D177&R177","v":"109"},1,"Lør 01.09",109,null,{"$f":"VLOOKUP($D177,Tidsplan!$B:$D,3,FALSE)","v":"1300"},{"$f":"VLOOKUP($D177,Tidsplan!$B:$D,2,FALSE)","v":""},null,null,null,null,null,null,0.26523922335691685,"S",null,null,null,null,null,{"$f":"IF(#REF!=1,IFERROR(VLOOKUP(#REF!,[1]Sheet1!$A:$N,U$2,FALSE),\"\"),\"\")","v":{"$error":"#REF!"}},null,null,"D","D J A","2x",{"$f":"IF(R177<>0,LEFT(Z177,1),0)*1","v":0},"500 m "]
["1091",{"$f":"OFFSET(B178,-1,0)","v":1},"Lør 01.09",109,null,{"$f":"OFFSET(F178,-1,0)","v":"1300"},null,null,null,null,null,null,null,3.6805480106261945E-2,null,null,null,1,null,null,{"$f":"IF(#REF!=1,IFERROR(VLOOKUP(#REF!,[1]Sheet1!$A:$N,U$2,FALSE),\"\"),\"\")","v":{"$error":"#REF!"}},null,null,"D","D J A","2x",null,"500 m ","Bærum Roklubb 1","Thea Hertzum Aunaas\nCaitlin Isabelle Aalders","09:00",325,null,"Bærum Roklubb",null,null,"15.01.2001\n03.06.2001","Ja\nJa","K150101THE02\nK030601CAI03","6790513\n7289717","17.04.2018\n17.04.2018","Bærum Roklubb\nBærum Roklubb","Bente Dingen\n","45411863\n","bente.dingen@lundin-norway.no\n","22.08.2018\n22.08.2018"]
["1092",1,"Lør 01.09",109,null,"1300",null,null,null,null,null,null,null,0.99105370047919261,null,null,null,2,null,null,{"$f":"IF(#REF!=1,IFERROR(VLOOKUP(#REF!,[1]Sheet1!$A:$N,U$2,FALSE),\"\"),\"\")","v":{"$error":"#REF!"}},null,null,"D","D J A","2x",null,"500 m ","Christiania Roklub 1","Anna Edine Lind Jodalen\nNicoline Lovise Lindstrøm","09:00",325,null,"Christiania Roklub",null,null,"20.08.2001\n25.09.2002","Ja\nNei","K200801ANN08\nK250902NIC02","8030448\n8247202","14.05.2018\n14.05.2018","Christiania Roklub\nChristiania Roklub","Grete Isachsen Stokke\n","91338845\n","greteistokke@hotmail.com;grisach@gmail.com\n","22.08.2018\n22.08.2018"]
["1093",1,"Lør 01.09",109,null,"1300",null,null,null,null,null,null,null,0.8921330417050134,null,null,null,3,null,null,{"$f":"IF(#REF!=1,IFERROR(VLOOKUP(#REF!,[1]Sheet1!$A:$N,U$2,FALSE),\"\"),\"\")","v":{"$error":"#REF!"}},null,null,"D","D J A","2x",null,"500 m ","Drammen Roklubb  1","Karoline Rydland Masch\nIda Kyvik Sandvik","09:00",325,null,"Drammen Roklubb ",null,null,"14.04.2001\n24.07.2002","Ja\nNei","K140401KAR10\nK240702IDA05","7214275\n7173655","12.03.2018\n13.04.2018","Drammen Roklubb \nTønsberg Roklub","Beate Pharo\n","90660478\n","beatepharo@gmail.com\n","21.08.2018\n21.08.2018"]
["1094",1,"Lør 01.09",109,null,"1300",null,null,null,null,null,null,null,0.96240908873005226,null,null,null,4,null,null,{"$f":"IF(#REF!=1,IFERROR(VLOOKUP(#REF!,[1]Sheet1!$A:$N,U$2,FALSE),\"\"),\"\")","v":{"$error":"#REF!"}},null,null,"D","D J A","2x",null,"500 m ","Moss Roklubb 1","Lise Meinike Dørre\nCornelia Johansen Knutsen","09:00",325,null,"Moss Roklubb",null,null,"13.02.2000\n28.12.2000","Ja\nJa","K130200LIS02\nK281200COR02","6059397\n6060150","\n22.03.2018","Årungen Ro- og Kajakklubb\nSarpsborg Roklubb - Roing","Jon Børre Rekstad\n","92252667\n","rekstad0@gmail.com\n","22.08.2018\n22.08.2018"]
["1095",1,"Lør 01.09",109,null,"1300",null,null,null,null,null,null,null,0.84130367154914876,null,null,null,5,null,null,{"$f":"IF(#REF!=1,IFERROR(VLOOKUP(#REF!,[1]Sheet1!$A:$N,U$2,FALSE),\"\"),\"\")","v":{"$error":"#REF!"}},null,null,"D","D J A","2x",null,"500 m ","Aalesunds Roklub 1","Olida Nesset\nHedda Roth","09:00",325,null,"Aalesunds Roklub",null,null,"05.02.2002\n01.08.2001","Nei\nJa","K050202OLI01\nK010801HED01","5934237\n5213239","30.05.2018\n30.05.2018","Aalesunds Roklub\nAalesunds Roklub","Johan Gerhard Myklebust\n","90894714\n","johan.myklebust@nordea.no\n","21.08.2018\n21.08.2018"]
["1096",1,"Lør 01.09",109,null,"1300",null,null,null,null,null,null,null,0.47434048919803007,null,null,null,6,null,null,{"$f":"IF(#REF!=1,IFERROR(VLOOKUP(#REF!,[1]Sheet1!$A:$N,U$2,FALSE),\"\"),\"\")","v":{"$error":"#REF!"}},null,null,"D","D J A","2x",null,"500 m ","Fredrikstad Roklub","Emilie Stokke\nHedda Marie Larsen","09:00",325,null,"Fredrikstad Roklub",null,null,null,null,null,null,null,null,null,null,"Linda Schi Liseter"]
["1100",1,"Lør 01.09",110,null,{"$f":"VLOOKUP($D184,Tidsplan!$B:$D,3,FALSE)","v":"1305"},{"$f":"VLOOKUP($D184,Tidsplan!$B:$D,2,FALSE)","v":""},null,null,null,null,"0900",null,null,null,"K",null,0,null,null,{"$f":"IF(#REF!=1,IFERROR(VLOOKUP(#REF!,[1]Sheet1!$A:$N,U$2,FALSE),\"\"),\"\")","v":{"$error":"#REF!"}},null,null,"H","H J A","1x",{"$f":"IF(R184<>0,LEFT(Z184,1),0)*1","v":0},"500 m"]
["1101",1,"Lør 01.09",110,null,{"$f":"VLOOKUP($D185,Tidsplan!$B:$D,3,FALSE)","v":"1305"},null,null,null,null,null,null,null,0.62887958942365618,null,null,null,1,null,null,{"$f":"IF(#REF!=1,IFERROR(VLOOKUP(#REF!,[1]Sheet1!$A:$N,U$2,FALSE),\"\"),\"\")","v":{"$error":"#REF!"}},null,null,"D","D S","2-",null,"500 m","Christiania Roklub 1","Helga Marie Løvenskiold Kveseth\nViktorija Fara","09:00",325,null,"Christiania Roklub",null,null,"07.05.1991\n29.01.1989","Ja\nJa","K070591HEL01\nK290189VIK03","8124580\n7787823","03.04.2018\n30.05.2018","Christiania Roklub\nChristiania Roklub","Grete Isachsen Stokke\n","91338845\n","greteistokke@hotmail.com;grisach@gmail.com\n","22.08.2018\n22.08.2018"]
["1110",1,"Lør 01.09",111,null,{"$f":"VLOOKUP($D186,Tidsplan!$B:$D,3,FALSE)","v":"1305"},{"$f":"VLOOKUP($D186,Tidsplan!$B:$D,2,FALSE)","v":"0935"},null,null,null,null,"0900",null,null,null,"K",null,0,null,null,{"$f":"IF(#REF!=1,IFERROR(VLOOKUP(#REF!,[1]Sheet1!$A:$N,U$2,FALSE),\"\"),\"\")","v":{"$error":"#REF!"}},null,null,"H","H J A","1x",{"$f":"IF(R186<>0,LEFT(Z186,1),0)*1","v":0},"500 m"]
["111",1,"Lør 01.09",111,null,{"$f":"OFFSET(F187,-1,0)","v":"1305"},"0935",null,null,null,null,null,null,null,null,null,null,null,null,null,{"$f":"IF(#REF!=1,IFERROR(VLOOKUP(#REF!,[1]Sheet1!$A:$N,U$2,FALSE),\"\"),\"\")","v":{"$error":"#REF!"}},null,null,"H","H J A","1x",null,"500 m","Bærum Roklubb",null,"09:00",275,null,"Bærum Roklubb","Nei",null,"12.09.2000","Ja","M120900BRA02","8203074",null,"Bærum Roklubb","Bente Dingen","45411863","bente.dingen@lundin-norway.no","22.08.2018"]
["111",1,"Lør 01.09",111,null,"1305","0935",null,null,null,null,null,null,null,null,null,null,null,null,null,{"$f":"IF(#REF!=1,IFERROR(VLOOKUP(#REF!,[1]Sheet1!$A:$N,U$2,FALSE),\"\"),\"\")","v":{"$error":"#REF!"}},null,null,"H","H J A","1x",null,"500 m","Bærum Roklubb","Eirik Myreng Hauge","09:00",275,null,"Bærum Roklubb","Nei",null,"17.04.2000","Ja","M170400EIR02","5005277",null,"Bærum Roklubb","Bente Dingen","45411863","bente.dingen@lundin-norway.no","22.08.2018"]
["111",1,"Lør 01.09",111,null,"1305","0935",null,null,null,null,null,null,null,null,null,null,null,null,null,{"$f":"IF(#REF!=1,IFERROR(VLOOKUP(#REF!,[1]Sheet1!$A:$N,U$2,FALSE),\"\"),\"\")","v":{"$error":"#REF!"}},null,null,"H","H J A","1x",null,"500 m","Bærum Roklubb","Lars Moberg Værnes","09:00",275,null,"Bærum Roklubb","Nei",null,"02.06.2000","Ja","M020600LAR02","4487587","13.04.2018","Bærum Roklubb","Bente Dingen","45411863","bente.dingen@lundin-norway.no","21.08.2018"]
["111",1,"Lør 01.09",111,null,"1305","0935",null,null,null,null,null,null,null,null,null,null,null,null,null,{"$f":"IF(#REF!=1,IFERROR(VLOOKUP(#REF!,[1]Sheet1!$A:$N,U$2,FALSE),\"\"),\"\")","v":{"$error":"#REF!"}},null,null,"H","H J A","1x",null,"500 m","Bærum Roklubb","Øystein Dingen Endresen","09:00",275,null,"Bærum Roklubb","Nei",null,"20.06.2000","Ja","M070600ØYS01","5372192","13.04.2018","Bærum Roklubb","Bente Dingen","45411863","bente.dingen@lundin-norway.no","21.08.2018"]
["111",1,"Lør 01.09",111,null,"1305","0935",null,null,null,null,null,null,null,null,null,null,null,null,null,{"$f":"IF(#REF!=1,IFERROR(VLOOKUP(#REF!,[1]Sheet1!$A:$N,U$2,FALSE),\"\"),\"\")","v":{"$error":"#REF!"}},null,null,"H","H J A","1x",null,"500 m","Christiania Roklub","Erik  Johansen","09:00",275,null,"Christiania Roklub","Nei",null,"26.06.2001","Ja","M260601ERI03","7563109","03.04.2018","Christiania Roklub","Grete Isachsen Stokke","91338845","greteistokke@hotmail.com;grisach@gmail.com","22.08.2018"]
["111",1,"Lør 01.09",111,null,"1305","0935",null,null,null,null,null,null,null,null,null,null,null,null,null,{"$f":"IF(#REF!=1,IFERROR(VLOOKUP(#REF!,[1]Sheet1!$A:$N,U$2,FALSE),\"\"),\"\")","v":{"$error":"#REF!"}},null,null,"H","H J A","1x",null,"500 m","Drammen Roklubb ","Elias Loe Eritsland","09:00",275,null,"Drammen Roklubb ","Nei",null,"13.02.2001","Ja","M130201ELI03","7554836",null,"Drammen Roklubb ",null,"90660478","beatepharo@gmail.com","21.08.2018"]
["111",1,"Lør 01.09",111,null,"1305","0935",null,null,null,null,null,null,null,null,null,null,null,null,null,{"$f":"IF(#REF!=1,IFERROR(VLOOKUP(#REF!,[1]Sheet1!$A:$N,U$2,FALSE),\"\"),\"\")","v":{"$error":"#REF!"}},null,null,"H","H J A","1x",null,"500 m","Horten Roklubb","Benjamin Nærsnes","09:00",275,null,"Horten Roklubb","Nei",null,"13.09.2001","Ja","M130901BEN04","6102843","12.04.2018","Horten Roklubb","Bjørn-Inge Pettersen","93280397","pettersen.bjorn.inge@gmail.com","22.08.2018"]
["111",1,"Lør 01.09",111,null,"1305","0935",null,null,null,null,null,null,null,null,null,null,null,null,null,{"$f":"IF(#REF!=1,IFERROR(VLOOKUP(#REF!,[1]Sheet1!$A:$N,U$2,FALSE),\"\"),\"\")","v":{"$error":"#REF!"}},null,null,"H","H J A","1x",null,"500 m","Moss Roklubb","Jarle Hjortkjær Sæby","09:00",275,null,"Moss Roklubb","Nei",null,"17.08.2000","Ja","M170800JAR02","2794789","22.03.2018","Moss Roklubb","Jon Rekstad","92252667","rekstad0@gmail.com","22.08.2018"]
["111",1,"Lør 01.09",111,null,"1305","0935",null,null,null,null,null,null,null,null,null,null,null,null,null,{"$f":"IF(#REF!=1,IFERROR(VLOOKUP(#REF!,[1]Sheet1!$A:$N,U$2,FALSE),\"\"),\"\")","v":{"$error":"#REF!"}},null,null,"H","H J A","1x",null,"500 m","Norske Studenters Roklub","Nicolai Fongaard","09:00",275,null,"Norske Studenters Roklub","Nei",null,"06.08.2001","Ja","M060801NIC02","4916382","29.03.2018","Norske Studenters Roklub","Erik Juel","48039369","eri-juel@online.no","22.08.2018"]
["111",1,"Lør 01.09",111,null,"1305","0935",null,null,null,null,null,null,null,null,null,null,null,null,null,{"$f":"IF(#REF!=1,IFERROR(VLOOKUP(#REF!,[1]Sheet1!$A:$N,U$2,FALSE),\"\"),\"\")","v":{"$error":"#REF!"}},null,null,"H","H J A","1x",null,"500 m","Norske Studenters Roklub","Oscar Wohlfahrt","09:00",275,null,"Norske Studenters Roklub","Nei",null,"06.05.2001","Ja","M060501OSC01","7315162","29.03.2018","Norske Studenters Roklub","Erik Juel","48039369","eri-juel@online.no","22.08.2018"]
["111",1,"Lør 01.09",111,null,"1305","0935",null,null,null,null,null,null,null,null,null,null,null,null,null,{"$f":"IF(#REF!=1,IFERROR(VLOOKUP(#REF!,[1]Sheet1!$A:$N,U$2,FALSE),\"\"),\"\")","v":{"$error":"#REF!"}},null,null,"H","H J A","1x",null,"500 m","Norske Studenters Roklub","Petter Arnøy","09:00",275,null,"Norske Studenters Roklub","Nei",null,"16.02.2001","Ja","M160201PET02","4179438","13.04.2018","Norske Studenters Roklub","Erik Juel","48039369","eri-juel@online.no","22.08.2018"]
["111",1,"Lør 01.09",111,null,"1305","0935",null,null,null,null,null,null,null,null,null,null,null,null,null,{"$f":"IF(#REF!=1,IFERROR(VLOOKUP(#REF!,[1]Sheet1!$A:$N,U$2,FALSE),\"\"),\"\")","v":{"$error":"#REF!"}},null,null,"H","H J A","1x",null,"500 m","Norske Studenters Roklub","Vitus Aparicio Tjøm","09:00",275,null,"Norske Studenters Roklub","Nei",null,"26.06.2001","Ja","M260101VIT01","5062270","29.03.2018","Norske Studenters Roklub","Erik Juel","48039369","eri-juel@online.no","22.08.2018"]
["111",1,"Lør 01.09",111,null,"1305","0935",null,null,null,null,null,null,null,null,null,null,null,null,null,{"$f":"IF(#REF!=1,IFERROR(VLOOKUP(#REF!,[1]Sheet1!$A:$N,U$2,FALSE),\"\"),\"\")","v":{"$error":"#REF!"}},null,null,"H","H J A","1x",null,"500 m","Ormsund Roklub"," Jonathan Kvalvaag Dysvik","09:00",275,null,"Ormsund Roklub","Nei",null,"12.05.2001","Ja","M120501JON02","8128878","06.04.2018","Ormsund Roklub","Eva Hansen","90799966","eva.hansen@wenaasnordic.com","22.08.2018"]
["111",1,"Lør 01.09",111,null,"1305","0935",null,null,null,null,null,null,null,null,null,null,null,null,null,{"$f":"IF(#REF!=1,IFERROR(VLOOKUP(#REF!,[1]Sheet1!$A:$N,U$2,FALSE),\"\"),\"\")","v":{"$error":"#REF!"}},null,null,"H","H J A","1x",null,"500 m","Porsgrunn Roklubb","Sturla Mogstad","09:00",275,null,"Porsgrunn Roklubb","Nei",null,"28.02.2002","Nei","M280202STU01","6187816","07.05.2018","Porsgrunn Roklubb","Dag Mogstad","40912611","dagmog@hotmail.com","22.08.2018"]
["111",1,"Lør 01.09",111,null,"1305","0935",null,null,null,null,null,null,null,null,null,null,null,null,null,{"$f":"IF(#REF!=1,IFERROR(VLOOKUP(#REF!,[1]Sheet1!$A:$N,U$2,FALSE),\"\"),\"\")","v":{"$error":"#REF!"}},null,null,"H","H J A","1x",null,"500 m","Sarpsborg Roklubb - Roing","Diderik Skjønhaug","09:00",275,null,"Sarpsborg Roklubb - Roing","Nei",null,"28.12.2000","Ja","M281200DID01","5330116","22.03.2018","Sarpsborg Roklubb - Roing","Thomas Gundersen","91874904","Thomas.gundersen@afgruppen.no;thomas.gundersen@afgruppen.no","22.08.2018"]
["111",1,"Lør 01.09",111,null,"1305","0935",null,null,null,null,null,null,null,null,null,null,null,null,null,{"$f":"IF(#REF!=1,IFERROR(VLOOKUP(#REF!,[1]Sheet1!$A:$N,U$2,FALSE),\"\"),\"\")","v":{"$error":"#REF!"}},null,null,"H","H J A","1x",null,"500 m","Sarpsborg Roklubb - Roing","Jacob Gundersen","09:00",275,null,"Sarpsborg Roklubb - Roing","Nei",null,"08.04.2001","Ja","M080401JAC01","5584584","22.03.2018","Sarpsborg Roklubb - Roing","Thomas Gundersen","91874904","Thomas.gundersen@afgruppen.no;thomas.gundersen@afgruppen.no","22.08.2018"]
["111",1,"Lør 01.09",111,null,"1305","0935",null,null,null,null,null,null,null,null,null,null,null,null,null,{"$f":"IF(#REF!=1,IFERROR(VLOOKUP(#REF!,[1]Sheet1!$A:$N,U$2,FALSE),\"\"),\"\")","v":{"$error":"#REF!"}},null,null,"H","H J A","1x",null,"500 m","Tønsberg Roklub","Isak Vartal-Gjerde","09:00",275,null,"Tønsberg Roklub","Nei",null,"24.12.2000","Ja","M241200ISA03","7173184","13.04.2018","Tønsberg Roklub",null,"92061715","svendandersen@me.com","21.08.2018"]
["111",1,"Lør 01.09",111,null,"1305","0935",null,null,null,null,null,null,null,null,null,null,null,null,null,{"$f":"IF(#REF!=1,IFERROR(VLOOKUP(#REF!,[1]Sheet1!$A:$N,U$2,FALSE),\"\"),\"\")","v":{"$error":"#REF!"}},null,null,"H","H J A","1x",null,"500 m","Tønsberg Roklub","Lars Jørann Lindgren","09:00",275,null,"Tønsberg Roklub","Nei",null,"30.05.2001","Ja","M300501LAR02","4234298","13.04.2018","Tønsberg Roklub",null,"92061715","svendandersen@me.com","21.08.2018"]
["111",1,"Lør 01.09",111,null,"1305","0935",null,null,null,null,null,null,null,null,null,null,null,null,null,{"$f":"IF(#REF!=1,IFERROR(VLOOKUP(#REF!,[1]Sheet1!$A:$N,U$2,FALSE),\"\"),\"\")","v":{"$error":"#REF!"}},null,null,"H","H J A","1x",null,"500 m","Tønsberg Roklub","Martin Asheim","09:00",275,null,"Tønsberg Roklub","Nei",null,"05.05.2001","Ja","M050501MAR07","7153998","13.04.2018","Tønsberg Roklub",null,"92061715","svendandersen@me.com","22.08.2018"]
["111",1,"Lør 01.09",111,null,"1305","0935",null,null,null,null,null,null,null,null,null,null,null,null,null,{"$f":"IF(#REF!=1,IFERROR(VLOOKUP(#REF!,[1]Sheet1!$A:$N,U$2,FALSE),\"\"),\"\")","v":{"$error":"#REF!"}},null,null,"H","H J A","1x",null,"500 m","Aalesunds Roklub",null,"09:00",275,null,"Aalesunds Roklub","Nei",null,"26.07.2001","Ja","M260701FRE03","7811197","13.04.2018","Aalesunds Roklub","Johan Myklebust","90894714","johan.myklebust@nordea.no","21.08.2018"]
["111",1,"Lør 01.09",111,null,"1305","0935",null,null,null,null,null,null,null,null,null,null,null,null,null,{"$f":"IF(#REF!=1,IFERROR(VLOOKUP(#REF!,[1]Sheet1!$A:$N,U$2,FALSE),\"\"),\"\")","v":{"$error":"#REF!"}},null,null,"H","H J A","1x",null,"500 m","Aalesunds Roklub","Arild Lykkebø Johnsen","09:00",275,null,"Aalesunds Roklub","Nei",null,"27.10.2001","Ja","M271001ARI02","5661384","30.05.2018","Aalesunds Roklub","Johan Myklebust","90894714","johan.myklebust@nordea.no","21.08.2018"]
["111",1,"Lør 01.09",111,null,"1305","0935",null,null,null,null,null,null,null,null,null,null,null,null,null,{"$f":"IF(#REF!=1,IFERROR(VLOOKUP(#REF!,[1]Sheet1!$A:$N,U$2,FALSE),\"\"),\"\")","v":{"$error":"#REF!"}},null,null,"H","H J A","1x",null,"500 m","Tønsberg Roklub","Sander Benden Nilsen","09:00",275,null,"Tønsberg Roklub","Nei",null,"05.05.2001","Ja","M050501MAR07","7153998","13.04.2018","Tønsberg Roklub",null,"92061715","svendandersen@me.com","22.08.2018"]
[null,null,null,null,null,null,null,null,null,null,null,null,null,null,null,null,null,null,null,null,{"$f":"IF(#REF!=1,IFERROR(VLOOKUP(#REF!,[1]Sheet1!$A:$N,U$2,FALSE),\"\"),\"\")","v":{"$error":"#REF!"}},null,null,null,null,null,null,null,null,null,null,null,null,"Nei",null,"01.06.1998","Ja","M010698RAS01","7270178","07.06.2016","Tønsberg Roklub","Tore Nilsson","92686272","tore.nilsson@sf-nett.no","17.08.2016"]
[{"$f":"D210&R210","v":"1120"},1,"Lør 01.09",112,null,{"$f":"VLOOKUP($D210,Tidsplan!$B:$D,3,FALSE)","v":"1315"},{"$f":"VLOOKUP($D210,Tidsplan!$B:$D,2,FALSE)","v":""},null,null,null,null,null,null,0.29663726461092721,null,"K",null,0,null,null,{"$f":"IF(#REF!=1,IFERROR(VLOOKUP(#REF!,[1]Sheet1!$A:$N,U$2,FALSE),\"\"),\"\")","v":{"$error":"#REF!"}},null,null,"H","HM","4-",{"$f":"IF(R210<>0,LEFT(Z210,1),0)*1","v":0},"500 m",null," "]
[{"$f":"D211&R211","v":"1130"},1,"Lør 01.09",113,null,{"$f":"VLOOKUP($D211,Tidsplan!$B:$D,3,FALSE)","v":"1330"},{"$f":"VLOOKUP($D211,Tidsplan!$B:$D,2,FALSE)","v":""},null,null,null,null,null,null,0.29663726461092721,null,"K",null,0,null,null,{"$f":"IF(#REF!=1,IFERROR(VLOOKUP(#REF!,[1]Sheet1!$A:$N,U$2,FALSE),\"\"),\"\")","v":{"$error":"#REF!"}},null,null,"D","D M","4x",{"$f":"IF(R211<>0,LEFT(Z211,1),0)*1","v":0},"500 m",null," "]
[{"$f":"D212&R212","v":"1131"},{"$f":"OFFSET(B212,-1,0)","v":1},"Lør 01.09",113,null,"1330",null,null,null,null,null,null,null,3.2964454746091554E-2,null,null,null,1,null,null,{"$f":"IF(#REF!=1,IFERROR(VLOOKUP(#REF!,[1]Sheet1!$A:$N,U$2,FALSE),\"\"),\"\")","v":{"$error":"#REF!"}},null,null,"D","D M","4x",null,"500 m","Aalesunds Roklub 1","Bodil Saure Vegsund\nSynnøve Devold\nKari Midtgård Andreassen\nMarit Stranden","09:00",375,null,"Aalesunds Roklub",null,null,"19.04.1978\n03.05.1963\n22.08.1977\n14.11.1967","Ja\nJa\nJa\nJa","K190478BOD02\nK030563SYN01\nK220877KAR04\nK141167MAR02","6100789\n670931\n6112516\n7864800","\n\n\n","Aalesunds Roklub\nAalesunds Roklub\nAalesunds Roklub\nAalesunds Roklub","Johan Gerhard Myklebust\n","90894714\n","johan.myklebust@nordea.no\n","21.08.2018\n21.08.2018\n21.08.2018\n21.08.2018"]
[{"$f":"D213&R213","v":"1140"},1,"Lør 01.09",114,null,{"$f":"VLOOKUP($D213,Tidsplan!$B:$D,3,FALSE)","v":"1335"},{"$f":"VLOOKUP($D213,Tidsplan!$B:$D,2,FALSE)","v":""},null,null,null,null,null,null,0.25736327825397642,"S",null,null,0,null,null,{"$f":"IF(#REF!=1,IFERROR(VLOOKUP(#REF!,[1]Sheet1!$A:$N,U$2,FALSE),\"\"),\"\")","v":{"$error":"#REF!"}},null,null,"H","H J A","2-",{"$f":"IF(R213<>0,LEFT(Z213,1),0)*1","v":0},"500 m","Snr. 4 lå an til 3. Få 3. plass premiering"]
[{"$f":"D214&R214","v":"1141"},{"$f":"OFFSET(B214,-1,0)","v":1},"Lør 01.09",114,null,{"$f":"VLOOKUP($D214,Tidsplan!$B:$D,3,FALSE)","v":"1335"},null,null,null,null,null,null,null,0.69667925623461402,null,null,null,1,null,null,{"$f":"IF(#REF!=1,IFERROR(VLOOKUP(#REF!,[1]Sheet1!$A:$N,U$2,FALSE),\"\"),\"\")","v":{"$error":"#REF!"}},null,null,"H","H J A","2-",null,"500 m","Christiania Roklub 1","Marius Bjørn-Hansen Ahlsand\nJonathan Wang-Norderud","09:00",325,null,"Christiania Roklub",null,null,"22.01.2002\n19.07.2002","Nei\nNei","M220102MAR12\nM190702JON01","7781581\n5260818","06.03.2018\n","Christiania Roklub\nChristiania Roklub","Grete Isachsen Stokke\n","91338845\n","greteistokke@hotmail.com;grisach@gmail.com\n","22.08.2018\n22.08.2018"]
[null,null,null,null,null,null,null,null,null,null,null,null,null,null,null,null,null,null,null,null,{"$f":"IF(#REF!=1,IFERROR(VLOOKUP(#REF!,[1]Sheet1!$A:$N,U$2,FALSE),\"\"),\"\")","v":{"$error":"#REF!"}}]
[{"$f":"D216&R216","v":"1150"},1,"Lør 01.09",115,null,{"$f":"VLOOKUP($D216,Tidsplan!$B:$D,3,FALSE)","v":"1340"},{"$f":"VLOOKUP($D216,Tidsplan!$B:$D,2,FALSE)","v":""},null,null,null,null,null,null,0.16404131865289173,null,"K ",null,0,1,6,{"$f":"IF(#REF!=1,IFERROR(VLOOKUP(#REF!,[1]Sheet1!$A:$N,U$2,FALSE),\"\"),\"\")","v":{"$error":"#REF!"}},null,null,"H","H S","1x",{"$f":"IF(R216<>0,LEFT(Z216,1),0)*1","v":0},"500 m"]
[{"$f":"D217&R217","v":"1151"},{"$f":"OFFSET(B217,-1,0)","v":1},"Lør 01.09",115,null,{"$f":"OFFSET(F217,-1,0)","v":"1340"},null,null,null,null,null,null,null,6.273055352674306E-2,null,null,null,1,null,null,{"$f":"IF(#REF!=1,IFERROR(VLOOKUP(#REF!,[1]Sheet1!$A:$N,U$2,FALSE),\"\"),\"\")","v":{"$error":"#REF!"}},null,null,"H","H S","1x",null,"500 m","Christiania Roklub","Kristoffer Lorentzen","09:00",275,null,"Christiania Roklub","Nei",null,"07.04.1989","Ja","M070489KRI06","4449964","03.04.2018","Christiania Roklub","Grete Isachsen Stokke","91338845","greteistokke@hotmail.com;grisach@gmail.com","22.08.2018"]
[{"$f":"D218&R218","v":"1152"},{"$f":"OFFSET(B218,-1,0)","v":1},"Lør 01.09",115,null,{"$f":"OFFSET(F218,-1,0)","v":"1340"},null,null,null,null,null,null,null,0.64713051137030886,null,null,null,2,null,null,{"$f":"IF(#REF!=1,IFERROR(VLOOKUP(#REF!,[1]Sheet1!$A:$N,U$2,FALSE),\"\"),\"\")","v":{"$error":"#REF!"}},null,null,"H","H S","1x",null,"500 m","Bærum Roklubb","Halvor Hølmkjær West","09:00",275,null,"Bærum Roklubb","Nei",null,"09.02.1994","Ja","M090294HAL02","5993966","13.04.2018","Bærum Roklubb","Bente Dingen","45411863","bente.dingen@lundin-norway.no","21.08.2018"]
[{"$f":"D219&R219","v":"1153"},{"$f":"OFFSET(B219,-1,0)","v":1},"Lør 01.09",115,null,{"$f":"OFFSET(F219,-1,0)","v":"1340"},null,null,null,null,null,null,null,0.46684502751974244,null,null,null,3,null,null,{"$f":"IF(#REF!=1,IFERROR(VLOOKUP(#REF!,[1]Sheet1!$A:$N,U$2,FALSE),\"\"),\"\")","v":{"$error":"#REF!"}},null,null,"H","H S","1x",null,"500 m","Haldens Roklub","Thomas Furuvarp","09:00",275,null,"Haldens Roklub","Nei",null,"29.06.1995","Ja","M290695THO04","5304581","13.04.2018","Haldens Roklub",null,"91725846","oskarvanetten@gmail.com","22.08.2018"]
[{"$f":"D220&R220","v":"1154"},{"$f":"OFFSET(B220,-1,0)","v":1},"Lør 01.09",115,null,{"$f":"OFFSET(F220,-1,0)","v":"1340"},null,null,null,null,null,null,null,0.81952600921376895,null,null,null,4,null,null,{"$f":"IF(#REF!=1,IFERROR(VLOOKUP(#REF!,[1]Sheet1!$A:$N,U$2,FALSE),\"\"),\"\")","v":{"$error":"#REF!"}},null,null,"H","H S","1x",null,"500 m","Christiania Roklub","Erik  Johansen","09:00",275,null,"Christiania Roklub","Nei",null,"26.06.2001","Nei","M260601ERI03","7563109","03.04.2018","Christiania Roklub","Grete Isachsen Stokke","91338845","greteistokke@hotmail.com;grisach@gmail.com","22.08.2018"]
[{"$f":"D221&R221","v":"1155"},{"$f":"OFFSET(B221,-1,0)","v":1},"Lør 01.09",115,null,{"$f":"OFFSET(F221,-1,0)","v":"1340"},null,null,null,null,null,null,null,0.64752509964440674,null,null,null,5,null,null,{"$f":"IF(#REF!=1,IFERROR(VLOOKUP(#REF!,[1]Sheet1!$A:$N,U$2,FALSE),\"\"),\"\")","v":{"$error":"#REF!"}},null,null,"H","H S","1x",null,"500 m","Bærum Roklubb","Espen Finanger","09:00",275,null,"Bærum Roklubb","Nei",null,"19.05.1975","Ja","M190575ESP02","587671",null,"Bærum Roklubb","Bente Dingen","45411863","bente.dingen@lundin-norway.no","22.08.2018"]
[null,null,null,null,null,null,null,null,null,null,null,null,null,0.54021449182293158,null,null,null,null,null,null,{"$f":"IF(#REF!=1,IFERROR(VLOOKUP(#REF!,[1]Sheet1!$A:$N,U$2,FALSE),\"\"),\"\")","v":{"$error":"#REF!"}},null,null,null,null,null,null,null,null,null,null,null,null,"Nei",null,"29.06.1995","Ja","M290695THO04","5304581","25.04.2016","Haldens Roklub","Eivind Borring Hansen","97588834","eivind@hkpensjon.no;eivhan@gmail.com","17.08.2016"]
[{"$f":"D223&R223","v":"1160"},0,"Lør 01.09",116,null,{"$f":"VLOOKUP($D223,Tidsplan!$B:$D,3,FALSE)","v":"1345"},{"$f":"VLOOKUP($D223,Tidsplan!$B:$D,2,FALSE)","v":""},null,null,null,null,null,null,0.30706718014083045,null,"K ",null,0,null,null,{"$f":"IF(#REF!=1,IFERROR(VLOOKUP(#REF!,[1]Sheet1!$A:$N,U$2,FALSE),\"\"),\"\")","v":{"$error":"#REF!"}},null,null,"D","DJA","4-",{"$f":"IF(R223<>0,LEFT(Z223,1),0)*1","v":0},500]
[null,null,"Lør 01.09",null,null,null,null,null,null,null,null,null,null,0.39594243772312143,null,null,null,1,null,null,{"$f":"IF(#REF!=1,IFERROR(VLOOKUP(#REF!,[1]Sheet1!$A:$N,U$2,FALSE),\"\"),\"\")","v":{"$error":"#REF!"}},null,null,"D","D J A","4-",null,"500 m","Bærum Roklubb 1","Caitlin Isabelle Aalders\nThea Hertzum Aunaas\nStina Halvorsen Vad\nIda Aurora Moberg Værnes","09:00",375,null,"Bærum Roklubb",null,null,"03.06.2001\n15.01.2001\n26.09.2000\n22.05.2002","Ja\nJa\nJa\nNei","K030601CAI03\nK150101THE02\nK260900STI02\nK220502IDA01","7289717\n6790513\n6778019\n4612874","17.04.2018\n17.04.2018\n13.04.2018\n","Bærum Roklubb\nBærum Roklubb\nBærum Roklubb\nUkjent/ikke registrert klubb","Bente Dingen\n","45411863\n","bente.dingen@lundin-norway.no\n","22.08.2018\n22.08.2018\n22.08.2018\n22.08.2018"]
[{"$f":"D225&R225","v":"1170"},1,"Lør 01.09",117,null,{"$f":"VLOOKUP($D225,Tidsplan!$B:$D,3,FALSE)","v":"1350"},{"$f":"VLOOKUP($D225,Tidsplan!$B:$D,2,FALSE)","v":""},null,null,null,null,null,null,0.10647513658575014,"",null,null,0,null,null,{"$f":"IF(#REF!=1,IFERROR(VLOOKUP(#REF!,[1]Sheet1!$A:$N,U$2,FALSE),\"\"),\"\")","v":{"$error":"#REF!"}},null,null,"H","HSL","2x",{"$f":"IF(R225<>0,LEFT(Z225,1),0)*1","v":0},"500 m",null,"113 ror sammen med 117"]
[{"$f":"D226&R226","v":"1180"},1,"Lør 01.09",118,null,{"$f":"VLOOKUP($D226,Tidsplan!$B:$D,3,FALSE)","v":"1350"},{"$f":"VLOOKUP($D226,Tidsplan!$B:$D,2,FALSE)","v":""},null,null,null,null,null,null,0.42112008396947753,"",null,null,0,null,null,{"$f":"IF(#REF!=1,IFERROR(VLOOKUP(#REF!,[1]Sheet1!$A:$N,U$2,FALSE),\"\"),\"\")","v":{"$error":"#REF!"}},null,null,"D","DS","2x",{"$f":"IF(R226<>0,LEFT(Z226,1),0)*1","v":0},"500 m",null,"113 ror sammen med 117"]
[{"$f":"D227&R227","v":"1161"},{"$f":"OFFSET(B227,-1,0)","v":1},"Lør 01.09",116,null,{"$f":"VLOOKUP($D227,Tidsplan!$B:$D,3,FALSE)","v":"1345"},null,null,null,null,null,null,null,0.97950381834837463,null,null,null,1,null,null,{"$f":"IF(#REF!=1,IFERROR(VLOOKUP(#REF!,[1]Sheet1!$A:$N,U$2,FALSE),\"\"),\"\")","v":{"$error":"#REF!"}},null,null,"D","D S","2x",null,"500 m ","Bærum Roklubb 1","Oda Endresen\nMaria Fonneløp Inderberg","09:00",325,null,"Bærum Roklubb",null,null,"07.03.1992\n28.02.1994","Ja\nJa","K070392ODA03\nK280294MAR04","6631175\n8081992","\n","Bærum Roklubb\nBærum Roklubb","Bente Dingen\n","45411863\n","bente.dingen@lundin-norway.no\n","21.08.2018\n21.08.2018"]
[{"$f":"D228&R228","v":"1162"},{"$f":"OFFSET(B228,-1,0)","v":1},"Lør 01.09",116,null,{"$f":"VLOOKUP($D228,Tidsplan!$B:$D,3,FALSE)","v":"1345"},null,null,null,null,null,null,null,0.28427341741380763,null,null,null,2,null,null,{"$f":"IF(#REF!=1,IFERROR(VLOOKUP(#REF!,[1]Sheet1!$A:$N,U$2,FALSE),\"\"),\"\")","v":{"$error":"#REF!"}},null,null,"D","D S","2x",null,"500 m ","Moss Roklubb 1","Marika Erlandsen\nLise Meinike Dørre","09:00",325,null,"Moss Roklubb",null,null,"29.07.1976\n13.02.2000","Ja\nNei","K290776MAR05\nK130200LIS02","7170315\n6059397","\n","Norske Studenters Roklub,Oslo Roklubb\nÅrungen Ro- og Kajakklubb","Jon Børre Rekstad\n","92252667\n","rekstad0@gmail.com\n","22.08.2018\n22.08.2018"]
[null,null,null,null,null,null,null,null,null,null,null,null,null,null,null,null,null,null,null,null,{"$f":"IF(#REF!=1,IFERROR(VLOOKUP(#REF!,[1]Sheet1!$A:$N,U$2,FALSE),\"\"),\"\")","v":{"$error":"#REF!"}}]
[{"$f":"D230&R234","v":"1194"},1,"Lør 01.09",119,null,{"$f":"VLOOKUP($D230,Tidsplan!$B:$D,3,FALSE)","v":"1355"},{"$f":"VLOOKUP($D230,Tidsplan!$B:$D,2,FALSE)","v":""},null,null,null,null,null,null,0.67814070967345585," ",null,null,0,null,null,{"$f":"IF(#REF!=1,IFERROR(VLOOKUP(#REF!,[1]Sheet1!$A:$N,U$2,FALSE),\"\"),\"\")","v":{"$error":"#REF!"}},null,null,"H","H J C","2x",{"$f":"IF(R234<>0,LEFT(Z230,1),0)*1","v":2},"500 m ",null,"104 ror med i dette løpet"]
["1195",{"$f":"OFFSET(B231,-1,0)","v":1},"Lør 01.09",119,null,{"$f":"OFFSET(F231,-1,0)","v":"1355"},null,null,null,null,null,null,null,6.6631927250670686E-2,null,null,1,1,null,null,{"$f":"IF(#REF!=1,IFERROR(VLOOKUP(#REF!,[1]Sheet1!$A:$N,U$2,FALSE),\"\"),\"\")","v":{"$error":"#REF!"}},null,null,"H","H J C","2x",null,"500 m ","Aalesunds Roklub 4","Philip Andreas Monsen\nErlend Devold Refsum","09:00",325,null,"Aalesunds Roklub",null,null,"02.02.2005\n12.05.2004","Ja\nJa","M020205PHI01\nM120504ERL04","6948464\n8150106","30.05.2018\n30.05.2018","Aalesunds Roklub\nAalesunds Roklub","Johan Gerhard Myklebust\n","90894714\n","johan.myklebust@nordea.no\n","21.08.2018\n21.08.2018"]
["1196",1,"Lør 01.09",119,null,"1355",null,null,null,null,null,null,null,0.19610912015116688,null,null,1,2,null,null,{"$f":"IF(#REF!=1,IFERROR(VLOOKUP(#REF!,[1]Sheet1!$A:$N,U$2,FALSE),\"\"),\"\")","v":{"$error":"#REF!"}},null,null,"H","H J C","2x",null,"500 m ","Ormsund Roklub 1","Max Carl Andresen\nTruls Oskar Hansen","09:00",325,null,"Ormsund Roklub",null,null,"22.06.2004\n22.07.2004","Ja\nJa","M220604MAX04\nM220704TRU01","7259283\n7203412","06.04.2018\n06.04.2018","Ormsund Roklub\nOrmsund Roklub","Eva Hansen\n","90799966\n","eva.hansen@wenaasnordic.com\n","22.08.2018\n22.08.2018"]
["1197",1,"Lør 01.09",119,null,"1355",null,null,null,null,null,null,null,0.28408353925202812,null,null,1,3,null,null,{"$f":"IF(#REF!=1,IFERROR(VLOOKUP(#REF!,[1]Sheet1!$A:$N,U$2,FALSE),\"\"),\"\")","v":{"$error":"#REF!"}},null,null,"H","H J C","2x",null,"500 m ","Bærum Roklubb 1","Noah Holger Johnsen Fangel\nBrage Skaar","09:00",325,null,"Bærum Roklubb",null,null,"24.10.2004\n27.12.2004","Ja\nJa","M241004NOA04\nM271204BRA01","8111044\n5137898","05.06.2018\n13.06.2018","Bærum Roklubb\nBærum Roklubb","Bente Dingen\n","45411863\n","bente.dingen@lundin-norway.no\n","20.08.2018\n20.08.2018"]
["1198",1,"Lør 01.09",119,null,"1355",null,null,null,null,null,null,null,0.11661028906067872,null,null,1,4,null,null,{"$f":"IF(#REF!=1,IFERROR(VLOOKUP(#REF!,[1]Sheet1!$A:$N,U$2,FALSE),\"\"),\"\")","v":{"$error":"#REF!"}},null,null,"H","H J C","2x",null,"500 m ","Aalesunds Roklub 3","Gabriel Pedersen\nHeine Klauset Furuli","09:00",325,null,"Aalesunds Roklub",null,null,"24.11.2004\n31.07.2005","Ja\nJa","M241104GAB01\nM310705HEI05","7633038\n6582360","30.05.2018\n30.05.2018","Aalesunds Roklub\nAalesunds Roklub","Johan Gerhard Myklebust\n","90894714\n","johan.myklebust@nordea.no\n","21.08.2018\n21.08.2018"]
["1199",1,"Lør 01.09",119,null,"1355",null,null,null,null,null,null,null,0.3280943288346464,null,null,1,5,null,null,{"$f":"IF(#REF!=1,IFERROR(VLOOKUP(#REF!,[1]Sheet1!$A:$N,U$2,FALSE),\"\"),\"\")","v":{"$error":"#REF!"}},null,null,"H","H J C","2x",null,"500 m ","Norske Studenters Roklub 1","Aksel Glomnes Rudi\nMathis Adrian Grimstad","09:00",325,null,"Norske Studenters Roklub",null,null,"22.10.2005\n16.07.2006","Ja\nNei","M221005AKS02\nM160706MAT02","5564987\n5820353","07.06.2018\n22.06.2018","Norske Studenters Roklub\nNorske Studenters Roklub","Erik Juel\n","48039369\n","eri-juel@online.no\n","22.08.2018\n22.08.2018"]
["11910",1,"Lør 01.09",119,null,"1355",null,null,null,null,null,null,null,0.49752902713987257,null,null,1,6,null,null,{"$f":"IF(#REF!=1,IFERROR(VLOOKUP(#REF!,[1]Sheet1!$A:$N,U$2,FALSE),\"\"),\"\")","v":{"$error":"#REF!"}},null,null,"H","H J C","2x",null,"500 m ","Christiania Roklub 3","Jacob Balder Hagen\nLorentz Andreas Rogge Pran","09:00",325,null,"Christiania Roklub",null,null,"14.01.2004\n29.01.2004","Ja\nJa","M140104JAC01\nM290104LOR01","7522750\n8138326","\n06.03.2018","Christiania Roklub\nChristiania Roklub","Grete Isachsen Stokke\n","91338845\n","greteistokke@hotmail.com;grisach@gmail.com\n","22.08.2018\n22.08.2018"]
["11911",1,"Lør 01.09",119,null,"1355",null,null,null,null,null,null,null,0.52942797581459045,null,null,2,7,null,null,{"$f":"IF(#REF!=1,IFERROR(VLOOKUP(#REF!,[1]Sheet1!$A:$N,U$2,FALSE),\"\"),\"\")","v":{"$error":"#REF!"}},null,null,"H","H J C","2x",null,"500 m ","Christiania Roklub 1","Jostein Eriksen Thon\nChristoffer Widding","09:00",325,null,"Christiania Roklub",null,null,"08.01.2004\n25.04.2004","Ja\nJa","M080104JOS02\nM250404CHR01","6201834\n5051812","06.03.2018\n06.03.2018","Christiania Roklub\nChristiania Roklub","Grete Isachsen Stokke\n","91338845\n","greteistokke@hotmail.com;grisach@gmail.com\n","22.08.2018\n22.08.2018"]
["11912",1,"Lør 01.09",119,null,"1355",null,null,null,null,null,null,null,0.60882538598705715,null,null,2,8,null,null,{"$f":"IF(#REF!=1,IFERROR(VLOOKUP(#REF!,[1]Sheet1!$A:$N,U$2,FALSE),\"\"),\"\")","v":{"$error":"#REF!"}},null,null,"H","H J C","2x",null,"500 m ","Tønsberg Roklub 1","Edvin Ingvaldsen\nErik Kyvik Sandvik","09:00",325,null,"Tønsberg Roklub",null,null,"24.04.2005\n07.09.2007","Ja\nNei","M240405EDV04\nM070907ERI02","8171027\n6452187","01.05.2018\n01.05.2018","Tønsberg Roklub\nTønsberg Roklub","Svend Andersen\n","92061715\n","svendandersen@me.com\n","22.08.2018\n22.08.2018"]
["11913",1,"Lør 01.09",119,null,"1355",null,null,null,null,null,null,null,0.71495399736514664,null,null,2,9,null,null,{"$f":"IF(#REF!=1,IFERROR(VLOOKUP(#REF!,[1]Sheet1!$A:$N,U$2,FALSE),\"\"),\"\")","v":{"$error":"#REF!"}},null,null,"H","H J C","2x",null,"500 m ","Bærum Roklubb 4","Jacob Philip Munthe\nBrage Alexander Rognli","09:00",325,null,"Bærum Roklubb",null,null,"30.04.2005\n19.02.2005","Ja\nJa","M300405JAC02\nM190205BRA01","8085498\n4214459","13.06.2018\n05.08.2018","Bærum Roklubb\nBærum Roklubb","Bente Dingen\n","45411863\n","bente.dingen@lundin-norway.no\n","20.08.2018\n20.08.2018"]
["11914",1,"Lør 01.09",119,null,"1355",null,null,null,null,null,null,null,0.82195183132914018,null,null,2,10,null,null,{"$f":"IF(#REF!=1,IFERROR(VLOOKUP(#REF!,[1]Sheet1!$A:$N,U$2,FALSE),\"\"),\"\")","v":{"$error":"#REF!"}},null,null,"H","H J C","2x",null,"500 m ","Aalesunds Roklub 1","Peter Prytz Berset\nMads Reite","09:00",325,null,"Aalesunds Roklub",null,null,"22.12.2005\n27.05.2006","Ja\nNei","M221205PET02\nM270506MAD02","7619015\n8233207","30.05.2018\n30.05.2018","Aalesunds Roklub\nAalesunds Roklub","Johan Gerhard Myklebust\n","90894714\n","johan.myklebust@nordea.no\n","21.08.2018\n21.08.2018"]
["11915",1,"Lør 01.09",119,null,"1355",null,null,null,null,null,null,null,0.86231273670826258,null,null,2,11,null,null,{"$f":"IF(#REF!=1,IFERROR(VLOOKUP(#REF!,[1]Sheet1!$A:$N,U$2,FALSE),\"\"),\"\")","v":{"$error":"#REF!"}},null,null,"H","H J C","2x",null,"500 m ","Sarpsborg Roklubb ","Nor Mustafa\nMarius Antonsen Thime","09:00",325,null,"Sarpsborg Roklubb - Roing",null,null,"22.10.2004\n07.06.2004","Ja\nJa","M221004NOR01\nM070604MAR06","6917184\n6707662","22.03.2018\n22.03.2018","Sarpsborg Roklubb - Roing\nSarpsborg Roklubb - Roing","Thomas Gundersen\n","91874904\n","Thomas.gundersen@afgruppen.no;thomas.gundersen@afgruppen.no\n","22.08.2018\n22.08.2018"]
["11916",1,"Lør 01.09",119,null,"1355",null,null,null,null,null,null,null,0.90909864487264225,null,null,2,12,null,null,{"$f":"IF(#REF!=1,IFERROR(VLOOKUP(#REF!,[1]Sheet1!$A:$N,U$2,FALSE),\"\"),\"\")","v":{"$error":"#REF!"}},null,null,"H","H J C","2x",null,"500 m ","Bærum Roklubb 3","Thov Espeseth\nFerdinand Zachariassen Tenden","09:00",325,null,"Bærum Roklubb",null,null,"29.06.2005\n25.02.2005","Ja\nJa","M290605THO01\nM250205FER01","7328781\n5587277","05.06.2018\n05.08.2018","Bærum Roklubb\nBærum Roklubb","Bente Dingen\n","45411863\n","bente.dingen@lundin-norway.no\n","20.08.2018\n20.08.2018"]
["11917",1,"Lør 01.09",119,null,"1355",null,null,null,null,null,null,null,0.9549463178809845,null,null,3,13,null,null,{"$f":"IF(#REF!=1,IFERROR(VLOOKUP(#REF!,[1]Sheet1!$A:$N,U$2,FALSE),\"\"),\"\")","v":{"$error":"#REF!"}},null,null,"H","H J C","2x",null,"500 m ","Moss Roklubb 2","Vincent Georg Erik Brooke\nKim-Daniel Klarholm Munoz","09:00",325,null,"Moss Roklubb",null,null,"20.06.2006\n30.12.2005","Nei\nJa","M200606VIN03\nM301205KIM02","5373415\n5477783","22.03.2018\n22.03.2018","Moss Roklubb\nMoss Roklubb","Jon Børre Rekstad\n","92252667\n","rekstad0@gmail.com\n","22.08.2018\n22.08.2018"]
[{"$f":"D244&#REF!","v":{"$error":"#REF!"}},1,"Lør 01.09",119,null,"1355",null,null,null,null,null,null,null,0.91634216650940581,null,null,3,14,null,null,{"$f":"IF(#REF!=1,IFERROR(VLOOKUP(#REF!,[1]Sheet1!$A:$N,U$2,FALSE),\"\"),\"\")","v":{"$error":"#REF!"}},null,null,"H","H J C","2x",null,"500 m ","Aalesunds Roklub 2","Anders Myklebust Øyen\nMagnus Rønstad","09:00",325,null,"Aalesunds Roklub",null,null,"20.07.2005\n28.08.2005","Ja\nJa","M200705AND02\nM280805MAG03","6228122\n7096143","30.05.2018\n30.05.2018","Aalesunds Roklub\nAalesunds Roklub","Johan Gerhard Myklebust\n","90894714\n","johan.myklebust@nordea.no\n","21.08.2018\n21.08.2018"]
[{"$f":"D245&#REF!","v":{"$error":"#REF!"}},1,"Lør 01.09",119,null,"1355",null,null,null,null,null,null,null,0.94298955492641479,null,null,3,15,null,null,{"$f":"IF(#REF!=1,IFERROR(VLOOKUP(#REF!,[1]Sheet1!$A:$N,U$2,FALSE),\"\"),\"\")","v":{"$error":"#REF!"}},null,null,"H","H J C","2x",null,"500 m ","Bærum Roklubb 2","Emil Svanes\nThor Saga","09:00",325,null,"Bærum Roklubb",null,null,"09.02.2005\n28.08.2005","Ja\nJa","M090205EMI01\nM280805THO03","7947640\n6142424","11.05.2018\n05.06.2018","Bærum Roklubb\nBærum Roklubb","Bente Dingen\n","45411863\n","bente.dingen@lundin-norway.no\n","20.08.2018\n20.08.2018"]
[{"$f":"D246&#REF!","v":{"$error":"#REF!"}},1,"Lør 01.09",119,null,"1355",null,null,null,null,null,null,null,0.95984851767405777,null,null,3,16,null,null,{"$f":"IF(#REF!=1,IFERROR(VLOOKUP(#REF!,[1]Sheet1!$A:$N,U$2,FALSE),\"\"),\"\")","v":{"$error":"#REF!"}},null,null,"H","H J C","2x",null,"500 m ","Moss Roklubb 1","Sigurd Brevold\nOskar Gulin Skoglunn","09:00",325,null,"Moss Roklubb",null,null,"30.08.2004\n26.05.2004","Ja\nJa","M300804SIG03\nM260504OSK01","7678533\n5217507","22.03.2018\n22.03.2018","Moss Roklubb\nMoss Roklubb","Jon Børre Rekstad\n","92252667\n","rekstad0@gmail.com\n","22.08.2018\n22.08.2018"]
[{"$f":"D247&#REF!","v":{"$error":"#REF!"}},1,"Lør 01.09",119,null,"1355",null,null,null,null,null,null,null,0.98367523765848319,null,null,3,17,null,null,{"$f":"IF(#REF!=1,IFERROR(VLOOKUP(#REF!,[1]Sheet1!$A:$N,U$2,FALSE),\"\"),\"\")","v":{"$error":"#REF!"}},null,null,"H","H J C","2x",null,"500 m ","Christiania Roklub 2","Kaspar Olof Hilsen\nJohan isak Bryhni","09:00",325,null,"Christiania Roklub",null,null,"27.04.2005\n31.05.2005","Ja\nJa","M270405KAS03\nM310505JOH03","7758071\n8103116","06.03.2018\n30.05.2018","Christiania Roklub\nChristiania Roklub","Grete Isachsen Stokke\n","91338845\n","greteistokke@hotmail.com;grisach@gmail.com\n","22.08.2018\n22.08.2018"]
[null,null,null,null,null,null,null,null,null,null,null,null,null,null,null,null,null," ",null,null,{"$f":"IF(#REF!=1,IFERROR(VLOOKUP(#REF!,[1]Sheet1!$A:$N,U$2,FALSE),\"\"),\"\")","v":{"$error":"#REF!"}}]
[null,null,"Lør 27.8",null,null,null,null,null,null,null,null,null,null,0.5281639512985985,null,null,null,5,null,null,{"$f":"IF(#REF!=1,IFERROR(VLOOKUP(#REF!,[1]Sheet1!$A:$N,U$2,FALSE),\"\"),\"\")","v":{"$error":"#REF!"}},null,null,null,null,null,{"$f":"IF(R249<>0,LEFT(Z249,1),0)*1","v":{"$error":"#VALUE!"}},null,null,null,null,null,null,null,null,null,null,null,null,null,null,null,null,null,null,null,null,null,null,null,null,11]
[{"$f":"D250&R250","v":"120 "},1,"Lør 01.09",120,null,{"$f":"VLOOKUP($D250,Tidsplan!$B:$D,3,FALSE)","v":"1410"},{"$f":"VLOOKUP($D250,Tidsplan!$B:$D,2,FALSE)","v":""},null,null,null,null,null,null,0.39958665310222063," ",null,null," ",null,null,{"$f":"IF(#REF!=1,IFERROR(VLOOKUP(#REF!,[1]Sheet1!$A:$N,U$2,FALSE),\"\"),\"\")","v":{"$error":"#REF!"}},null,null,"D","D J C","1x",{"$f":"IF(R250<>0,LEFT(Z250,1),0)*1","v":1},"500 m"]
["1201",{"$f":"OFFSET(B251,-1,0)","v":1},"Lør 01.09",120,null,{"$f":"OFFSET(F251,-1,0)","v":"1410"},null,null,null,null,null,null,null,0.21123032309706746,null,null,1,1,null,null,{"$f":"IF(#REF!=1,IFERROR(VLOOKUP(#REF!,[1]Sheet1!$A:$N,U$2,FALSE),\"\"),\"\")","v":{"$error":"#REF!"}},null,null,"D","D J C","1x",null,"500 m","Aalesunds Roklub","Ida Sofie Lorgen","09:00",275,null,"Aalesunds Roklub","Nei",null,"22.03.2005","Ja","K220305IDA04","7094408","30.05.2018","Aalesunds Roklub","Johan Myklebust","90894714","johan.myklebust@nordea.no","21.08.2018"]
["1202",1,"Lør 01.09",120,null,"1410",null,null,null,null,null,null,null,0.19822017354795363,null,null,1,2,null,null,{"$f":"IF(#REF!=1,IFERROR(VLOOKUP(#REF!,[1]Sheet1!$A:$N,U$2,FALSE),\"\"),\"\")","v":{"$error":"#REF!"}},null,null,"D","D J C","1x",null,"500 m","Ormsund Roklub","Embla Reykdal","09:00",275,null,"Ormsund Roklub","Nei",null,"17.01.2004","Ja","K170104EMB01","7697937","06.04.2018","Ormsund Roklub","Eva Hansen","90799966","eva.hansen@wenaasnordic.com","22.08.2018"]
["1203",1,"Lør 01.09",120,null,"1410",null,null,null,null,null,null,null,0.2065665856344282,null,null,1,3,null,null,{"$f":"IF(#REF!=1,IFERROR(VLOOKUP(#REF!,[1]Sheet1!$A:$N,U$2,FALSE),\"\"),\"\")","v":{"$error":"#REF!"}},null,null,"D","D J C","1x",null,"500 m","Drammen Roklubb ","Andrea Willand-Evensen","09:00",275,null,"Drammen Roklubb ","Nei",null,"02.01.2005","Ja","K020105AND01","5443894","12.03.2018","Drammen Roklubb ",null,"90660478","beatepharo@gmail.com","21.08.2018"]
["1204",1,"Lør 01.09",120,null,"1410",null,null,null,null,null,null,null,0.20733536785213291,null,null,1,4,null,null,{"$f":"IF(#REF!=1,IFERROR(VLOOKUP(#REF!,[1]Sheet1!$A:$N,U$2,FALSE),\"\"),\"\")","v":{"$error":"#REF!"}},null,null,"D","D J C","1x",null,"500 m","Aalesunds Roklub",null,"09:00",275,null,"Aalesunds Roklub","Nei",null,"29.07.2005","Ja","K290705GUR05","8157743","30.05.2018","Aalesunds Roklub","Johan Myklebust","90894714","johan.myklebust@nordea.no","21.08.2018"]
["1205",1,"Lør 01.09",120,null,"1410",null,null,null,null,null,null,null,0.31385156659247759,null,null,1,5,null,null,{"$f":"IF(#REF!=1,IFERROR(VLOOKUP(#REF!,[1]Sheet1!$A:$N,U$2,FALSE),\"\"),\"\")","v":{"$error":"#REF!"}},null,null,"D","D J C","1x",null,"500 m","Drammen Roklubb ","Emma Tomlinson","09:00",275,null,"Drammen Roklubb ","Nei",null,"19.08.2004","Ja","K190804EMM03","5532186","12.03.2018","Drammen Roklubb ",null,"90660478","beatepharo@gmail.com","21.08.2018"]
["1206",1,"Lør 01.09",120,null,"1410",null,null,null,null,null,null,null,0.55914834519856293,null,null,2,6,null,null,{"$f":"IF(#REF!=1,IFERROR(VLOOKUP(#REF!,[1]Sheet1!$A:$N,U$2,FALSE),\"\"),\"\")","v":{"$error":"#REF!"}},null,null,"D","D J C","1x",null,"500 m","Tønsberg Roklub","Shirin Synnavåg","09:00",275,null,"Tønsberg Roklub","Nei",null,"07.02.2005","Ja","K070205SHI02","7919053","01.05.2018","Tønsberg Roklub",null,"92061715","svendandersen@me.com","22.08.2018"]
["1207",1,"Lør 01.09",120,null,"1410",null,null,null,null,null,null,null,0.58860606989813868,null,null,2,7,null,null,{"$f":"IF(#REF!=1,IFERROR(VLOOKUP(#REF!,[1]Sheet1!$A:$N,U$2,FALSE),\"\"),\"\")","v":{"$error":"#REF!"}},null,null,"D","D J C","1x",null,"500 m","Aalesunds Roklub","Live Strømshoved","09:00",275,null,"Aalesunds Roklub","Nei",null,"16.02.2004","Ja","K160204LIV01","7633009","30.05.2018","Aalesunds Roklub","Johan Myklebust","90894714","johan.myklebust@nordea.no","21.08.2018"]
["1208",1,"Lør 01.09",120,null,"1410",null,null,null,null,null,null,null,0.98333251091913021,null,null,2,8,null,null,{"$f":"IF(#REF!=1,IFERROR(VLOOKUP(#REF!,[1]Sheet1!$A:$N,U$2,FALSE),\"\"),\"\")","v":{"$error":"#REF!"}},null,null,"D","D J C","1x",null,"500 m","Ormsund Roklub","Tyra Eklo Hjemdal","09:00",275,null,"Ormsund Roklub","Nei",null,"18.12.2004","Ja","K181204TYR02","7259282","06.04.2018","Ormsund Roklub","Eva Hansen","90799966","eva.hansen@wenaasnordic.com","22.08.2018"]
["1209",1,"Lør 01.09",120,null,"1410",null,null,null,null,null,null,null,0.87166867408120929,null,null,2,9,null,null,{"$f":"IF(#REF!=1,IFERROR(VLOOKUP(#REF!,[1]Sheet1!$A:$N,U$2,FALSE),\"\"),\"\")","v":{"$error":"#REF!"}},null,null,"D","D J C","1x",null,"500 m","Drammen Roklubb ","Tale Tollefsen Seip","09:00",275,null,"Drammen Roklubb ","Nei",null,"23.02.2004","Ja","K230304TAL01","7310638","12.03.2018","Drammen Roklubb ",null,"90660478","beatepharo@gmail.com","21.08.2018"]
["12010",1,"Lør 01.09",120,null,"1410",null,null,null,null,null,null,null,0.75918503460066977,null,null,2,10,null,null,{"$f":"IF(#REF!=1,IFERROR(VLOOKUP(#REF!,[1]Sheet1!$A:$N,U$2,FALSE),\"\"),\"\")","v":{"$error":"#REF!"}},null,null,"D","D J C","1x",null,"500 m","Aalesunds Roklub","Selma Steen Bjørlykke","09:00",275,null,"Aalesunds Roklub","Nei",null,"31.01.2004","Ja","K310104SEL01","6871648","30.05.2018","Aalesunds Roklub","Johan Myklebust","90894714","johan.myklebust@nordea.no","21.08.2018"]
["12011",1,"Lør 01.09",120,null,"1410",null,null,null,null,null,null,null,0.90557939305563351,null,null,3,11,null,null,{"$f":"IF(#REF!=1,IFERROR(VLOOKUP(#REF!,[1]Sheet1!$A:$N,U$2,FALSE),\"\"),\"\")","v":{"$error":"#REF!"}},null,null,"D","D J C","1x",null,"500 m","Trondhjems Roklubb","Mari Hasle Falch","09:00",275,null,"Trondhjems Roklubb","Nei",null,"12.04.2004","Ja","K120404MAR04","4108903","08.08.2018","Trondhjems Roklubb","Solveig Berthung","90999147","solveig.berthung@gmail.com;solveig.berthung@trondhjems-roklub.no","22.08.2018"]
["12012",1,"Lør 01.09",120,null,"1410",null,null,null,null,null,null,null,0.92338851525711163,null,null,3,12,null,null,{"$f":"IF(#REF!=1,IFERROR(VLOOKUP(#REF!,[1]Sheet1!$A:$N,U$2,FALSE),\"\"),\"\")","v":{"$error":"#REF!"}},null,null,"D","D J C","1x",null,"500 m","Sarpsborg Roklubb - Roing",null,"09:00",275,null,"Sarpsborg Roklubb - Roing","Nei",null,"13.04.2006","Nei","K130406MAR07","8128455","22.03.2018","Sarpsborg Roklubb - Roing","Thomas Gundersen","91874904","Thomas.gundersen@afgruppen.no;thomas.gundersen@afgruppen.no","22.08.2018"]
["12013",1,"Lør 01.09",120,null,"1410",null,null,null,null,null,null,null,0.63199817371766442,null,null,3,13,null,null,{"$f":"IF(#REF!=1,IFERROR(VLOOKUP(#REF!,[1]Sheet1!$A:$N,U$2,FALSE),\"\"),\"\")","v":{"$error":"#REF!"}},null,null,"D","D J C","1x",null,"500 m","Aalesunds Roklub","Martine N. Henriksen","09:00",275,null,"Aalesunds Roklub","Nei",null,"30.09.2004","Ja","K300904MAR06","7258646","30.05.2018","Aalesunds Roklub","Johan Myklebust","90894714","johan.myklebust@nordea.no","21.08.2018"]
["12014",1,"Lør 01.09",120,null,"1410",null,null,null,null,null,null,null,0.95552978732251903,null,null,3,14,null,null,{"$f":"IF(#REF!=1,IFERROR(VLOOKUP(#REF!,[1]Sheet1!$A:$N,U$2,FALSE),\"\"),\"\")","v":{"$error":"#REF!"}},null,null,"D","D J C","1x",null,"500 m","Ormsund Roklub","Anna Luna Bjønness Yngsdal","09:00",275,null,"Ormsund Roklub","Nei",null,"31.12.2004","Ja","K311204ANN05","7203396","06.04.2018","Ormsund Roklub","Eva Hansen","90799966","eva.hansen@wenaasnordic.com","22.08.2018"]
[null,null,null,null,null,null,null,null,null,null,null,null,null,null,null,null,null,null,null,null,{"$f":"IF(#REF!=1,IFERROR(VLOOKUP(#REF!,[1]Sheet1!$A:$N,U$2,FALSE),\"\"),\"\")","v":{"$error":"#REF!"}}]
[{"$f":"D266&R266","v":"121"},1,"Lør 01.09",121,null,{"$f":"VLOOKUP($D266,Tidsplan!$B:$D,3,FALSE)","v":"1425"},{"$f":"VLOOKUP($D266,Tidsplan!$B:$D,2,FALSE)","v":"0925"},null,null,null,null,"0930",null,0.37531682293583746,null,"K",null,null,null,null,{"$f":"IF(#REF!=1,IFERROR(VLOOKUP(#REF!,[1]Sheet1!$A:$N,U$2,FALSE),\"\"),\"\")","v":{"$error":"#REF!"}},null,null,"H","H J B","2x",{"$f":"IF(R266<>0,LEFT(Z266,1),0)*1","v":0},"500 m "]
[{"$f":"D267&R267","v":"121"},{"$f":"OFFSET(B267,-1,0)","v":1},"Lør 01.09",121,null,{"$f":"OFFSET(F267,-1,0)","v":"1425"},"0925",null,null,null,null,null,null,0.41701517003918398,null,null,null,null,null,null,{"$f":"IF(#REF!=1,IFERROR(VLOOKUP(#REF!,[1]Sheet1!$A:$N,U$2,FALSE),\"\"),\"\")","v":{"$error":"#REF!"}},null,null,"H","H J B","2x",null,"500 m ","Christiania Roklub 1","Jonathan Wang-Norderud\nMarius Bjørn-Hansen Ahlsand","09:00",325,null,"Christiania Roklub",null,null,"19.07.2002\n22.01.2002","Ja\nJa","M190702JON01\nM220102MAR12","5260818\n7781581","\n06.03.2018","Christiania Roklub\nChristiania Roklub","Grete Isachsen Stokke\n","91338845\n","greteistokke@hotmail.com;grisach@gmail.com\n","22.08.2018\n22.08.2018"]
["121",1,"Lør 01.09",121,null,"1425","0925",null,null,null,null,null,null,0.3069441503348902,null,null,null,null,null,null,{"$f":"IF(#REF!=1,IFERROR(VLOOKUP(#REF!,[1]Sheet1!$A:$N,U$2,FALSE),\"\"),\"\")","v":{"$error":"#REF!"}},null,null,"H","H J B","2x",null,"500 m ","Christiania Roklub 2","Elias Mahler\nÅsmund Olai Sand-Larsen","09:00",325,null,"Christiania Roklub",null,null,"22.12.2002\n15.10.2002","Ja\nJa","M221202ELI03\nM151002ÅSM01","5391954\n4513284","06.03.2018\n06.03.2018","Christiania Roklub\nChristiania Roklub","Grete Isachsen Stokke\n","91338845\n","greteistokke@hotmail.com;grisach@gmail.com\n","22.08.2018\n22.08.2018"]
["121",1,"Lør 01.09",121,null,"1425","0925",null,null,null,null,null,null,0.72911533304893983,null,null,null,null,null,null,{"$f":"IF(#REF!=1,IFERROR(VLOOKUP(#REF!,[1]Sheet1!$A:$N,U$2,FALSE),\"\"),\"\")","v":{"$error":"#REF!"}},null,null,"H","H J B","2x",null,"500 m ","Drammen Roklubb  1","Ulrik Pharo Lohne\nHampus Erik Vesterberg-Heltne","09:00",325,null,"Drammen Roklubb ",null,null,"09.05.2004\n07.02.2003","Nei\nJa","M090504ULR01\nM070203HAM03","5057646\n6756072","12.03.2018\n12.03.2018","Drammen Roklubb \nDrammen Roklubb ","Beate Pharo\n","90660478\n","beatepharo@gmail.com\n","21.08.2018\n21.08.2018"]
["121",1,"Lør 01.09",121,null,"1425","0925",null,null,null,null,null,null,0.84233862103628421,null,null,null,null,null,null,{"$f":"IF(#REF!=1,IFERROR(VLOOKUP(#REF!,[1]Sheet1!$A:$N,U$2,FALSE),\"\"),\"\")","v":{"$error":"#REF!"}},null,null,"H","H J B","2x",null,"500 m ","Drammen Roklubb  3","Sebastian Meier Rasmussen\nJohan Sebastian Remmen","09:00",325,null,"Drammen Roklubb ",null,null,"14.04.2003\n14.07.2003","Ja\nJa","M140403SEB04\nM140703JOH03","7710737\n6131539","\n12.03.2018","Drammen Roklubb \nDrammen Roklubb ","Beate Pharo\n","90660478\n","beatepharo@gmail.com\n","21.08.2018\n21.08.2018"]
["121",1,"Lør 01.09",121,null,"1425","0925",null,null,null,null,null,null,0.24917932307386503,null,null,null,null,null,null,{"$f":"IF(#REF!=1,IFERROR(VLOOKUP(#REF!,[1]Sheet1!$A:$N,U$2,FALSE),\"\"),\"\")","v":{"$error":"#REF!"}},null,null,"H","H J B","2x",null,"500 m ","Drammen Roklubb  4","Christian Juven Brandt\nHåkon Villum Hansen","09:00",325,null,"Drammen Roklubb ",null,null,"16.09.2003\n04.05.2004","Ja\nNei","M160903CHR01\nM040504HÅK13","4573154\n8104025","10.04.2018\n30.05.2018","Drammen Roklubb \nDrammen Roklubb ","Beate Pharo\n","90660478\n","beatepharo@gmail.com\n","21.08.2018\n21.08.2018"]
["121",1,"Lør 01.09",121,null,"1425","0925",null,null,null,null,null,null,0.8187644971082878,null,null,null,null,null,null,{"$f":"IF(#REF!=1,IFERROR(VLOOKUP(#REF!,[1]Sheet1!$A:$N,U$2,FALSE),\"\"),\"\")","v":{"$error":"#REF!"}},null,null,"H","H J B","2x",null,"500 m ","Moss Roklubb 1","Simen Solbakken Thømt\nSimen Meinike Dørre","09:00",325,null,"Moss Roklubb",null,null,"17.05.2002\n01.04.2003","Ja\nJa","M170502SIM07\nM010403SIM03","7189809\n7261136","22.03.2018\n22.03.2018","Moss Roklubb\nMoss Roklubb","Jon Børre Rekstad\n","92252667\n","rekstad0@gmail.com\n","22.08.2018\n22.08.2018"]
["121",1,"Lør 01.09",121,null,"1425","0925",null,null,null,null,null,null,0.29465001128830726,null,null,null,null,null,null,{"$f":"IF(#REF!=1,IFERROR(VLOOKUP(#REF!,[1]Sheet1!$A:$N,U$2,FALSE),\"\"),\"\")","v":{"$error":"#REF!"}},null,null,"H","H J B","2x",null,"500 m ","Norske Studenters Roklub 1","Kristofer Grønntun\nKnut Wang Melbye","09:00",325,null,"Norske Studenters Roklub",null,null,"28.07.2003\n29.06.2002","Ja\nJa","M280703KRI02\nM290602KNU03","4936947\n8137181","07.06.2018\n29.03.2018","Norske Studenters Roklub\nNorske Studenters Roklub","Erik Juel\n","48039369\n","eri-juel@online.no\n","22.08.2018\n22.08.2018"]
["121",1,"Lør 01.09",121,null,"1425","0925",null,null,null,null,null,null,0.38887859933560265,null,null,null,null,null,null,{"$f":"IF(#REF!=1,IFERROR(VLOOKUP(#REF!,[1]Sheet1!$A:$N,U$2,FALSE),\"\"),\"\")","v":{"$error":"#REF!"}},null,null,"H","H J B","2x",null,"500 m ","Norske Studenters Roklub 2","Trygve Bye Løken\nBror Henrik Flyen Storsten","09:00",325,null,"Norske Studenters Roklub",null,null,"22.04.2003\n17.01.2002","Ja\nJa","M220403TRY05\nM170102BRO01","8235153\n5003101","29.03.2018\n","Norske Studenters Roklub\nNorske Studenters Roklub","Erik Juel\n","48039369\n","eri-juel@online.no\n","22.08.2018\n22.08.2018"]
["121",1,"Lør 01.09",121,null,"1425","0925",null,null,null,null,null,null,8.2459631102320685E-2,null,null,null,null,null,null,{"$f":"IF(#REF!=1,IFERROR(VLOOKUP(#REF!,[1]Sheet1!$A:$N,U$2,FALSE),\"\"),\"\")","v":{"$error":"#REF!"}},null,null,"H","H J B","2x",null,"500 m ","Sarpsborg Roklubb ","Håkon Grønberg Møller\nOliver Andreas Melnes","09:00",325,null,"Sarpsborg Roklubb - Roing",null,null,"22.12.2002\n24.02.2002","Ja\nJa","M221202HÅK01\nM240202OLI01","6848301\n7448632","22.03.2018\n","Sarpsborg Roklubb - Roing\nSarpsborg Roklubb - Roing","Thomas Gundersen\n","91874904\n","Thomas.gundersen@afgruppen.no;thomas.gundersen@afgruppen.no\n","22.08.2018\n22.08.2018"]
["121",1,"Lør 01.09",121,null,"1425","0925",null,null,null,null,null,null,0.38893216362310812,null,null,null,null,null,null,{"$f":"IF(#REF!=1,IFERROR(VLOOKUP(#REF!,[1]Sheet1!$A:$N,U$2,FALSE),\"\"),\"\")","v":{"$error":"#REF!"}},null,null,"H","H J B","2x",null,"500 m ","Sarpsborg Roklubb - Roing 1","Majlind Begaj\nPhilip Draget","09:00",325,null,"Sarpsborg Roklubb - Roing",null,null,"30.04.2002\n07.06.2004","Ja\nNei","M300402MAJ01\nM070604MAR06","6977105\n6707662","22.03.2018\n22.03.2018","Sarpsborg Roklubb - Roing\nSarpsborg Roklubb - Roing","Thomas Gundersen\n","91874904\n","Thomas.gundersen@afgruppen.no;thomas.gundersen@afgruppen.no\n","22.08.2018\n22.08.2018"]
["121",1,"Lør 01.09",121,null,"1425","0925",null,null,null,null,null,null,0.65321284272598923,null,null,null,null,null,null,{"$f":"IF(#REF!=1,IFERROR(VLOOKUP(#REF!,[1]Sheet1!$A:$N,U$2,FALSE),\"\"),\"\")","v":{"$error":"#REF!"}},null,null,"H","H J B","2x",null,"500 m ","Tønsberg Roklub 1","Tobias Kjersem Larsen\nTobias Solvang","09:00",325,null,"Tønsberg Roklub",null,null,"15.09.2003\n30.05.2003","Ja\nJa","M150903TOB06\nM300503TOB07","7936549\n7014841","\n13.04.2018","Tønsberg Roklub\nTønsberg Roklub","Svend Andersen\n","92061715\n","svendandersen@me.com\n","21.08.2018\n21.08.2018"]
[null,null,null,null,null,null,null,null,null,null,null,null,null,null,null,null,null,null,null,null,{"$f":"IF(#REF!=1,IFERROR(VLOOKUP(#REF!,[1]Sheet1!$A:$N,U$2,FALSE),\"\"),\"\")","v":{"$error":"#REF!"}}]
[null,null,null,null,null,null,null,null,null,null,null,null,null,null,null,null,null,null,null,null,{"$f":"IF(#REF!=1,IFERROR(VLOOKUP(#REF!,[1]Sheet1!$A:$N,U$2,FALSE),\"\"),\"\")","v":{"$error":"#REF!"}}]
["1220",1,"Lør 01.09",122,null,"1425","0955",null,null,null,null,"0955",null,0.50194112501569232,null,"K",null,null,null,null,{"$f":"IF(#REF!=1,IFERROR(VLOOKUP(#REF!,[1]Sheet1!$A:$N,U$2,FALSE),\"\"),\"\")","v":{"$error":"#REF!"}},null,null,"D","D J A","1x",0,"500 m"]
["122",1,"Lør 01.09",122,null,"1425","0955",null,null,null,null,null,null,0.68945242505499071,null,null,null,null,null,null,{"$f":"IF(#REF!=1,IFERROR(VLOOKUP(#REF!,[1]Sheet1!$A:$N,U$2,FALSE),\"\"),\"\")","v":{"$error":"#REF!"}},null,null,"D","D J A","1x",null,"500 m","Bærum Roklubb","Caitlin Aalders","09:00",275,null,"Bærum Roklubb","Nei",null,"03.06.2001","Ja","K030601CAI03","7289717","17.04.2018","Bærum Roklubb","Bente Dingen","45411863","bente.dingen@lundin-norway.no","21.08.2018"]
["122",1,"Lør 01.09",122,null,"1425","0955",null,null,null,null,null,null,0.89917614062674556,null,null,null,null,null,null,{"$f":"IF(#REF!=1,IFERROR(VLOOKUP(#REF!,[1]Sheet1!$A:$N,U$2,FALSE),\"\"),\"\")","v":{"$error":"#REF!"}},null,null,"D","D J A","1x",null,"500 m","Bærum Roklubb","Stina Vad","09:00",275,null,"Bærum Roklubb","Nei",null,"26.09.2000","Ja","K260900STI02","6778019","13.04.2018","Bærum Roklubb","Bente Dingen","45411863","bente.dingen@lundin-norway.no","21.08.2018"]
["122",1,"Lør 01.09",122,null,"1425","0955",null,null,null,null,null,null,8.6786455300794985E-2,null,null,null,null,null,null,{"$f":"IF(#REF!=1,IFERROR(VLOOKUP(#REF!,[1]Sheet1!$A:$N,U$2,FALSE),\"\"),\"\")","v":{"$error":"#REF!"}},null,null,"D","D J A","1x",null,"500 m","Christiania Roklub","Anna Edine Lind Jodalen","09:00",275,null,"Christiania Roklub","Nei",null,"20.08.2001","Ja","K200801ANN08","8030448","14.05.2018","Christiania Roklub","Grete Isachsen Stokke","91338845","greteistokke@hotmail.com;grisach@gmail.com","22.08.2018"]
["122",1,"Lør 01.09",122,null,"1425","0955",null,null,null,null,null,null,0.53820315069888613,null,null,null,null,null,null,{"$f":"IF(#REF!=1,IFERROR(VLOOKUP(#REF!,[1]Sheet1!$A:$N,U$2,FALSE),\"\"),\"\")","v":{"$error":"#REF!"}},null,null,"D","D J A","1x",null,"500 m","Christiania Roklub","Nicoline Lovise Lindstrøm","09:00",275,null,"Christiania Roklub","Nei",null,"25.09.2002","Nei","K250902NIC02","8247202","14.05.2018","Christiania Roklub","Grete Isachsen Stokke","91338845","greteistokke@hotmail.com;grisach@gmail.com","22.08.2018"]
["122",1,"Lør 01.09",122,null,"1425","0955",null,null,null,null,null,null,0.32134718633547654,null,null,null,null,null,null,{"$f":"IF(#REF!=1,IFERROR(VLOOKUP(#REF!,[1]Sheet1!$A:$N,U$2,FALSE),\"\"),\"\")","v":{"$error":"#REF!"}},null,null,"D","D J A","1x",null,"500 m","Christiania Roklub","Marte Morgenlie Skei","09:00",275,null,"Christiania Roklub","Nei",null,"20.05.2000","Ja","K200500MAR04","4488301","31.07.2018","Christiania Roklub","Grete Isachsen Stokke","91338845","greteistokke@hotmail.com;grisach@gmail.com","22.08.2018"]
["122",1,"Lør 01.09",122,null,"1425","0955",null,null,null,null,null,null,0.49899358244006187,null,null,null,null,null,null,{"$f":"IF(#REF!=1,IFERROR(VLOOKUP(#REF!,[1]Sheet1!$A:$N,U$2,FALSE),\"\"),\"\")","v":{"$error":"#REF!"}},null,null,"D","D J A","1x",null,"500 m","Drammen Roklubb ","Elisabeth Maria Stenberg","09:00",275,null,"Drammen Roklubb ","Nei",null,"27.02.2001","Ja","K270201ELI03","7334407","10.04.2018","Drammen Roklubb ",null,"90660478","beatepharo@gmail.com","21.08.2018"]
["122",1,"Lør 01.09",122,null,"1425","0955",null,null,null,null,null,null,1.7822925701126757E-2,null,null,null,null,null,null,{"$f":"IF(#REF!=1,IFERROR(VLOOKUP(#REF!,[1]Sheet1!$A:$N,U$2,FALSE),\"\"),\"\")","v":{"$error":"#REF!"}},null,null,"D","D J A","1x",null,"500 m","Drammen Roklubb ","Karoline Rydland Masch","09:00",275,null,"Drammen Roklubb ","Nei",null,"14.04.2001","Ja","K140401KAR10","7214275",null,"Drammen Roklubb ",null,"90660478","beatepharo@gmail.com","21.08.2018"]
["122",1,"Lør 01.09",122,null,"1425","0955",null,null,null,null,null,null,0.39777807110284524,null,null,null,null,null,null,{"$f":"IF(#REF!=1,IFERROR(VLOOKUP(#REF!,[1]Sheet1!$A:$N,U$2,FALSE),\"\"),\"\")","v":{"$error":"#REF!"}},null,null,"D","D J A","1x",null,"500 m","Horten Roklubb","Mia Helene Falch","09:00",275,null,"Horten Roklubb","Nei",null,"25.12.2000","Ja","K251200MIA01","4997049","12.04.2018","Horten Roklubb","Bjørn-Inge Pettersen","93280397","pettersen.bjorn.inge@gmail.com","22.08.2018"]
["122",1,"Lør 01.09",122,null,"1425","0955",null,null,null,null,null,null,0.11337549306786776,null,null,null,null,null,null,{"$f":"IF(#REF!=1,IFERROR(VLOOKUP(#REF!,[1]Sheet1!$A:$N,U$2,FALSE),\"\"),\"\")","v":{"$error":"#REF!"}},null,null,"D","D J A","1x",null,"500 m","Moss Roklubb","Lise Meinike Dørre","09:00",275,null,"Moss Roklubb","Nei",null,"13.02.2000","Ja","K130200LIS02","6059397",null,"Ukjent/ikke registrert klubb","Jon Rekstad","92252667","rekstad0@gmail.com","22.08.2018"]
["122",1,"Lør 01.09",122,null,"1425","0955",null,null,null,null,null,null,0.85732765361036611,null,null,null,null,null,null,{"$f":"IF(#REF!=1,IFERROR(VLOOKUP(#REF!,[1]Sheet1!$A:$N,U$2,FALSE),\"\"),\"\")","v":{"$error":"#REF!"}},null,null,"D","D J A","1x",null,"500 m","Ormsund Roklub","Hannah Elisabeth Grude","09:00",275,null,"Ormsund Roklub","Nei",null,"19.07.2001","Ja","K190701HAN12","7882501","06.04.2018","Ormsund Roklub","Eva Hansen","90799966","eva.hansen@wenaasnordic.com","22.08.2018"]
["122",1,"Lør 01.09",122,null,"1425","0955",null,null,null,null,null,null,0.21205426815254713,null,null,null,null,null,null,{"$f":"IF(#REF!=1,IFERROR(VLOOKUP(#REF!,[1]Sheet1!$A:$N,U$2,FALSE),\"\"),\"\")","v":{"$error":"#REF!"}},null,null,"D","D J A","1x",null,"500 m","Tønsberg Roklub","Ida kyvik Sandvik","09:00",275,null,"Tønsberg Roklub","Nei",null,"24.07.2002","Nei","K240702IDA05","7173655","13.04.2018","Tønsberg Roklub",null,"92061715","svendandersen@me.com","21.08.2018"]
["122",1,"Lør 01.09",122,null,"1425","0955",null,null,null,null,null,null,0.51483527746777591,null,null,null,null,null,null,{"$f":"IF(#REF!=1,IFERROR(VLOOKUP(#REF!,[1]Sheet1!$A:$N,U$2,FALSE),\"\"),\"\")","v":{"$error":"#REF!"}},null,null,"D","D J A","1x",null,"500 m","Tønsberg Roklub","Lene Samland","09:00",275,null,"Tønsberg Roklub","Nei",null,"30.11.2000","Ja","K301100LEN03","6134299","13.04.2018","Tønsberg Roklub",null,"92061715","svendandersen@me.com","21.08.2018"]
["122",1,"Lør 01.09",122,null,"1425","0955",null,null,null,null,null,null,0.8483928686115596,null,null,null,null,null,null,{"$f":"IF(#REF!=1,IFERROR(VLOOKUP(#REF!,[1]Sheet1!$A:$N,U$2,FALSE),\"\"),\"\")","v":{"$error":"#REF!"}},null,null,"D","D J A","1x",null,"500 m","Tønsberg Roklub","Marie Andrup-Næss","09:00",275,null,"Tønsberg Roklub","Nei",null,"09.05.2002","Nei","K090502MAR15","8036277","13.04.2018","Tønsberg Roklub",null,"92061715","svendandersen@me.com","21.08.2018"]
["122",1,"Lør 01.09",122,null,"1425","0955",null,null,null,null,null,null,0.26252061842373542,null,null,null,null,null,null,{"$f":"IF(#REF!=1,IFERROR(VLOOKUP(#REF!,[1]Sheet1!$A:$N,U$2,FALSE),\"\"),\"\")","v":{"$error":"#REF!"}},null,null,"D","D J A","1x",null,"500 m","Aalesunds Roklub","Karoline Berset","09:00",275,null,"Aalesunds Roklub","Nei",null,"01.11.2002","Nei","K011102KAR02","7811195","13.04.2018","Aalesunds Roklub","Johan Myklebust","90894714","johan.myklebust@nordea.no","21.08.2018"]
["122",1,"Lør 01.09",122,null,"1425","0955",null,null,null,null,null,null,0.53687012614455365,null,null,null,null,null,null,{"$f":"IF(#REF!=1,IFERROR(VLOOKUP(#REF!,[1]Sheet1!$A:$N,U$2,FALSE),\"\"),\"\")","v":{"$error":"#REF!"}},null,null,"D","D J A","1x",null,"500 m","Aalesunds Roklub","Hedda Roth","09:00",275,null,"Aalesunds Roklub","Nei",null,"01.08.2001","Ja","K010801HED01","5213239","30.05.2018","Aalesunds Roklub","Johan Myklebust","90894714","johan.myklebust@nordea.no","21.08.2018"]
[null,null,null,null,null,null,null,null,null,null,null,null,null,0.2493186013427523,null,null,null,null,null,null,{"$f":"IF(#REF!=1,IFERROR(VLOOKUP(#REF!,[1]Sheet1!$A:$N,U$2,FALSE),\"\"),\"\")","v":{"$error":"#REF!"}}]
[{"$f":"D297&R297","v":"1230"},1,"Lør 01.09",123,null,{"$f":"VLOOKUP($D297,Tidsplan!$B:$D,3,FALSE)","v":"1455"},{"$f":"VLOOKUP($D297,Tidsplan!$B:$D,2,FALSE)","v":""},null,null,null,null,null,null,0.23486277885942808,null,"K",null,0,null,null,{"$f":"IF(#REF!=1,IFERROR(VLOOKUP(#REF!,[1]Sheet1!$A:$N,U$2,FALSE),\"\"),\"\")","v":{"$error":"#REF!"}},null,null,"D","D J B","4x",{"$f":"IF(R297<>0,LEFT(Z297,1),0)*1","v":0},500]
[{"$f":"D298&R298","v":"1231"},{"$f":"OFFSET(B298,-1,0)","v":1},"Lør 01.09",123,null,{"$f":"OFFSET(F298,-1,0)","v":"1455"},null,null,null,null,null,null,null,4.2469287477044593E-2,null,null,null,1,null,null,{"$f":"IF(#REF!=1,IFERROR(VLOOKUP(#REF!,[1]Sheet1!$A:$N,U$2,FALSE),\"\"),\"\")","v":{"$error":"#REF!"}},null,null,"D","D J B","4x",null,"500 m","Christiania Roklub 1","Vårin Fagerbakke\nMartine Nesse\nMathilda Irene Monteil\nAmelia Tamburplass","09:00",375,null,"Christiania Roklub",null,null,"01.01.2003\n31.03.2003\n05.09.2003\n14.12.2004","Ja\nJa\nJa\nNei","K010103VÅR01\nK310303MAR02\nK050903MAT04\nK141204AME04","7755151\n7896615\n7741867\n8314782","06.03.2018\n06.03.2018\n\n22.08.2018","Christiania Roklub\nChristiania Roklub\nChristiania Roklub\nChristiania Roklub","Grete Isachsen Stokke\n","91338845\n","greteistokke@hotmail.com;grisach@gmail.com\n","22.08.2018\n22.08.2018\n22.08.2018\n22.08.2018"]
[{"$f":"D299&R299","v":"1232"},{"$f":"OFFSET(B299,-1,0)","v":1},"Lør 01.09",123,null,{"$f":"OFFSET(F299,-1,0)","v":"1455"},null,null,null,null,null,null,null,0.84132580045965166,null,null,null,2,null,null,{"$f":"IF(#REF!=1,IFERROR(VLOOKUP(#REF!,[1]Sheet1!$A:$N,U$2,FALSE),\"\"),\"\")","v":{"$error":"#REF!"}},null,null,"D","D J B","4x",null,"500 m","Norske Studenters Roklub 1","Marie Glomnes Rudi\nElla Marie Hegge\nLisa Nakamoto Byberg\nFabia Dybwad Emblem","09:00",375,null,"Norske Studenters Roklub",null,null,"25.07.2003\n18.05.2003\n08.04.2003\n11.04.2003","Ja\nJa\nJa\nJa","K250703MAR04\nK180503ELL02\nK080403LIS01\nK110403FAB02","5247452\n5567226\n5391349\n6318695","29.03.2018\n29.03.2018\n29.03.2018\n29.03.2018","Norske Studenters Roklub\nNorske Studenters Roklub\nNorske Studenters Roklub\nNorske Studenters Roklub","Erik Juel\n","48039369\n","eri-juel@online.no\n","22.08.2018\n22.08.2018\n22.08.2018\n22.08.2018"]
[{"$f":"D300&R300","v":"1233"},{"$f":"OFFSET(B300,-1,0)","v":1},"Lør 01.09",123,null,{"$f":"OFFSET(F300,-1,0)","v":"1455"},null,null,null,null,null,null,null,0.57858648498449006,null,null,null,3,null,null,{"$f":"IF(#REF!=1,IFERROR(VLOOKUP(#REF!,[1]Sheet1!$A:$N,U$2,FALSE),\"\"),\"\")","v":{"$error":"#REF!"}},null,null,"D","D J B","4x",null,"500 m","Aalesunds Roklub 1","Helle Andreassen\nMia Rolland Engvik\nOlida Nesset\nErika Roth","09:00",375,null,"Aalesunds Roklub",null,null,"28.10.2003\n22.04.2004\n05.02.2002\n27.08.2004","Ja\nNei\nJa\nNei","K281003HEL05\nK220404MIA01\nK050202OLI01\nK270804ERI01","6860116\n7091604\n5934237\n5395032","30.05.2018\n30.05.2018\n30.05.2018\n30.05.2018","Aalesunds Roklub\nAalesunds Roklub\nAalesunds Roklub\nAalesunds Roklub","Johan Gerhard Myklebust\n","90894714\n","johan.myklebust@nordea.no\n","21.08.2018\n21.08.2018\n21.08.2018\n21.08.2018"]
[null,null,null,null,null,null,null,null,null,null,null,null,null,0.25015082385430443,null,null,null,null,null,null,{"$f":"IF(#REF!=1,IFERROR(VLOOKUP(#REF!,[1]Sheet1!$A:$N,U$2,FALSE),\"\"),\"\")","v":{"$error":"#REF!"}}]
[{"$f":"D302&R302","v":"1240"},1,"Lør 01.09",124,null,{"$f":"VLOOKUP($D302,Tidsplan!$B:$D,3,FALSE)","v":"1500"},{"$f":"VLOOKUP($D302,Tidsplan!$B:$D,2,FALSE)","v":""},null,null,null,null,null,null,0.89557133460634197," ",null,null,0,null,null,{"$f":"IF(#REF!=1,IFERROR(VLOOKUP(#REF!,[1]Sheet1!$A:$N,U$2,FALSE),\"\"),\"\")","v":{"$error":"#REF!"}},null,null,"H","H M","2x",{"$f":"IF(R302<>0,LEFT(Z302,1),0)*1","v":0},"500 m "]
[{"$f":"D303&R303","v":"1241"},{"$f":"OFFSET(B303,-1,0)","v":1},"Lør 01.09",124,null,{"$f":"OFFSET(F303,-1,0)","v":"1500"},null,null,null,null,null,null,null,0.31298119389119083,null,null,null,1,null,null,{"$f":"IF(#REF!=1,IFERROR(VLOOKUP(#REF!,[1]Sheet1!$A:$N,U$2,FALSE),\"\"),\"\")","v":{"$error":"#REF!"}},null,null,"H","H M","2x",null,"500 m ","Christiania Roklub 2","Kjetil Undset\nHenrik Heiberg","09:00",325,null,"Christiania Roklub",null,null,"24.08.1970\n18.02.1974","Ja\nJa","M240870KJE01\nM180274HEN02","573717\n411966","22.08.2018\n22.08.2018","Bærum Roklubb,Christiania Roklub,Stavanger Roklub\nChristiania Roklub","Grete Isachsen Stokke\n","91338845\n","greteistokke@hotmail.com;grisach@gmail.com\n","22.08.2018\n22.08.2018"]
[{"$f":"D304&R304","v":"1242"},{"$f":"OFFSET(B304,-1,0)","v":1},"Lør 01.09",124,null,{"$f":"OFFSET(F304,-1,0)","v":"1500"},null,null,null,null,null,null,null,0.28720714612370457,null,null,null,2,null,null,{"$f":"IF(#REF!=1,IFERROR(VLOOKUP(#REF!,[1]Sheet1!$A:$N,U$2,FALSE),\"\"),\"\")","v":{"$error":"#REF!"}},null,null,"H","H M","2x",null,"500 m ","Bærum Roklubb 1","Jan Rüdiger Weitzenböck\nPeter Draleke","09:00",325,null,"Bærum Roklubb",null,null,"01.03.1966\n14.04.1966","Ja\nJa","M010366JAN02\nM140466PET01","6761517\n8125484","\n","Bærum Roklubb\nBærum Roklubb","Bente Dingen\n","45411863\n","bente.dingen@lundin-norway.no\n","22.08.2018\n22.08.2018"]
["1243",1,"Lør 01.09",124,null,"1500",null,null,null,null,null,null,null,0.38246239593570308,null,null,null,3,null,null,{"$f":"IF(#REF!=1,IFERROR(VLOOKUP(#REF!,[1]Sheet1!$A:$N,U$2,FALSE),\"\"),\"\")","v":{"$error":"#REF!"}},null,null,"H","H M","2x",null,"500 m ","Christiania Roklub 1","Lars Jørgen Jensen\nKnut Einar Volden","09:00",325,null,"Christiania Roklub",null,null,"29.07.1968\n19.10.1963","Ja\nJa","M290768LAR05\nM191063KNU02","6755536\n8189836","21.03.2018\n","Christiania Roklub\nChristiania Roklub","Grete Isachsen Stokke\n","91338845\n","greteistokke@hotmail.com;grisach@gmail.com\n","22.08.2018\n22.08.2018"]
["1244",1,"Lør 01.09",124,null,"1500",null,null,null,null,null,null,null,4.1372526490965678E-2,null,null,null,4,null,null,{"$f":"IF(#REF!=1,IFERROR(VLOOKUP(#REF!,[1]Sheet1!$A:$N,U$2,FALSE),\"\"),\"\")","v":{"$error":"#REF!"}},null,null,"H","H M","2x",null,"500 m ","Norske Studenters Roklub 2","Kristian Strime Schønberg Christensen\nEinar Bratli","09:00",325,null,"Norske Studenters Roklub",null,null,"27.02.1969\n04.03.1964","Ja\nJa","M270269KRI06\nM040364EIN01","8099483\n8140951","\n","Norske Studenters Roklub,Oslo Roklubb\nUkjent/ikke registrert klubb","Erik Juel\n","48039369\n","eri-juel@online.no\n","22.08.2018\n22.08.2018"]
["1245",1,"Lør 01.09",124,null,"1500",null,null,null,null,null,null,null,0.90055032718020156,null,null,null,5,null,null,{"$f":"IF(#REF!=1,IFERROR(VLOOKUP(#REF!,[1]Sheet1!$A:$N,U$2,FALSE),\"\"),\"\")","v":{"$error":"#REF!"}},null,null,"H","H M","2x",null,"500 m ","Ormsund Roklub 1","Jens Christian Riis\nLine Andreassen Parelius","09:00",325,null,"Ormsund Roklub",null,null,"25.03.1964\n10.02.1974","Ja\nNei","M250364JEN02\nK100274LIN02","8030339\n2136071","06.04.2018\n06.04.2018","Nøklevann Ro- og Padleklubb,Ormsund Roklub\nOrmsund Roklub,Skullerud Sportsklubb","Eva Hansen\n","90799966\n","eva.hansen@wenaasnordic.com\n","22.08.2018\n22.08.2018"]
[{"$f":"D308&R308","v":"1246"},{"$f":"OFFSET(B308,-1,0)","v":1},"Lør 01.09",124,null,{"$f":"OFFSET(F308,-1,0)","v":"1500"},null,null,null,null,null,null,null,0.60626832324200286,null,null,null,6,null,null,{"$f":"IF(#REF!=1,IFERROR(VLOOKUP(#REF!,[1]Sheet1!$A:$N,U$2,FALSE),\"\"),\"\")","v":{"$error":"#REF!"}},null,null,"H","H M","2x",null,"500 m ","Norske Studenters Roklub 1","Eduardo Fernandes Caetano Reis\nHalvor Torjus Bergan","09:00",325,null,"Norske Studenters Roklub",null,null,"02.11.1983\n04.10.1965","Ja\nJa","M021183EDU03\nM041065HAL03","8238773\n6340602","\n07.06.2018","Norske Studenters Roklub\nNorske Studenters Roklub,Oslo Roklubb","Erik Juel\n","48039369\n","eri-juel@online.no\n","22.08.2018\n22.08.2018"]
[null,null,null,null,null,null,null,null,null,null,null,null,null,0.11082210152156835,null,null,null," ",null,null,{"$f":"IF(#REF!=1,IFERROR(VLOOKUP(#REF!,[1]Sheet1!$A:$N,U$2,FALSE),\"\"),\"\")","v":{"$error":"#REF!"}}]
[{"$f":"D310&R310","v":"1250"},1,"Lør 01.09",125,null,{"$f":"VLOOKUP($D310,Tidsplan!$B:$D,3,FALSE)","v":"1505"},{"$f":"VLOOKUP($D310,Tidsplan!$B:$D,2,FALSE)","v":""},null,null,null,null,null,null,0.21713399844390247,null,"K",null,0,null,null,{"$f":"IF(#REF!=1,IFERROR(VLOOKUP(#REF!,[1]Sheet1!$A:$N,U$2,FALSE),\"\"),\"\")","v":{"$error":"#REF!"}},null,null,"D","D M","2x",{"$f":"IF(R310<>0,LEFT(Z310,1),0)*1","v":0},"500 m "]
[103,1,"Lør 01.09",125,null,"1505",null,null,null,null,null,null,null,0.48976993802777014,null,null,null,1,null,null,{"$f":"IF(#REF!=1,IFERROR(VLOOKUP(#REF!,[1]Sheet1!$A:$N,U$2,FALSE),\"\"),\"\")","v":{"$error":"#REF!"}},null,null,"D","D M","2x",null,"500 m ","Aalesunds Roklub","Kari Andreassen\nBodil Saure Vegsund\n","09:00",325,null,"Aalesunds Roklub","Nei",null,null,null,null,null,null,"Aalesunds Roklub","Johan Myklebust","90894714","johan.myklebust@nordea.no","21.08.2018"]
[103,1,"Lør 01.09",125,null,"1505",null,null,null,null,null,null,null,0.91865651533428805,null,null,null,2,null,null,{"$f":"IF(#REF!=1,IFERROR(VLOOKUP(#REF!,[1]Sheet1!$A:$N,U$2,FALSE),\"\"),\"\")","v":{"$error":"#REF!"}},null,null,"D","D M","2x",null,"500 m ","Aalesunds Roklub","Synnøve Devold\nAnne Kringstad Nørve\n","09:00",325,null,"Aalesunds Roklub","Nei",null,null,null,null,null,null,"Aalesunds Roklub","Johan Myklebust","90894714","johan.myklebust@nordea.no","21.08.2018"]
[null,null,null,null,null,null,null,null,null,null,null,null,null,0.37590550980831883,null,null,null," ",null,null,{"$f":"IF(#REF!=1,IFERROR(VLOOKUP(#REF!,[1]Sheet1!$A:$N,U$2,FALSE),\"\"),\"\")","v":{"$error":"#REF!"}}]
[{"$f":"D314&R314","v":"1260"},0,"Lør 01.09",126,null,{"$f":"VLOOKUP($D314,Tidsplan!$B:$D,3,FALSE)","v":"1510"},{"$f":"VLOOKUP($D314,Tidsplan!$B:$D,2,FALSE)","v":""},null,null,null,null,null,null,0.79648681315302738,null,"K ",null,0,null,null,{"$f":"IF(#REF!=1,IFERROR(VLOOKUP(#REF!,[1]Sheet1!$A:$N,U$2,FALSE),\"\"),\"\")","v":{"$error":"#REF!"}},null,null,"D","S L"," 2x",{"$f":"IF(R314<>0,LEFT(Z314,1),0)*1","v":0},500]
[null,null,null,null,null,null,null,null,null,null,null,null,null,null,null,null,null," ",null,null,{"$f":"IF(#REF!=1,IFERROR(VLOOKUP(#REF!,[1]Sheet1!$A:$N,U$2,FALSE),\"\"),\"\")","v":{"$error":"#REF!"}}]
["1270",1,"Lør 01.09",127,null,{"$f":"VLOOKUP($D316,Tidsplan!$B:$D,3,FALSE)","v":"1515"},{"$f":"VLOOKUP($D316,Tidsplan!$B:$D,2,FALSE)","v":""},null,null,null,null,null,null,0.66996039993027956,"S",null,1,0,null,null,{"$f":"IF(#REF!=1,IFERROR(VLOOKUP(#REF!,[1]Sheet1!$A:$N,U$2,FALSE),\"\"),\"\")","v":{"$error":"#REF!"}},null,null,"H","H S","2x",{"$f":"IF(R316<>0,LEFT(Z316,1),0)*1","v":0},"500 m "]
[{"$f":"D317&R317","v":"1271"},{"$f":"OFFSET(B317,-1,0)","v":1},"Lør 01.09",127,null,{"$f":"VLOOKUP($D317,Tidsplan!$B:$D,3,FALSE)","v":"1515"},null,null,null,null,null,null,null,0.14794723590070558,null,null,null,1,null,null,{"$f":"IF(#REF!=1,IFERROR(VLOOKUP(#REF!,[1]Sheet1!$A:$N,U$2,FALSE),\"\"),\"\")","v":{"$error":"#REF!"}},null,null,"H","H S","2x",null,"500 m ","Christiania Roklub 1","Tinius Halvdan Wilhelmsen\nAndreas Dugstad Sørskaar","09:00",325,null,"Christiania Roklub",null,null,"18.10.2001\n10.06.2001","Nei\nNei","M181001TIN04\nM100601AND04","6005810\n7635153","03.04.2018\n03.04.2018","Christiania Roklub\nChristiania Roklub","Grete Isachsen Stokke\n","91338845\n","greteistokke@hotmail.com;grisach@gmail.com\n","22.08.2018\n22.08.2018"]
["1272",1,"Lør 01.09",127,null,{"$f":"VLOOKUP($D318,Tidsplan!$B:$D,3,FALSE)","v":"1515"},null,null,null,null,null,null,null,3.0340485204020662E-2,null,null,null,2,null,null,{"$f":"IF(#REF!=1,IFERROR(VLOOKUP(#REF!,[1]Sheet1!$A:$N,U$2,FALSE),\"\"),\"\")","v":{"$error":"#REF!"}},null,null,"H","H S","2x",null,"500 m ","Bærum Roklubb 1","Halvor Hølmkjær West\nHermann Gunerius Spjøtvoll Hovde","09:00",325,null,"Bærum Roklubb",null,null,"09.02.1994\n31.08.1999","Ja\nJa","M090294HAL02\nM310899HER01","5993966\n7481735","13.04.2018\n","Bærum Roklubb,Christiania Roklub\nBærum Roklubb","Bente Dingen\n","45411863\n","bente.dingen@lundin-norway.no\n","21.08.2018\n21.08.2018"]
["1273",1,"Lør 01.09",127,null,{"$f":"VLOOKUP($D319,Tidsplan!$B:$D,3,FALSE)","v":"1515"},null,null,null,null,null,null,null,0.50122037455976742,null,null,null,3,null,null,{"$f":"IF(#REF!=1,IFERROR(VLOOKUP(#REF!,[1]Sheet1!$A:$N,U$2,FALSE),\"\"),\"\")","v":{"$error":"#REF!"}},null,null,"H","H S","2x",null,"500 m ","Christiania Roklub 2","Sverre Vinje\nKristoffer Lorentzen","09:00",325,null,"Christiania Roklub",null,null,"16.11.1995\n07.04.1989","Ja\nJa","M161195SVE02\nM070489KRI06","4303833\n4449964","22.08.2018\n03.04.2018","Christiania Roklub\nChristiania Roklub","Grete Isachsen Stokke\n","91338845\n","greteistokke@hotmail.com;grisach@gmail.com\n","22.08.2018\n22.08.2018"]
["1274",1,"Lør 01.09",127,null,{"$f":"VLOOKUP($D320,Tidsplan!$B:$D,3,FALSE)","v":"1515"},null,null,null,null,null,null,null,0.52368036271543417,null,null,null,4,null,null,{"$f":"IF(#REF!=1,IFERROR(VLOOKUP(#REF!,[1]Sheet1!$A:$N,U$2,FALSE),\"\"),\"\")","v":{"$error":"#REF!"}},null,null,"H","H S","2x",null,"500 m ","Moss Roklubb 1","Alfred Eliassen\nJarle Hjortkær Sæby","09:00",325,null,"Moss Roklubb",null,null,"06.12.1999\n17.08.2000","Ja\nNei","M061299ALF01\nM170800JAR02","2747765\n2794789","22.03.2018\n22.03.2018","Moss Roklubb\nMoss Roklubb","Jon Børre Rekstad\n","92252667\n","rekstad0@gmail.com\n","22.08.2018\n22.08.2018"]
["3",{"$f":"OFFSET(B321,-1,0)","v":1},"Lør 27.8",null,null,null,null,null,null,null,null,null,null,0.76056741572250985,null,null,null,3,0,0,{"$f":"IF(#REF!=1,IFERROR(VLOOKUP(#REF!,[1]Sheet1!$A:$N,U$2,FALSE),\"\"),\"\")","v":{"$error":"#REF!"}},null,null,null,null,null,{"$f":"IF(R321<>0,LEFT(Z321,1),0)*1","v":{"$error":"#VALUE!"}},null,null,null,null,null,null,null,null,null,null,null,null,null,null,null,null,null,null,null,null,null,null,null,null,0]
["1280",0,"Lør 01.09",128,null,{"$f":"VLOOKUP($D322,Tidsplan!$B:$D,3,FALSE)","v":"1520"},{"$f":"VLOOKUP($D322,Tidsplan!$B:$D,2,FALSE)","v":""},null,null,null,null,null,null,7.0461138342016949E-2,null,"K",null,0,null,null,{"$f":"IF(#REF!=1,IFERROR(VLOOKUP(#REF!,[1]Sheet1!$A:$N,U$2,FALSE),\"\"),\"\")","v":{"$error":"#REF!"}},null,null,"H","H","4x",{"$f":"IF(R322<>0,LEFT(Z322,1),0)*1","v":0},500]
[{"$f":"D323&R323","v":"1271"},{"$f":"OFFSET(B323,-1,0)","v":0},"Lør 01.09",127,null,{"$f":"VLOOKUP($D323,Tidsplan!$B:$D,3,FALSE)","v":"1515"},null,null,null,null,null,null,null,0.65528296151718723,null,null,null,1,null,null,{"$f":"IF(#REF!=1,IFERROR(VLOOKUP(#REF!,[1]Sheet1!$A:$N,U$2,FALSE),\"\"),\"\")","v":{"$error":"#REF!"}},null,null,"D","D S","4x",null,"500 m","Bærum Roklubb 1","Kamille Aurora Hagen Breivik\nCaitlin Isabelle Aalders\nHannah Elisabeth Grude\nSara Sverdrup-Thygeson","09:00",375,null,"Bærum Roklubb",null,null,"07.09.2001\n03.06.2001\n19.07.2001\n23.08.2002","Nei\nNei\nNei\nNei","K070901KAM03\nK030601CAI03\nK190701HAN12\nK230802SAR02","7348773\n7289717\n7882501\n7321246","29.03.2018\n17.04.2018\n06.04.2018\n29.03.2018","Norske Studenters Roklub\nBærum Roklubb\nOrmsund Roklub\nNorske Studenters Roklub","Bente Dingen\n","45411863\n","bente.dingen@lundin-norway.no\n","22.08.2018\n22.08.2018\n22.08.2018\n22.08.2018"]
["1290",0,"Lør 01.09",129,null,{"$f":"VLOOKUP($D324,Tidsplan!$B:$D,3,FALSE)","v":"1525"},{"$f":"VLOOKUP($D324,Tidsplan!$B:$D,2,FALSE)","v":""},null,null,null,null,null,null,7.0461138342016949E-2,null,"K",null,0,null,null,{"$f":"IF(#REF!=1,IFERROR(VLOOKUP(#REF!,[1]Sheet1!$A:$N,U$2,FALSE),\"\"),\"\")","v":{"$error":"#REF!"}},null,null,"D","JA","2-",{"$f":"IF(R324<>0,LEFT(Z324,1),0)*1","v":0},500]
["1291",{"$f":"OFFSET(B325,-1,0)","v":0},"Lør 01.09",129,null,{"$f":"OFFSET(F325,-1,0)","v":"1525"},null,null,null,null,null,null,null,9.1122466085534981E-2,null,null,null,1,null,null,{"$f":"IF(#REF!=1,IFERROR(VLOOKUP(#REF!,[1]Sheet1!$A:$N,U$2,FALSE),\"\"),\"\")","v":{"$error":"#REF!"}},null,null,"D","D J A","2-",null,"500 m","Bærum Roklubb 1","Stina Halvorsen Vad\nCaitlin Isabelle Aalders","09:00",325,null,"Bærum Roklubb",null,null,"26.09.2000\n03.06.2001","Ja\nJa","K260900STI02\nK030601CAI03","6778019\n7289717","13.04.2018\n17.04.2018","Bærum Roklubb\nBærum Roklubb","Bente Dingen\n","45411863\n","bente.dingen@lundin-norway.no\n","22.08.2018\n22.08.2018"]
["1292",{"$f":"OFFSET(B326,-1,0)","v":0},"Lør 01.09",129,null,"1525",null,null,null,null,null,null,null,0.54608492591204039,null,null,null,2,null,null,{"$f":"IF(#REF!=1,IFERROR(VLOOKUP(#REF!,[1]Sheet1!$A:$N,U$2,FALSE),\"\"),\"\")","v":{"$error":"#REF!"}},null,null,"D","D J A","2-",null,"500 m","Christiania Roklub 1","Nicoline Lovise Lindstrøm\nMarte Morgenlie Skei","09:00",325,null,"Christiania Roklub",null,null,"25.09.2002\n20.05.2000","Nei\nJa","K250902NIC02\nK200500MAR04","8247202\n4488301","14.05.2018\n31.07.2018","Christiania Roklub\nChristiania Roklub","Grete Isachsen Stokke\n","91338845\n","greteistokke@hotmail.com;grisach@gmail.com\n","22.08.2018\n22.08.2018"]
[null,null,null,null,null,null,null,null,null,null,null,null,null,0.509128958005027,null,null,null,3,null,null,{"$f":"IF(#REF!=1,IFERROR(VLOOKUP(#REF!,[1]Sheet1!$A:$N,U$2,FALSE),\"\"),\"\")","v":{"$error":"#REF!"}}]
[{"$f":"D328&R328","v":"1300"},1,"Lør 01.09",130,null,{"$f":"VLOOKUP($D328,Tidsplan!$B:$D,3,FALSE)","v":"1530"},{"$f":"VLOOKUP($D328,Tidsplan!$B:$D,2,FALSE)","v":""},null,null,null,null,null,null,0.59724879758574512,"S",null,1,0,null,null,{"$f":"IF(#REF!=1,IFERROR(VLOOKUP(#REF!,[1]Sheet1!$A:$N,U$2,FALSE),\"\"),\"\")","v":{"$error":"#REF!"}},null,null,"H","H J A","4x",{"$f":"IF(R328<>0,LEFT(Z328,1),0)*1","v":0},"500 m",null," "]
[{"$f":"D329&R329","v":"1301"},{"$f":"OFFSET(B329,-1,0)","v":1},"Lør 01.09",130,null,"1530",null,null,null,null,null,null,null,0.63159277585469997,null,null,null,1,null,null,{"$f":"IF(#REF!=1,IFERROR(VLOOKUP(#REF!,[1]Sheet1!$A:$N,U$2,FALSE),\"\"),\"\")","v":{"$error":"#REF!"}},null,null,"H","H J A","4x",null,"500 m","Bærum Roklubb 1","Lars Moberg Værnes\nPetter\nEirik Myreng Hauge\nSindre Fuglseth","09:00",375,null,"Bærum Roklubb",null,null,"02.06.2000\n12.09.2000\n17.04.2000\n26.09.2000","Ja\nJa\nJa\nJa","M020600LAR02\nM120900BRA03\nM170400EIR06\nM260900SIN02","4487587\n4908711\n5663596\n6073987","13.04.2018\n17.04.2018\n\n17.04.2018","Bærum Roklubb\nBærum Roklubb\nBærum Roklubb\nBærum Roklubb","Bente Dingen\n","45411863\n","bente.dingen@lundin-norway.no\n","21.08.2018\n21.08.2018\n21.08.2018\n21.08.2018"]
[{"$f":"D330&R330","v":"1302"},{"$f":"OFFSET(B330,-1,0)","v":1},"Lør 01.09",130,null,"1530",null,null,null,null,null,null,null,0.17059007314155894,null,null,null,2,null,null,{"$f":"IF(#REF!=1,IFERROR(VLOOKUP(#REF!,[1]Sheet1!$A:$N,U$2,FALSE),\"\"),\"\")","v":{"$error":"#REF!"}},null,null,"H","H J A","4x",null,"500 m","Drammen Roklubb  1","Elias Loe Eritsland\nUlrik Pharo Lohne\nHampus Erik Vesterberg-Heltne\nJonas Willand-Evensen","09:00",375,null,"Drammen Roklubb ",null,null,"13.02.2001\n09.05.2004\n07.02.2003\n30.08.2003","Ja\nNei\nNei\nNei","M130201ELI01\nM090504ULR01\nM070203HAM03\nM300803JON01","6756069\n5057646\n6756072\n4879656","12.03.2018\n12.03.2018\n12.03.2018\n12.03.2018","Drammen Roklubb \nDrammen Roklubb \nDrammen Roklubb \nDrammen Roklubb ","Beate Pharo\n","90660478\n","beatepharo@gmail.com\n","21.08.2018\n21.08.2018\n21.08.2018\n21.08.2018"]
[{"$f":"D331&R331","v":"1303"},{"$f":"OFFSET(B331,-1,0)","v":1},"Lør 01.09",130,null,"1530",null,null,null,null,null,null,null,0.51089940342033136,null,null,null,3,null,null,{"$f":"IF(#REF!=1,IFERROR(VLOOKUP(#REF!,[1]Sheet1!$A:$N,U$2,FALSE),\"\"),\"\")","v":{"$error":"#REF!"}},null,null,"H","H J A","4x",null,"500 m","Norske Studenters Roklub 1","Nicolai Fongaard\nVitus Aparicio Tjøm\nHugo Haavind\nKristian Lorentzen","09:00",375,null,"Norske Studenters Roklub",null,null,"06.08.2001\n26.06.2001\n17.05.2001\n19.05.2002","Ja\nJa\nJa\nNei","M060801NIC02\nM260101VIT01\nM170501HUG04\nM190502KRI05","4916382\n5062270\n7685975\n4742469","29.03.2018\n29.03.2018\n29.03.2018\n29.03.2018","Norske Studenters Roklub\nNorske Studenters Roklub\nNorske Studenters Roklub\nNorske Studenters Roklub","Erik Juel\n","48039369\n","eri-juel@online.no\n","22.08.2018\n22.08.2018\n22.08.2018\n22.08.2018"]
[{"$f":"D332&R332","v":"1304"},{"$f":"OFFSET(B332,-1,0)","v":1},"Lør 01.09",130,null,"1530",null,null,null,null,null,null,null,0.330270902826864,null,null,null,4,null,null,{"$f":"IF(#REF!=1,IFERROR(VLOOKUP(#REF!,[1]Sheet1!$A:$N,U$2,FALSE),\"\"),\"\")","v":{"$error":"#REF!"}},null,null,"H","H J A","4x",null,"500 m","Sarpsborg Roklubb / Haldens Roklubb","Jacob Gundersen\nOliver Andreas Melnes\nHåkon Grønberg Møller\nHaakon Elias Solli Borge","09:00",375,null,"Sarpsborg Roklubb - Roing",null,null,"08.04.2001\n24.02.2002\n22.12.2002\n21.02.2002","Ja\nNei\nNei\nNei","M080401JAC01\nM240202OLI01\nM221202HÅK01\nM210202HAA02","5584584\n7448632\n6848301\n5006685","22.03.2018\n\n22.03.2018\n13.04.2018","Sarpsborg Roklubb - Roing\nSarpsborg Roklubb - Roing\nSarpsborg Roklubb - Roing\nHaldens Roklub","Thomas Gundersen\n","91874904\n","Thomas.gundersen@afgruppen.no;thomas.gundersen@afgruppen.no\n","22.08.2018\n22.08.2018\n22.08.2018\n22.08.2018"]
[null,null,null,null,null,null,null,null,null,null,null,null,null,0.53465369053161371,null,null,null," ",null,null,{"$f":"IF(#REF!=1,IFERROR(VLOOKUP(#REF!,[1]Sheet1!$A:$N,U$2,FALSE),\"\"),\"\")","v":{"$error":"#REF!"}}]
[{"$f":"D334&R334","v":"1310"},0,"Lør 01.09",131,null,{"$f":"VLOOKUP($D334,Tidsplan!$B:$D,3,FALSE)","v":"1535"},{"$f":"VLOOKUP($D334,Tidsplan!$B:$D,2,FALSE)","v":""},null,null,null,null,null,null,0.13112930185997307,null,"K",1,0,null,null,{"$f":"IF(#REF!=1,IFERROR(VLOOKUP(#REF!,[1]Sheet1!$A:$N,U$2,FALSE),\"\"),\"\")","v":{"$error":"#REF!"}},null,null,"H","JB","4-",{"$f":"IF(R334<>0,LEFT(Z334,1),0)*1","v":0},500]
[{"$f":"D335&R335","v":"1301"},{"$f":"OFFSET(B335,-1,0)","v":0},"Lør 01.09",130,null,{"$f":"OFFSET(F335,-1,0)","v":"1535"},null,null,null,null,null,null,null,0.58173701395695376,null,null,null,1,null,null,{"$f":"IF(#REF!=1,IFERROR(VLOOKUP(#REF!,[1]Sheet1!$A:$N,U$2,FALSE),\"\"),\"\")","v":{"$error":"#REF!"}},null,null,"H","H J B","4-",null,"500 m","Christiania Roklub 1","Elias Mahler\nJonathan Wang-Norderud\nMarius Bjørn-Hansen Ahlsand","09:00",375,null,"Christiania Roklub",null,null,"22.12.2002\n19.07.2002\n22.01.2002","Ja\nJa\nJa","M221202ELI02\nM190702JON01\nM220102MAR12","4671202\n5260818\n7781581","\n\n06.03.2018","Ukjent/ikke registrert klubb\nChristiania Roklub\nChristiania Roklub","Grete Isachsen Stokke\n","91338845\n","greteistokke@hotmail.com;grisach@gmail.com\n","22.08.2018\n22.08.2018\n22.08.2018"]
[{"$f":"D336&R336","v":"1320"},1,"Lør 01.09",132,null,{"$f":"VLOOKUP($D336,Tidsplan!$B:$D,3,FALSE)","v":"1540"},{"$f":"VLOOKUP($D336,Tidsplan!$B:$D,2,FALSE)","v":""},null,null,null,null," ",null,0.30429031014471142,null,"K",null,0,null,null,{"$f":"IF(#REF!=1,IFERROR(VLOOKUP(#REF!,[1]Sheet1!$A:$N,U$2,FALSE),\"\"),\"\")","v":{"$error":"#REF!"}},null,null,"D","D J B","2x",{"$f":"IF(R336<>0,LEFT(Z336,1),0)*1","v":0},"500 m "]
[{"$f":"D337&R337","v":"1321"},{"$f":"OFFSET(B337,-1,0)","v":1},"Lør 01.09",132,null,{"$f":"OFFSET(F337,-1,0)","v":"1540"},null,null,null,null,null,null,null,0.134094122433282,null,null,null,1,null,null,{"$f":"IF(#REF!=1,IFERROR(VLOOKUP(#REF!,[1]Sheet1!$A:$N,U$2,FALSE),\"\"),\"\")","v":{"$error":"#REF!"}},null,null,"D","D J B","2x",null,"500 m ","Norske Studenters Roklub 1","Sara Sigurdsen\nElla Irgens Standley","09:00",325,null,"Norske Studenters Roklub",null,null,"26.04.2003\n17.01.2003","Ja\nJa","K260403SAR01\nK170103ELL06","7679466\n8208728","07.06.2018\n07.06.2018","Norske Studenters Roklub\nNorske Studenters Roklub","Erik Juel\n","48039369\n","eri-juel@online.no\n","22.08.2018\n22.08.2018"]
[{"$f":"D338&R338","v":"1322"},{"$f":"OFFSET(B338,-1,0)","v":1},"Lør 01.09",132,null,{"$f":"OFFSET(F338,-1,0)","v":"1540"},null,null,null,null,null,null,null,0.61142096944534585,null,null,null,2,null,null,{"$f":"IF(#REF!=1,IFERROR(VLOOKUP(#REF!,[1]Sheet1!$A:$N,U$2,FALSE),\"\"),\"\")","v":{"$error":"#REF!"}},null,null,"D","D J B","2x",null,"500 m ","Christiania Roklub 1","Vårin Fagerbakke\nMartine Nesse","09:00",325,null,"Christiania Roklub",null,null,"01.01.2003\n31.03.2003","Ja\nJa","K010103VÅR01\nK310303MAR02","7755151\n7896615","06.03.2018\n06.03.2018","Christiania Roklub\nChristiania Roklub","Grete Isachsen Stokke\n","91338845\n","greteistokke@hotmail.com;grisach@gmail.com\n","22.08.2018\n22.08.2018"]
["1323",1,"Lør 01.09",132,null,"1540",null,null,null,null,null,null,null,0.48626291853943582,null,null,null,3,null,null,{"$f":"IF(#REF!=1,IFERROR(VLOOKUP(#REF!,[1]Sheet1!$A:$N,U$2,FALSE),\"\"),\"\")","v":{"$error":"#REF!"}},null,null,"D","D J B","2x",null,"500 m ","Drammen Roklubb  1","Victoria Linnéa Wikheim Lang\nTale Tollefsen Seip","09:00",325,null,"Drammen Roklubb ",null,null,"22.01.2002\n23.02.2004","Ja\nNei","K220102VIC04\nK230304TAL01","8199687\n7310638","12.03.2018\n12.03.2018","Drammen Roklubb \nDrammen Roklubb ","Beate Pharo\n","90660478\n","beatepharo@gmail.com\n","21.08.2018\n21.08.2018"]
["1324",1,"Lør 01.09",132,null,"1540",null,null,null,null,null,null,null,0.92102277416689415,null,null,null,4,null,null,{"$f":"IF(#REF!=1,IFERROR(VLOOKUP(#REF!,[1]Sheet1!$A:$N,U$2,FALSE),\"\"),\"\")","v":{"$error":"#REF!"}},null,null,"D","D J B","2x",null,"500 m ","Norske Studenters Roklub 2","Fabia Dybwad Emblem\nElla Marie Hegge","09:00",325,null,"Norske Studenters Roklub",null,null,"11.04.2003\n18.05.2003","Ja\nJa","K110403FAB02\nK180503ELL02","6318695\n5567226","29.03.2018\n29.03.2018","Norske Studenters Roklub\nNorske Studenters Roklub","Erik Juel\n","48039369\n","eri-juel@online.no\n","22.08.2018\n22.08.2018"]
["1325",1,"Lør 01.09",132,null,"1540",null,null,null,null,null,null,null,0.7413623462632114,null,null,null,5,null,null,{"$f":"IF(#REF!=1,IFERROR(VLOOKUP(#REF!,[1]Sheet1!$A:$N,U$2,FALSE),\"\"),\"\")","v":{"$error":"#REF!"}},null,null,"D","D J B","2x",null,"500 m ","Aalesunds Roklub 1","Helle Andreassen\nMartine Nakken Henriksen","09:00",325,null,"Aalesunds Roklub",null,null,"28.10.2003\n30.09.2004","Ja\nNei","K281003HEL05\nK300904MAR06","6860116\n7258646","30.05.2018\n30.05.2018","Aalesunds Roklub\nAalesunds Roklub","Johan Gerhard Myklebust\n","90894714\n","johan.myklebust@nordea.no\n","21.08.2018\n21.08.2018"]
[{"$f":"D342&R342","v":"1326"},{"$f":"OFFSET(B342,-1,0)","v":1},"Lør 01.09",132,null,{"$f":"OFFSET(F342,-1,0)","v":"1540"},null,null,null,null,null,null,null,3.4927082140167709E-2,null,null,null,6,null,null,{"$f":"IF(#REF!=1,IFERROR(VLOOKUP(#REF!,[1]Sheet1!$A:$N,U$2,FALSE),\"\"),\"\")","v":{"$error":"#REF!"}},null,null,"D","D J B","2x",null,"500 m ","Norske Studenters Roklub 3","Lisa Nakamoto Byberg\nMarie Glomnes Rudi","09:00",325,null,"Norske Studenters Roklub",null,null,"08.04.2003\n25.07.2003","Ja\nJa","K080403LIS01\nK250703MAR04","5391349\n5247452","29.03.2018\n29.03.2018","Norske Studenters Roklub\nNorske Studenters Roklub","Erik Juel\n","48039369\n","eri-juel@online.no\n","22.08.2018\n22.08.2018"]
[null,null,null,null,null,null,null,null,null,null,null,null,null,0.79300014658388884,null,null,null,null,null,null,{"$f":"IF(#REF!=1,IFERROR(VLOOKUP(#REF!,[1]Sheet1!$A:$N,U$2,FALSE),\"\"),\"\")","v":{"$error":"#REF!"}}]
[{"$f":"D344&R344","v":"1330"},1,"Lør 01.09",133,null,{"$f":"VLOOKUP($D344,Tidsplan!$B:$D,3,FALSE)","v":"1545"},{"$f":"VLOOKUP($D344,Tidsplan!$B:$D,2,FALSE)","v":""},null,null,null,null,null,null,0.70183625182946574,"",null,null,0,null,null,{"$f":"IF(#REF!=1,IFERROR(VLOOKUP(#REF!,[1]Sheet1!$A:$N,U$2,FALSE),\"\"),\"\")","v":{"$error":"#REF!"}},null,null,"Åpen","Mix JC","4x",{"$f":"IF(R344<>0,LEFT(Z344,1),0)*1","v":0},"500 m"]
["1331",{"$f":"OFFSET(B345,-1,0)","v":1},"Lør 01.09",133,null,{"$f":"OFFSET(F345,-1,0)","v":"1545"},null,null,null,null,null,null,null,0.11543293549778788,null,null,1,1,null,null,{"$f":"IF(#REF!=1,IFERROR(VLOOKUP(#REF!,[1]Sheet1!$A:$N,U$2,FALSE),\"\"),\"\")","v":{"$error":"#REF!"}},null,null,"Åpen","Mix JC","4x",null,"500 m","Bærum Roklubb 1","Noah Holger Johnsen Fangel\nThov Espeseth\nBrage Skaar\nFerdinand Zachariassen Tenden","09:00",375,null,"Bærum Roklubb",null,null,"24.10.2004\n29.06.2005\n27.12.2004\n25.02.2005","Nei\nNei\nNei\nNei","M241004NOA04\nM290605THO01\nM271204BRA01\nM250205FER01","8111044\n7328781\n5137898\n5587277","05.06.2018\n05.06.2018\n13.06.2018\n05.08.2018","Bærum Roklubb\nBærum Roklubb\nBærum Roklubb\nBærum Roklubb","Bente Dingen\n","45411863\n","bente.dingen@lundin-norway.no\n","21.08.2018\n21.08.2018\n21.08.2018\n21.08.2018"]
["1332",1,"Lør 01.09",133,null,"1545",null,null,null,null,null,null,null,0.44098537223706913,null,null,1,2,null,null,{"$f":"IF(#REF!=1,IFERROR(VLOOKUP(#REF!,[1]Sheet1!$A:$N,U$2,FALSE),\"\"),\"\")","v":{"$error":"#REF!"}},null,null,"Åpen","Mix JC","4x",null,"500 m","Drammen Roklubb  1","Emma Tomlinson\nPeter Anker Hassel\nAndrea Willand-Evensen\nMari Hasle Falch","09:00",375,null,"Drammen Roklubb ",null,null,"19.08.2004\n06.08.2004\n02.01.2005\n12.04.2004","Nei\nNei\nNei\nNei","K190804EMM03\nM060804PET02\nK020105AND01\nK120404MAR04","5532186\n7726990\n5443894\n4108903","12.03.2018\n10.04.2018\n12.03.2018\n08.08.2018","Drammen Roklubb \nDrammen Roklubb \nDrammen Roklubb \nTrondhjems Roklubb","Beate Pharo\n","90660478\n","beatepharo@gmail.com\n","21.08.2018\n21.08.2018\n21.08.2018\n21.08.2018"]
["1333",1,"Lør 01.09",133,null,"1545",null,null,null,null,null,null,null,0.50268671288435929,null,null,1,3,null,null,{"$f":"IF(#REF!=1,IFERROR(VLOOKUP(#REF!,[1]Sheet1!$A:$N,U$2,FALSE),\"\"),\"\")","v":{"$error":"#REF!"}},null,null,"Åpen","Mix JC","4x",null,"500 m","Ormsund Roklub 1","Mille Aslaksen Wåle\nMax Carl Andresen\nEmbla Reykdal\nMartin Rognerud Juvet","09:00",375,null,"Ormsund Roklub",null,null,"07.07.2004\n22.06.2004\n17.01.2004\n05.03.2004","Nei\nNei\nNei\nNei","K070704MIL03\nM220604MAX04\nK170104EMB01\nM050304MAR05","5812808\n7259283\n7697937\n8128450","06.04.2018\n06.04.2018\n06.04.2018\n08.06.2018","Ormsund Roklub\nOrmsund Roklub\nOrmsund Roklub\nOrmsund Roklub","Eva Hansen\n","90799966\n","eva.hansen@wenaasnordic.com\n","22.08.2018\n22.08.2018\n22.08.2018\n22.08.2018"]
["1334",1,"Lør 01.09",133,null,"1545",null,null,null,null,null,null,null,0.60848919785471278,null,null,1,4,null,null,{"$f":"IF(#REF!=1,IFERROR(VLOOKUP(#REF!,[1]Sheet1!$A:$N,U$2,FALSE),\"\"),\"\")","v":{"$error":"#REF!"}},null,null,"Åpen","Mix JC","4x",null,"500 m","Aalesunds Roklub 1","Live Strømshoved\nSelma Steen Bjørlykke\nMia Rolland Engvik\nErlend Devold Refsum","09:00",375,null,"Aalesunds Roklub",null,null,"16.02.2004\n31.01.2004\n22.04.2004\n12.05.2004","Nei\nNei\nNei\nNei","K160204LIV01\nK310104SEL01\nK220404MIA01\nM120504ERL04","7633009\n6871648\n7091604\n8150106","30.05.2018\n30.05.2018\n30.05.2018\n30.05.2018","Aalesunds Roklub\nAalesunds Roklub\nAalesunds Roklub\nAalesunds Roklub","Johan Gerhard Myklebust\n","90894714\n","johan.myklebust@nordea.no\n","21.08.2018\n21.08.2018\n21.08.2018\n21.08.2018"]
["1335",1,"Lør 01.09",133,null,"1545",null,null,null,null,null,null,null,0.61794877312149976,null,null,1,5,null,null,{"$f":"IF(#REF!=1,IFERROR(VLOOKUP(#REF!,[1]Sheet1!$A:$N,U$2,FALSE),\"\"),\"\")","v":{"$error":"#REF!"}},null,null,"Åpen","Mix JC","4x",null,"500 m","Bærum Roklubb 2","Emil Svanes\nThor Saga\nJacob Philip Munthe\nBrage Alexander Rognli","09:00",375,null,"Bærum Roklubb",null,null,"09.02.2005\n28.08.2005\n30.04.2005\n19.02.2005","Nei\nNei\nNei\nNei","M090205EMI01\nM280805THO03\nM300405JAC02\nM190205BRA01","7947640\n6142424\n8085498\n4214459","11.05.2018\n05.06.2018\n13.06.2018\n05.08.2018","Bærum Roklubb\nBærum Roklubb\nBærum Roklubb\nBærum Roklubb","Bente Dingen\n","45411863\n","bente.dingen@lundin-norway.no\n","21.08.2018\n21.08.2018\n21.08.2018\n21.08.2018"]
["x",1,"Lør 01.09",133,null,"1545",null,null,null,null,null,null,null,0.73956037659490437,null,null,2,6,null,null,{"$f":"IF(#REF!=1,IFERROR(VLOOKUP(#REF!,[1]Sheet1!$A:$N,U$2,FALSE),\"\"),\"\")","v":{"$error":"#REF!"}},null,null,"Åpen","Mix JC","4x",null,"500 m","Aalesunds Roklub 2","Peter Prytz Berset\nSusanne Steffensen Myklebust\nJulie Kringstad Nørve\nMads Reite","09:00",375,null,"Aalesunds Roklub",null,null,"22.12.2005\n29.09.2006\n19.05.2006\n27.05.2006","Nei\nNei\nNei\nNei","M221205PET02\nK290906SUS03\nK190506JUL02\nM270506MAD02","7619015\n7619002\n6824678\n8233207","30.05.2018\n30.05.2018\n30.05.2018\n30.05.2018","Aalesunds Roklub\nAalesunds Roklub\nAalesunds Roklub\nAalesunds Roklub","Johan Gerhard Myklebust\n","90894714\n","johan.myklebust@nordea.no\n","21.08.2018\n21.08.2018\n21.08.2018\n21.08.2018"]
[{"$f":"D351&R351","v":"1337"},1,"Lør 01.09",133,null,"1545",null,null,null,null,null,null,null,0.90129768229574903,null,null,2,7,null,null,{"$f":"IF(#REF!=1,IFERROR(VLOOKUP(#REF!,[1]Sheet1!$A:$N,U$2,FALSE),\"\"),\"\")","v":{"$error":"#REF!"}},null,null,"Åpen","Mix JC","4x",null,"500 m","Christiania Roklub 1","Christoffer Widding\nJacob Balder Hagen\nLorentz Andreas Rogge Pran","09:00",375,null,"Christiania Roklub",null,null,"25.04.2004\n14.01.2004\n29.01.2004","Nei\nNei\nNei","M250404CHR01\nM140104JAC01\nM290104LOR01","5051812\n7522750\n8138326","06.03.2018\n\n06.03.2018","Christiania Roklub\nChristiania Roklub\nChristiania Roklub","Grete Isachsen Stokke\n","91338845\n","greteistokke@hotmail.com;grisach@gmail.com\n","22.08.2018\n22.08.2018\n22.08.2018"]
[{"$f":"D352&R352","v":"1338"},1,"Lør 01.09",133,null,"1545",null,null,null,null,null,null,null,0.63391095826255051,null,null,2,8,null,null,{"$f":"IF(#REF!=1,IFERROR(VLOOKUP(#REF!,[1]Sheet1!$A:$N,U$2,FALSE),\"\"),\"\")","v":{"$error":"#REF!"}},null,null,"Åpen","Mix JC","4x",null,"500 m","Norske Studenters Roklub 1","Sander Holmedal Bjerke\nMathis Adrian Grimstad\nFelix Østerberg Spydevold","09:00",375,null,"Norske Studenters Roklub",null,null,"20.01.2006\n16.07.2006\n01.10.2006","Nei\nNei\nNei","M010306SAN01\nM160706MAT02\nM011006FEL03","7266956\n5820353\n6965861","07.06.2018\n22.06.2018\n07.06.2018","Norske Studenters Roklub\nNorske Studenters Roklub\nNorske Studenters Roklub","Erik Juel\n","48039369\n","eri-juel@online.no\n","22.08.2018\n22.08.2018\n22.08.2018"]
[{"$f":"D353&R353","v":"1339"},1,"Lør 01.09",133,null,"1545",null,null,null,null,null,null,null,0.80578894578473104,null,null,2,9,null,null,{"$f":"IF(#REF!=1,IFERROR(VLOOKUP(#REF!,[1]Sheet1!$A:$N,U$2,FALSE),\"\"),\"\")","v":{"$error":"#REF!"}},null,null,"Åpen","Mix JC","4x",null,"500 m","Aalesunds Roklub 3","Tuva-Josefine Bjørkedal-Engeset\nHeine Klauset Furuli\nNatalie Grønnevik Langlo\nGabriel Pedersen","09:00",375,null,"Aalesunds Roklub",null,null,"28.03.2006\n31.07.2005\n05.08.2005\n24.11.2004","Nei\nNei\nNei\nNei","K280306TUV01\nM310705HEI05\nK050805NAT01\nM241104GAB01","8081791\n6582360\n7095895\n7633038","14.06.2018\n30.05.2018\n30.05.2018\n30.05.2018","Aalesunds Roklub\nAalesunds Roklub\nAalesunds Roklub\nAalesunds Roklub","Johan Gerhard Myklebust\n","90894714\n","johan.myklebust@nordea.no\n","21.08.2018\n21.08.2018\n21.08.2018\n21.08.2018"]
[{"$f":"D354&R354","v":"133 "},1,"Lør 01.09",133,null,"1545",null,null,null,null,null,null,null,0.96709917827817871,null,null,2," ",null,null,{"$f":"IF(#REF!=1,IFERROR(VLOOKUP(#REF!,[1]Sheet1!$A:$N,U$2,FALSE),\"\"),\"\")","v":{"$error":"#REF!"}},null,null,"Åpen","Mix JC","4x",null,"500 m","Christiania Roklub 2","Brage Nerdal\nKaspar Olof Hilsen\nJohan isak Bryhni","09:00",375,null,"Christiania Roklub",null,null,"20.08.2004\n27.04.2005\n31.05.2005","Nei\nNei\nNei","M200804BRA04\nM270405KAS03\nM310505JOH03","7758069\n7758071\n8103116","06.03.2018\n06.03.2018\n30.05.2018","Christiania Roklub\nChristiania Roklub\nChristiania Roklub","Grete Isachsen Stokke\n","91338845\n","greteistokke@hotmail.com;grisach@gmail.com\n","22.08.2018\n22.08.2018\n22.08.2018"]
[null,null,null,null,null,null,null,null,null,null,null,null,null,0.24289702416129821,null,null,null," ",null,null,{"$f":"IF(#REF!=1,IFERROR(VLOOKUP(#REF!,[1]Sheet1!$A:$N,U$2,FALSE),\"\"),\"\")","v":{"$error":"#REF!"}}]
[{"$f":"D356&R356","v":"1340"},1,"Lør 01.09",134,null,{"$f":"VLOOKUP($D356,Tidsplan!$B:$D,3,FALSE)","v":"1555"},{"$f":"VLOOKUP($D356,Tidsplan!$B:$D,2,FALSE)","v":""},null,null,null,null,null,null,0.82448806287269183,null,"K",null,0,null,null,{"$f":"IF(#REF!=1,IFERROR(VLOOKUP(#REF!,[1]Sheet1!$A:$N,U$2,FALSE),\"\"),\"\")","v":{"$error":"#REF!"}},null,null,"H","H J A","4-",{"$f":"IF(R356<>0,LEFT(Z356,1),0)*1","v":0},"500 m"]
[{"$f":"D357&R357","v":"1341"},{"$f":"OFFSET(B357,-1,0)","v":1},"Lør 01.09",134,null,{"$f":"OFFSET(F357,-1,0)","v":"1555"},null,null,null,null,null,null,null,0.39421031196723111,null,null,1,1,null,null,{"$f":"IF(#REF!=1,IFERROR(VLOOKUP(#REF!,[1]Sheet1!$A:$N,U$2,FALSE),\"\"),\"\")","v":{"$error":"#REF!"}},null,null,"H","H J A","4-",null,"500 m","Norske Studenters Roklub 1","Petter Arnøy\nHugo Haavind\nKristian Lorentzen\nOscar Johan Høeg Wohlfahrt","09:00",375,null,"Norske Studenters Roklub",null,null,"16.02.2001\n17.05.2001\n19.05.2002\n06.05.2001","Ja\nJa\nNei\nJa","M160201PET02\nM170501HUG04\nM190502KRI05\nM060501OSC01","4179438\n7685975\n4742469\n7315162","13.04.2018\n29.03.2018\n29.03.2018\n29.03.2018","Norske Studenters Roklub\nNorske Studenters Roklub\nNorske Studenters Roklub\nNorske Studenters Roklub","Erik Juel\n","48039369\n","eri-juel@online.no\n","22.08.2018\n22.08.2018\n22.08.2018\n22.08.2018"]
[null,null,null,null,null,null,null,null,null,null,null,null,null,0.53262792912864876,null,null,null," ",null,null,{"$f":"IF(#REF!=1,IFERROR(VLOOKUP(#REF!,[1]Sheet1!$A:$N,U$2,FALSE),\"\"),\"\")","v":{"$error":"#REF!"}}]
[{"$f":"D359&R359","v":"1350"},0,"Lør 01.09",135,null,{"$f":"VLOOKUP($D359,Tidsplan!$B:$D,3,FALSE)","v":"1600"},{"$f":"VLOOKUP($D359,Tidsplan!$B:$D,2,FALSE)","v":""},null,null,null,null,null,null,0.72558188436107074,null,"K",null,0,null,null,{"$f":"IF(#REF!=1,IFERROR(VLOOKUP(#REF!,[1]Sheet1!$A:$N,U$2,FALSE),\"\"),\"\")","v":{"$error":"#REF!"}},null,null,"H","S","2-",{"$f":"IF(R359<>0,LEFT(Z359,1),0)*1","v":0},500]
[null,null,null,null,null,null,null,null,null,null,null,null,null,0.46831208821261805,null,null,null," ",null,null,{"$f":"IF(#REF!=1,IFERROR(VLOOKUP(#REF!,[1]Sheet1!$A:$N,U$2,FALSE),\"\"),\"\")","v":{"$error":"#REF!"}}]
[{"$f":"D361&R361","v":"136 "},1,"Lør 01.09",136,null,{"$f":"VLOOKUP($D361,Tidsplan!$B:$D,3,FALSE)","v":"1600"},{"$f":"VLOOKUP($D361,Tidsplan!$B:$D,2,FALSE)","v":""},null,null,null,null,null,null,0.82101995483992285,"S",null,null," ",null,null,{"$f":"IF(#REF!=1,IFERROR(VLOOKUP(#REF!,[1]Sheet1!$A:$N,U$2,FALSE),\"\"),\"\")","v":{"$error":"#REF!"}},null,null,"D","D J A","4x",{"$f":"IF(R361<>0,LEFT(Z361,1),0)*1","v":4},"500 m"]
["1361",{"$f":"OFFSET(B362,-1,0)","v":1},"Lør 01.09",136,null,{"$f":"OFFSET(F362,-1,0)","v":"1600"},null,null,null,null,null,null,null,0.93612122463174496,null,null,1,1,null,null,{"$f":"IF(#REF!=1,IFERROR(VLOOKUP(#REF!,[1]Sheet1!$A:$N,U$2,FALSE),\"\"),\"\")","v":{"$error":"#REF!"}},null,null,"D","D J A","4x",null,"500 m","Bærum Roklubb 1","Ida Aurora Moberg Værnes\nStina Halvorsen Vad\nThea Hertzum Aunaas\nCaitlin Isabelle Aalders","09:00",375,null,"Bærum Roklubb",null,null,"22.05.2002\n26.09.2000\n15.01.2001\n03.06.2001","Nei\nJa\nJa\nJa","M220502IDA01\nK260900STI02\nK150101THE02\nK030601CAI03","6806491\n6778019\n6790513\n7289717","\n13.04.2018\n17.04.2018\n17.04.2018","Bærum Roklubb\nBærum Roklubb\nBærum Roklubb\nBærum Roklubb","Bente Dingen\n","45411863\n","bente.dingen@lundin-norway.no\n","21.08.2018\n21.08.2018\n21.08.2018\n21.08.2018"]
["1362",{"$f":"OFFSET(B363,-1,0)","v":1},"Lør 01.09",136,null,{"$f":"OFFSET(F363,-1,0)","v":"1600"},null,null,null,null,null,null,null,0.25694492321688689,null,null,1,2,null,null,{"$f":"IF(#REF!=1,IFERROR(VLOOKUP(#REF!,[1]Sheet1!$A:$N,U$2,FALSE),\"\"),\"\")","v":{"$error":"#REF!"}},null,null,"D","D J A","4x",null,"500 m","Christiania Roklub 1","Anna Edine Lind Jodalen\nNicoline Lovise Lindstrøm\nMarte Morgenlie Skei\nRagnhild Wilhelmine Winther","09:00",375,null,"Christiania Roklub",null,null,"20.08.2001\n20.08.2001\n25.09.2002\n20.05.2000\n07.01.2001","Ja\nJa\nNei\nJa\nJa","K200801ANN08\nK200801ANN08\nK250902NIC02\nK200500MAR04\nK070101RAG03","8030448\n8030448\n8247202\n4488301\n7283112","14.05.2018\n14.05.2018\n14.05.2018\n31.07.2018\n06.03.2018","Christiania Roklub\nChristiania Roklub\nChristiania Roklub\nChristiania Roklub\nChristiania Roklub","Grete Isachsen Stokke\n","91338845\n","greteistokke@hotmail.com;grisach@gmail.com\n","22.08.2018\n22.08.2018\n22.08.2018\n22.08.2018\n22.08.2018",null," Esther Verburg mob 94867408 / søndag: Sigurd mob 92054453"]
["137",0,"Lør 01.09",137,null,{"$f":"VLOOKUP($D364,Tidsplan!$B:$D,3,FALSE)","v":"1605"},{"$f":"VLOOKUP($D364,Tidsplan!$B:$D,2,FALSE)","v":""},null,null,null,null,null,null,0.46733756137291771,"S",null,null,null,null,null,{"$f":"IF(#REF!=1,IFERROR(VLOOKUP(#REF!,[1]Sheet1!$A:$N,U$2,FALSE),\"\"),\"\")","v":{"$error":"#REF!"}},null,null,"H","S L"," 2x",{"$f":"IF(R364<>0,LEFT(Z364,1),0)*1","v":0},500]
["138",1,"Lør 01.09",138,null,{"$f":"VLOOKUP($D365,Tidsplan!$B:$D,3,FALSE)","v":"1605"},{"$f":"VLOOKUP($D365,Tidsplan!$B:$D,2,FALSE)","v":""},null,null,null,null,null,null,0.65967719606858688,"S",null,null,null,null,null,{"$f":"IF(#REF!=1,IFERROR(VLOOKUP(#REF!,[1]Sheet1!$A:$N,U$2,FALSE),\"\"),\"\")","v":{"$error":"#REF!"}},null,null,"D","D SLv","1x",{"$f":"IF(R365<>0,LEFT(Z365,1),0)*1","v":0},"500 m","Går med løp 140 kl 1605"]
["1380",{"$f":"OFFSET(B366,-1,0)","v":1},"Lør 01.09",1380,null,{"$f":"OFFSET(F366,-1,0)","v":"1605"},null,null,null,null,null,null,null,0.30842960093232008,null,null,null,null,null,null,{"$f":"IF(#REF!=1,IFERROR(VLOOKUP(#REF!,[1]Sheet1!$A:$N,U$2,FALSE),\"\"),\"\")","v":{"$error":"#REF!"}},null,null,"D","D SLv","1x",null,"500 m","Bærum Roklubb",null,"09:00",275,null,"Bærum Roklubb","Nei",null,"11.08.1999","Ja","K110899SYN06","8145400","13.04.2018","Bærum Roklubb","Bente Dingen","45411863","bente.dingen@lundin-norway.no","21.08.2018"]
["13801",1,"Lør 01.09",1380,null,"1605",null,null,null,null,null,null,null,0.8828743830491278,null,null,1,1,null,null,{"$f":"IF(#REF!=1,IFERROR(VLOOKUP(#REF!,[1]Sheet1!$A:$N,U$2,FALSE),\"\"),\"\")","v":{"$error":"#REF!"}},null,null,"D","D SLv","1x",null,"500 m","Christiania Roklub",null,"09:00",275,null,"Christiania Roklub","Nei",null,"29.01.1989","Ja","K290189VIK03","7787823","30.05.2018","Christiania Roklub","Grete Isachsen Stokke","91338845","greteistokke@hotmail.com;grisach@gmail.com","22.08.2018"]
["13802",1,"Lør 01.09",1380,null,"1605",null,null,null,null,null,null,null,0.81055530029946654,null,null,1,2,null,null,{"$f":"IF(#REF!=1,IFERROR(VLOOKUP(#REF!,[1]Sheet1!$A:$N,U$2,FALSE),\"\"),\"\")","v":{"$error":"#REF!"}},null,null,"D","D SLv","1x",null,"500 m","Tønsberg Roklub","Lene Samland","09:00",275,null,"Tønsberg Roklub","Nei",null,"30.11.2000","Nei","K301100LEN03","6134299","13.04.2018","Tønsberg Roklub",null,"92061715","svendandersen@me.com","21.08.2018"]
["1390",1,"Lør 01.09",139,null,{"$f":"VLOOKUP($D369,Tidsplan!$B:$D,3,FALSE)","v":"1615"},{"$f":"VLOOKUP($D369,Tidsplan!$B:$D,2,FALSE)","v":""},null,null,null,null,null,null,0.38268992926468759,"S",null,null,0,null,null,{"$f":"IF(#REF!=1,IFERROR(VLOOKUP(#REF!,[1]Sheet1!$A:$N,U$2,FALSE),\"\"),\"\")","v":{"$error":"#REF!"}},null,null,"H","H S","4x",{"$f":"IF(R369<>0,LEFT(Z369,1),0)*1","v":0},"500 m","Går med løp 140 kl 1605"]
["1391",1,"Lør 01.09",139,null,"1615",null,null,null,null,null,null,null,0.49063708737483092,null,null,1,1,null,null,{"$f":"IF(#REF!=1,IFERROR(VLOOKUP(#REF!,[1]Sheet1!$A:$N,U$2,FALSE),\"\"),\"\")","v":{"$error":"#REF!"}},null,null,"H","H M","4x",null,"500 m","Bærum Roklubb 1","Kjell Fotland\nAlf bertheus Heitmann\nJan Rüdiger Weitzenböck\nPeter Draleke","09:00",375,null,"Bærum Roklubb",null,null,"17.10.1948\n16.10.1943\n01.03.1966\n14.04.1966","Ja\nJa\nJa\nJa","M171048KJE03\nM161043ALF01\nM010366JAN02\nM140466PET01","5950012\n8045966\n6761517\n8125484","\n\n\n","Bærum Roklubb\nBærum Roklubb\nBærum Roklubb\nBærum Roklubb","Bente Dingen\n","45411863\n","bente.dingen@lundin-norway.no\n","22.08.2018\n22.08.2018\n22.08.2018\n22.08.2018"]
["1392",1,"Lør 01.09",139,null,"1615",null,null,null,null,null,null,null,0.56642510850594885,null,null,1,2,null,null,{"$f":"IF(#REF!=1,IFERROR(VLOOKUP(#REF!,[1]Sheet1!$A:$N,U$2,FALSE),\"\"),\"\")","v":{"$error":"#REF!"}},null,null,"H","H M","4x",null,"500 m","Norske Studenters Roklub 1","Halvor Torjus Bergan\nKristian Strime Schønberg Christensen\nEduardo Fernandes Caetano Reis\nEinar Bratli","09:00",375,null,"Norske Studenters Roklub",null,null,"04.10.1965\n27.02.1969\n02.11.1983\n04.03.1964","Ja\nJa\nJa\nJa","M041065HAL03\nM270269KRI06\nM021183EDU03\nM040364EIN01","6340602\n8099483\n8238773\n8140951","07.06.2018\n\n\n","Norske Studenters Roklub,Oslo Roklubb\nNorske Studenters Roklub,Oslo Roklubb\nNorske Studenters Roklub\nUkjent/ikke registrert klubb","Erik Juel\n","48039369\n","eri-juel@online.no\n","22.08.2018\n22.08.2018\n22.08.2018\n22.08.2018"]
["1400",1,"Lør 01.09",140,null,{"$f":"VLOOKUP($D372,Tidsplan!$B:$D,3,FALSE)","v":"1620"},{"$f":"VLOOKUP($D372,Tidsplan!$B:$D,2,FALSE)","v":"0900"},null,null,null,null,null,null,4.8955150214641363E-2,null,"K",null,0,null,null,{"$f":"IF(#REF!=1,IFERROR(VLOOKUP(#REF!,[1]Sheet1!$A:$N,U$2,FALSE),\"\"),\"\")","v":{"$error":"#REF!"}},null,null,"H","H J A","2x",{"$f":"IF(R372<>0,LEFT(Z372,1),0)*1","v":0},"500 m "]
["140",{"$f":"OFFSET(B373,-1,0)","v":1},"Lør 01.09",140,null,{"$f":"OFFSET(F373,-1,0)","v":"1620"},null,null,null,null,null,null,null,0.78547241220961905,null,null,null,null,null,null,{"$f":"IF(#REF!=1,IFERROR(VLOOKUP(#REF!,[1]Sheet1!$A:$N,U$2,FALSE),\"\"),\"\")","v":{"$error":"#REF!"}},null,null,"H","H J A","2x",null,"500 m ","Bærum Roklubb 1","Lars Moberg Værnes\nØystein Dingen Endresen","09:00",325,null,"Bærum Roklubb",null,null,"02.06.2000\n20.06.2000","Ja\nJa","M020600LAR04\nM070600ØYS01","6806488\n5372192","\n13.04.2018","Bærum Roklubb\nBærum Roklubb","Bente Dingen\n","45411863\n","bente.dingen@lundin-norway.no\n","22.08.2018\n22.08.2018"]
["140",1,"Lør 01.09",140,null,"1620",null,null,null,null,null,null,null,0.11960363869878754,null,null,null,null,null,null,{"$f":"IF(#REF!=1,IFERROR(VLOOKUP(#REF!,[1]Sheet1!$A:$N,U$2,FALSE),\"\"),\"\")","v":{"$error":"#REF!"}},null,null,"H","H J A","2x",null,"500 m ","Bærum Roklubb 2","Eirik Hauge\nSindre Fuglseth","09:00",325,null,"Bærum Roklubb",null,null,"12.09.2000\n26.09.2000","Ja\nJa","M120900BRA03\nM260900SIN02","4908711\n6073987","17.04.2018\n17.04.2018","Bærum Roklubb\nBærum Roklubb","Bente Dingen\n","45411863\n","bente.dingen@lundin-norway.no\n","22.08.2018\n22.08.2018"]
["140",1,"Lør 01.09",140,null,"1620",null,null,null,null,null,null,null,0.43262627475249849,null,null,null,null,null,null,{"$f":"IF(#REF!=1,IFERROR(VLOOKUP(#REF!,[1]Sheet1!$A:$N,U$2,FALSE),\"\"),\"\")","v":{"$error":"#REF!"}},null,null,"H","H J A","2x",null,"500 m ","Christiania Roklub 1","Tinius Halvdan Wilhelmsen\nAndreas Dugstad Sørskaar","09:00",325,null,"Christiania Roklub",null,null,"18.10.2001\n10.06.2001","Ja\nJa","M181001TIN04\nM100601AND03","6005810\n5234159","03.04.2018\n","Christiania Roklub\nChristiania Roklub","Grete Isachsen Stokke\n","91338845\n","greteistokke@hotmail.com;grisach@gmail.com\n","22.08.2018\n22.08.2018"]
["140",1,"Lør 01.09",140,null,"1620",null,null,null,null,null,null,null,0.54352635832955742,null,null,null,null,null,null,{"$f":"IF(#REF!=1,IFERROR(VLOOKUP(#REF!,[1]Sheet1!$A:$N,U$2,FALSE),\"\"),\"\")","v":{"$error":"#REF!"}},null,null,"H","H J A","2x",null,"500 m ","Christiania Roklub 2","Marius Bjørn-Hansen Ahlsand\nJonathan Wang-Norderud","09:00",325,null,"Christiania Roklub",null,null,"22.01.2002\n19.07.2002","Nei\nNei","M220102MAR12\nM190702JON01","7781581\n5260818","06.03.2018\n","Christiania Roklub\nChristiania Roklub","Grete Isachsen Stokke\n","91338845\n","greteistokke@hotmail.com;grisach@gmail.com\n","22.08.2018\n22.08.2018"]
["140",1,"Lør 01.09",140,null,"1620",null,null,null,null,null,null,null,0.61772743698317256,null,null,null,null,null,null,{"$f":"IF(#REF!=1,IFERROR(VLOOKUP(#REF!,[1]Sheet1!$A:$N,U$2,FALSE),\"\"),\"\")","v":{"$error":"#REF!"}},null,null,"H","H J A","2x",null,"500 m ","Sarpsborg Roklubb ","Diderik Fabian Sørby Skjønhaug\nJacob Gundersen","09:00",325,null,"Sarpsborg Roklubb - Roing",null,null,"28.12.2000\n08.04.2001","Ja\nJa","M281200DID01\nM080401JAC01","5330116\n5584584","22.03.2018\n22.03.2018","Sarpsborg Roklubb - Roing\nSarpsborg Roklubb - Roing","Thomas Gundersen\n","91874904\n","Thomas.gundersen@afgruppen.no;thomas.gundersen@afgruppen.no\n","22.08.2018\n22.08.2018"]
["140",1,"Lør 01.09",140,null,"1620",null,null,null,null,null,null,null,0.86300614945301446,null,null,null,null,null,null,{"$f":"IF(#REF!=1,IFERROR(VLOOKUP(#REF!,[1]Sheet1!$A:$N,U$2,FALSE),\"\"),\"\")","v":{"$error":"#REF!"}},null,null,"H","H J A","2x",null,"500 m ","Tønsberg Roklub 1","Lars Jørann Lindgren\nIsak Vartal-Gjerde","09:00",325,null,"Tønsberg Roklub",null,null,"30.05.2001\n24.12.2000","Ja\nJa","M300501LAR02\nM241200ISA03","4234298\n7173184","13.04.2018\n13.04.2018","Tønsberg Roklub\nTønsberg Roklub","Svend Andersen\n","92061715\n","svendandersen@me.com\n","21.08.2018\n21.08.2018"]
["140",1,"Lør 01.09",140,null,"1620",null,null,null,null,null,null,null,0.9054631890337973,null,null,null,null,null,null,{"$f":"IF(#REF!=1,IFERROR(VLOOKUP(#REF!,[1]Sheet1!$A:$N,U$2,FALSE),\"\"),\"\")","v":{"$error":"#REF!"}},null,null,"H","H J A","2x",null,"500 m","Aalesunds Roklub","Fredrik Reite\n Arild Lykkebø Johnsen","09:00",325,null,"Aalesunds Roklub",null,null,null,"Nei\nNei",null,null,null,"Aalesunds Roklub\nAalesunds Roklub","Johan Gerhard Myklebust\n","90894714\n","johan.myklebust@nordea.no\n","21.08.2018\n21.08.2018"]
[null,null,null,null,null,null,null,null,null,null,null,null,null,0.5286803082088376,null,null,null," ",null,null,{"$f":"IF(#REF!=1,IFERROR(VLOOKUP(#REF!,[1]Sheet1!$A:$N,U$2,FALSE),\"\"),\"\")","v":{"$error":"#REF!"}}]
[{"$f":"D381&R381","v":"1410"},1,"Lør 01.09",141,null,{"$f":"VLOOKUP($D381,Tidsplan!$B:$D,3,FALSE)","v":"1625"},{"$f":"VLOOKUP($D381,Tidsplan!$B:$D,2,FALSE)","v":""},null,null,null,null,null,null,0.75501862313103896,null,"K",null,0,".",".",{"$f":"IF(#REF!=1,IFERROR(VLOOKUP(#REF!,[1]Sheet1!$A:$N,U$2,FALSE),\"\"),\"\")","v":{"$error":"#REF!"}},null,null,"H","H J B","4x",{"$f":"IF(R381<>0,LEFT(Z381,1),0)*1","v":0},"500 m"]
["1411",{"$f":"OFFSET(B382,-1,0)","v":1},"Lør 01.09",141,null,{"$f":"OFFSET(F382,-1,0)","v":"1625"},null,null,null,null,null,null,null,0.206877276298849,null,null,1,1,null,null,{"$f":"IF(#REF!=1,IFERROR(VLOOKUP(#REF!,[1]Sheet1!$A:$N,U$2,FALSE),\"\"),\"\")","v":{"$error":"#REF!"}},null,null,"H","H J B","4x",null,"500 m","Christiania Roklub 1","Jacob Balder Hagen\nLorentz Andreas Rogge Pran\nJostein Eriksen Thon\nChristoffer Widding","09:00",375,null,"Christiania Roklub",null,null,"14.01.2004\n29.01.2004\n08.01.2004\n25.04.2004","Nei\nNei\nNei\nNei","M140104JAC01\nM290104LOR01\nM080104JOS02\nM250404CHR01","7522750\n8138326\n6201834\n5051812","\n06.03.2018\n06.03.2018\n06.03.2018","Christiania Roklub\nChristiania Roklub\nChristiania Roklub\nChristiania Roklub","Grete Isachsen Stokke\n","91338845\n","greteistokke@hotmail.com;grisach@gmail.com\n","22.08.2018\n22.08.2018\n22.08.2018\n22.08.2018"]
["1412",1,"Lør 01.09",141,null,"1625",null,null,null,null,null,null,null,0.40830763723586772,null,null,1,2,null,null,{"$f":"IF(#REF!=1,IFERROR(VLOOKUP(#REF!,[1]Sheet1!$A:$N,U$2,FALSE),\"\"),\"\")","v":{"$error":"#REF!"}},null,null,"H","H J B","4x",null,"500 m","Aalesunds Roklub 2","Peter Prytz Berset\nGabriel Pedersen\nMagnus Rønstad\nAnders Myklebust Øyen","09:00",375,null,"Aalesunds Roklub",null,null,"22.12.2005\n24.11.2004\n28.08.2005\n20.07.2005","Nei\nNei\nNei\nNei","M221205PET02\nM241104GAB01\nM280805MAG03\nM200705AND02","7619015\n7633038\n7096143\n6228122","30.05.2018\n30.05.2018\n30.05.2018\n30.05.2018","Aalesunds Roklub\nAalesunds Roklub\nAalesunds Roklub\nAalesunds Roklub","Johan Gerhard Myklebust\n","90894714\n","johan.myklebust@nordea.no\n","21.08.2018\n21.08.2018\n21.08.2018\n21.08.2018"]
["1413",1,"Lør 01.09",141,null,"1625",null,null,null,null,null,null,null,0.4226392210689851,null,null,1,3,null,null,{"$f":"IF(#REF!=1,IFERROR(VLOOKUP(#REF!,[1]Sheet1!$A:$N,U$2,FALSE),\"\"),\"\")","v":{"$error":"#REF!"}},null,null,"H","H J B","4x",null,"500 m","Norske Studenters Roklub 1","Kristofer Grønntun\nKnut Wang Melbye\nJack Schønberg","09:00",375,null,"Norske Studenters Roklub",null,null,"28.07.2003\n29.06.2002\n01.01.2003","Ja\nJa\nJa","M280703KRI02\nM290602KNU03\nM010103JAC04","4936947\n8137181\n8247213","07.06.2018\n29.03.2018\n07.06.2018","Norske Studenters Roklub\nNorske Studenters Roklub\nNorske Studenters Roklub","Erik Juel\n","48039369\n","eri-juel@online.no\n","22.08.2018\n22.08.2018\n22.08.2018"]
["1414",1,"Lør 01.09",141,null,"1625",null,null,null,null,null,null,null,0.72755528284881055,null,null,1,4,null,null,{"$f":"IF(#REF!=1,IFERROR(VLOOKUP(#REF!,[1]Sheet1!$A:$N,U$2,FALSE),\"\"),\"\")","v":{"$error":"#REF!"}},null,null,"H","H J B","4x",null,"500 m","Moss Roklubb 1","Viktor Emanuel Vatterdal Rekstad\nSimen Solbakken Thømt\nSimen Meinike Dørre","09:00",375,null,"Moss Roklubb",null,null,"29.01.2003\n17.05.2002\n01.04.2003","Ja\nJa\nJa","M290103VIK01\nM170502SIM07\nM010403SIM03","5993278\n7189809\n7261136","22.03.2018\n22.03.2018\n22.03.2018","Moss Roklubb\nMoss Roklubb\nMoss Roklubb","Jon Børre Rekstad\n","92252667\n","rekstad0@gmail.com\n","22.08.2018\n22.08.2018\n22.08.2018"]
["1415",1,"Lør 01.09",141,null,"1625",null,null,null,null,null,null,null,0.85438252853729424,null,null,1,5,null,null,{"$f":"IF(#REF!=1,IFERROR(VLOOKUP(#REF!,[1]Sheet1!$A:$N,U$2,FALSE),\"\"),\"\")","v":{"$error":"#REF!"}},null,null,"H","H J B","4x",null,"500 m","Sarpsborg Roklubb / Ormsund Roklubb","Majlind Begaj\nPhilip Draget\nMarius Antonsen Thime\nTruls Oskar Hansen","09:00",375,null,"Sarpsborg Roklubb - Roing",null,null,"30.04.2002\n22.10.2004\n07.06.2004\n22.07.2004","Ja\nNei\nNei\nNei","M300402MAJ01\nM221004NOR01\nM070604MAR06\nM220704TRU01","6977105\n6917184\n6707662\n7203412","22.03.2018\n22.03.2018\n22.03.2018\n06.04.2018","Sarpsborg Roklubb - Roing\nSarpsborg Roklubb - Roing\nSarpsborg Roklubb - Roing\nOrmsund Roklub","Thomas Gundersen\n","91874904\n","Thomas.gundersen@afgruppen.no;thomas.gundersen@afgruppen.no\n","22.08.2018\n22.08.2018\n22.08.2018\n22.08.2018"]
["1416",1,"Lør 01.09",141,null,"1625",null,null,null,null,null,null,null,0.90474090395045514,null,null,1,6,null,null,{"$f":"IF(#REF!=1,IFERROR(VLOOKUP(#REF!,[1]Sheet1!$A:$N,U$2,FALSE),\"\"),\"\")","v":{"$error":"#REF!"}},null,null,"H","H J B","4x",null,"500 m","Aalesunds Roklub 1","Heine Klauset Furuli\nPhilip Andreas Monsen\nErlend Devold Refsum\nMads Reite","09:00",375,null,"Aalesunds Roklub",null,null,"31.07.2005\n02.02.2005\n12.05.2004\n27.05.2006","Nei\nNei\nNei\nNei","M310705HEI05\nM020205PHI01\nM120504ERL04\nM270506MAD02","6582360\n6948464\n8150106\n8233207","30.05.2018\n30.05.2018\n30.05.2018\n30.05.2018","Aalesunds Roklub\nAalesunds Roklub\nAalesunds Roklub\nAalesunds Roklub","Johan Gerhard Myklebust\n","90894714\n","johan.myklebust@nordea.no\n","21.08.2018\n21.08.2018\n21.08.2018\n21.08.2018"]
[null,null,null,null,null,null,null,null,null,null,null,null,null,0.85031563073849359,null,null,null,0,null,null,{"$f":"IF(#REF!=1,IFERROR(VLOOKUP(#REF!,[1]Sheet1!$A:$N,U$2,FALSE),\"\"),\"\")","v":{"$error":"#REF!"}}]
[{"$f":"D389&R389","v":"1420"},1,"Lør 01.09",142,null,{"$f":"VLOOKUP($D389,Tidsplan!$B:$D,3,FALSE)","v":"1630"},{"$f":"VLOOKUP($D389,Tidsplan!$B:$D,2,FALSE)","v":""},null,null,null,null,null,null,0.71348178815859364,null,"K",null,0,null,null,{"$f":"IF(#REF!=1,IFERROR(VLOOKUP(#REF!,[1]Sheet1!$A:$N,U$2,FALSE),\"\"),\"\")","v":{"$error":"#REF!"}},null,null,"H","H M","1x",{"$f":"IF(R389<>0,LEFT(Z389,1),0)*1","v":0},"500 m",null,"Løp 136 går sammen med dette"]
[{"$f":"D390&R390","v":"1421"},{"$f":"OFFSET(B390,-1,0)","v":1},"Lør 01.09",142,null,{"$f":"OFFSET(F390,-1,0)","v":"1630"},null,null,null,null,null,null,null,0.57394180940136408,null,null,1,1,null,null,{"$f":"IF(#REF!=1,IFERROR(VLOOKUP(#REF!,[1]Sheet1!$A:$N,U$2,FALSE),\"\"),\"\")","v":{"$error":"#REF!"}},null,null,"H","H M","1x",null,"500 m","Oslo Roklubb","Anders Formo","09:00",275,null,"Oslo Roklubb","Nei",null,"22.04.1959","Ja","M220459AND01","5795061","06.05.2018","Oslo Roklubb","Peter Ellingsen","97505494","peter.ellingsen@vikenfiber.no","22.08.2018"]
[{"$f":"D391&R391","v":"1422"},{"$f":"OFFSET(B391,-1,0)","v":1},"Lør 01.09",142,null,{"$f":"OFFSET(F391,-1,0)","v":"1630"},null,null,null,null,null,null,null,0.68802566446062952,null,null,1,2,null,null,{"$f":"IF(#REF!=1,IFERROR(VLOOKUP(#REF!,[1]Sheet1!$A:$N,U$2,FALSE),\"\"),\"\")","v":{"$error":"#REF!"}},null,null,"H","H M","1x",null,"500 m","Christiania Roklub","Helge Refsum","09:00",275,null,"Christiania Roklub","Nei",null,"16.09.1947","Ja","M160947HEL01","5391103","21.03.2018","Christiania Roklub","Grete Isachsen Stokke","91338845","greteistokke@hotmail.com;grisach@gmail.com","22.08.2018"]
[{"$f":"D392&R392","v":"1423"},{"$f":"OFFSET(B392,-1,0)","v":1},"Lør 01.09",142,null,{"$f":"OFFSET(F392,-1,0)","v":"1630"},null,null,null,null,null,null,null,0.88053497061878983,null,null,1,3,null,null,{"$f":"IF(#REF!=1,IFERROR(VLOOKUP(#REF!,[1]Sheet1!$A:$N,U$2,FALSE),\"\"),\"\")","v":{"$error":"#REF!"}},null,null,"H","H M","1x",null,"500 m","Ormsund Roklub","Jens Christian Riis","09:00",275,null,"Ormsund Roklub","Nei",null,"25.03.1964","Ja","M250364JEN02","8030339","06.04.2018","Ormsund Roklub","Eva Hansen","90799966","eva.hansen@wenaasnordic.com","22.08.2018"]
[{"$f":"D393&R393","v":"1424"},{"$f":"OFFSET(B393,-1,0)","v":1},"Lør 01.09",142,null,{"$f":"OFFSET(F393,-1,0)","v":"1630"},null,null,null,null,null,null,null,0.93954886567029094,null,null,1,4,null,null,{"$f":"IF(#REF!=1,IFERROR(VLOOKUP(#REF!,[1]Sheet1!$A:$N,U$2,FALSE),\"\"),\"\")","v":{"$error":"#REF!"}},null,null,"H","H M","1x",null,"500 m","Norske Studenters Roklub","Tor-geir Myhrer","09:00",275,null,"Norske Studenters Roklub","Nei",null,"20.05.1952","Ja","M200552TOR02","5781431","07.06.2018","Norske Studenters Roklub","Erik Juel","48039369","eri-juel@online.no","22.08.2018"]
[{"$f":"D394&R394","v":"1425"},{"$f":"OFFSET(B394,-1,0)","v":1},"Lør 01.09",142,null,{"$f":"OFFSET(F394,-1,0)","v":"1630"},null,null,null,null,null,null,null,0.77328175198263882,null,null,1,5,null,null,{"$f":"IF(#REF!=1,IFERROR(VLOOKUP(#REF!,[1]Sheet1!$A:$N,U$2,FALSE),\"\"),\"\")","v":{"$error":"#REF!"}},null,null,"H","H M","1x",null,"500 m","Christiania Roklub","Kjetil Undset","09:00",275,null,"Christiania Roklub","Nei",null,"24.08.1970","Ja","M240870KJE01","573717","22.08.2018","Christiania Roklub","Grete Isachsen Stokke","91338845","greteistokke@hotmail.com;grisach@gmail.com","22.08.2018"]
[null,null,null,null,null,null,null,null,null,null,null,null,null,0.31679797601344717,null,null,null," ",null,null,{"$f":"IF(#REF!=1,IFERROR(VLOOKUP(#REF!,[1]Sheet1!$A:$N,U$2,FALSE),\"\"),\"\")","v":{"$error":"#REF!"}}]
[{"$f":"D396&R396","v":"1430"},1,"Lør 01.09",143,null,{"$f":"VLOOKUP($D396,Tidsplan!$B:$D,3,FALSE)","v":"1635"},{"$f":"VLOOKUP($D396,Tidsplan!$B:$D,2,FALSE)","v":""},null,null,null,null,null,null,null," ",null,null,0,null,null,{"$f":"IF(#REF!=1,IFERROR(VLOOKUP(#REF!,[1]Sheet1!$A:$N,U$2,FALSE),\"\"),\"\")","v":{"$error":"#REF!"}},null,null,"D","D M","1x",{"$f":"IF(R396<>0,LEFT(Z396,1),0)*1","v":0},"500 m"]
[{"$f":"D397&R397","v":"1431"},{"$f":"OFFSET(B397,-1,0)","v":1},"Lør 01.09",143,null,{"$f":"OFFSET(F397,-1,0)","v":"1635"},null,null,null,null,null,null,null,0.89524227737041329,null,null,1,1,null,null,{"$f":"IF(#REF!=1,IFERROR(VLOOKUP(#REF!,[1]Sheet1!$A:$N,U$2,FALSE),\"\"),\"\")","v":{"$error":"#REF!"}},null,null,"D","D M","1x",null,"500 m","Ormsund Roklub","Line Parelius","09:00",275,null,"Ormsund Roklub","Nei",null,"10.02.1974","Ja","K100274LIN02","2136071","06.04.2018","Ormsund Roklub","Eva Hansen","90799966","eva.hansen@wenaasnordic.com","22.08.2018"]
[null,null,null,null,null,null,null,null,null,null,null,null,null,null,null,null,null,null,null,null,{"$f":"IF(#REF!=1,IFERROR(VLOOKUP(#REF!,[1]Sheet1!$A:$N,U$2,FALSE),\"\"),\"\")","v":{"$error":"#REF!"}}]
[null,null,null,null,null,null,null,null,null,null,null,null,null,null,null,null,null,null,null,null,{"$f":"IF(#REF!=1,IFERROR(VLOOKUP(#REF!,[1]Sheet1!$A:$N,U$2,FALSE),\"\"),\"\")","v":{"$error":"#REF!"}}]
[{"$f":"D400&R400","v":"6"},{"$f":"OFFSET(B400,-1,0)","v":0},"Lør 22.8",null,null,null,null,null,null,null,null,null,null,0.59955859619469221,null,null,null,6,0,0,{"$f":"IF(#REF!=1,IFERROR(VLOOKUP(#REF!,[1]Sheet1!$A:$N,U$2,FALSE),\"\"),\"\")","v":{"$error":"#REF!"}},null,null,null,null,null,{"$f":"IF(R400<>0,LEFT(Z400,1),0)*1","v":{"$error":"#VALUE!"}}]
[{"$f":"D401&R401","v":""},1,null,null,null,null,null,null,null,null,null,null,null,0.45267019722170854,null,null,null,null,null,null,{"$f":"IF(#REF!=1,IFERROR(VLOOKUP(#REF!,[1]Sheet1!$A:$N,U$2,FALSE),\"\"),\"\")","v":{"$error":"#REF!"}}]
["",{"$f":"OFFSET(B402,-1,0)","v":1},null,null,null,null,null,null,null,null,null,null,null,0.13874615807976765,null,null,null,null,null,null,{"$f":"IF(#REF!=1,IFERROR(VLOOKUP(#REF!,[1]Sheet1!$A:$N,U$2,FALSE),\"\"),\"\")","v":{"$error":"#REF!"}},null,null,null,null,null,null,null,null,null,null,null,null,"Bærum Roklubb",null,null,"02.06.2000\n20.06.2000","Ja\nJa","M020600LAR04\nM070600ØYS01","6806488\n5372192","\n13.04.2018","Bærum Roklubb\nBærum Roklubb","Bente Dingen\n","45411863\n","bente.dingen@lundin-norway.no\n","22.08.2018\n22.08.2018"]
["",1,null,null,null,null,null,null,null,null,null,null,null,0.43474743105848956,null,null,null,null,null,null,{"$f":"IF(#REF!=1,IFERROR(VLOOKUP(#REF!,[1]Sheet1!$A:$N,U$2,FALSE),\"\"),\"\")","v":{"$error":"#REF!"}},null,null,null,null,null,null,null,null,null,null,null,null,"Bærum Roklubb",null,null,"26.09.2000\n17.06.2000","Ja\nJa","M260900SIN02\nM170600PET01","6073987\n8020362","17.04.2018\n17.04.2018","Bærum Roklubb\nBærum Roklubb","Bente Dingen\n","45411863\n","bente.dingen@lundin-norway.no\n","22.08.2018\n22.08.2018"]
["",1,null,null,null,null,null,null,null,null,null,null,null,0.38651915593018948,null,null,null,null,null,null,{"$f":"IF(#REF!=1,IFERROR(VLOOKUP(#REF!,[1]Sheet1!$A:$N,U$2,FALSE),\"\"),\"\")","v":{"$error":"#REF!"}},null,null,null,null,null,null,null,null,null,null,null,null,"Bærum Roklubb",null,null,"12.09.2000\n17.04.2000","Ja\nJa","M120900BRA03\nM170400EIR06","4908711\n5663596","17.04.2018\n","Bærum Roklubb\nBærum Roklubb","Bente Dingen\n","45411863\n","bente.dingen@lundin-norway.no\n","22.08.2018\n22.08.2018"]
["",1,null,null,null,null,null,null,null,null,null,null,null,0.84208750233525986,null,null,null,null,null,null,{"$f":"IF(#REF!=1,IFERROR(VLOOKUP(#REF!,[1]Sheet1!$A:$N,U$2,FALSE),\"\"),\"\")","v":{"$error":"#REF!"}},null,null,null,null,null,null,null,null,null,null,null,null,"Ormsund Roklub",null,null,"12.05.2001\n04.12.2000","Ja\nJa","M120501JON02\nM041200OSK04","8128878\n7369821","06.04.2018\n06.04.2018","Ormsund Roklub\nOrmsund Roklub","Eva Hansen\n","90799966\n","eva.hansen@wenaasnordic.com\n","22.08.2018\n22.08.2018"]
["",1,null,null,null,null,null,null,null,null,null,null,null,0.96788547879114073,null,null,null,null,null,null,{"$f":"IF(#REF!=1,IFERROR(VLOOKUP(#REF!,[1]Sheet1!$A:$N,U$2,FALSE),\"\"),\"\")","v":{"$error":"#REF!"}},null,null,null,null,null,null,null,null,null,null,null,null,"Sarpsborg Roklubb - Roing",null,null,"28.12.2000\n08.04.2001","Ja\nJa","M281200DID01\nM080401JAC01","5330116\n5584584","22.03.2018\n22.03.2018","Sarpsborg Roklubb - Roing\nSarpsborg Roklubb - Roing","Thomas Gundersen\n","91874904\n","Thomas.gundersen@afgruppen.no;thomas.gundersen@afgruppen.no\n","22.08.2018\n22.08.2018"]
["",1,null,null,null,null,null,null,null,null,null,null,null,0.70482813087923379,null,null,null,null,null,null,{"$f":"IF(#REF!=1,IFERROR(VLOOKUP(#REF!,[1]Sheet1!$A:$N,U$2,FALSE),\"\"),\"\")","v":{"$error":"#REF!"}},null,null,null,null,null,null,null,null,null,null,null,null,"Tønsberg Roklub",null,null,"30.05.2001\n24.12.2000","Ja\nJa","M300501LAR02\nM241200ISA03","4234298\n7173184","13.04.2018\n13.04.2018","Tønsberg Roklub\nTønsberg Roklub","Svend Andersen\n","92061715\n","svendandersen@me.com\n","21.08.2018\n21.08.2018"]
["",1,null,null,null,null,null,null,null,null,null,null,null,0.9054631890337973,null,null,null,null,null,null,{"$f":"IF(#REF!=1,IFERROR(VLOOKUP(#REF!,[1]Sheet1!$A:$N,U$2,FALSE),\"\"),\"\")","v":{"$error":"#REF!"}},null,null,null,null,null,null,null,null,null,null,null,null,"Aalesunds Roklub",null,null,null,"Nei\nNei",null,null,null,"Aalesunds Roklub\nAalesunds Roklub","Johan Gerhard Myklebust\n","90894714\n","johan.myklebust@nordea.no\n","21.08.2018\n21.08.2018"]
["",1,null,null,null,null,null,null,null,null,null,null,null,null,null,null,null,null,null,null,{"$f":"IF(#REF!=1,IFERROR(VLOOKUP(#REF!,[1]Sheet1!$A:$N,U$2,FALSE),\"\"),\"\")","v":{"$error":"#REF!"}}]
["",{"$f":"OFFSET(B410,-1,0)","v":1},null,null,null,null,null,null,null,null,null,null,null,0.29593090670988709,null,null,null,null,null,null,{"$f":"IF(#REF!=1,IFERROR(VLOOKUP(#REF!,[1]Sheet1!$A:$N,U$2,FALSE),\"\"),\"\")","v":{"$error":"#REF!"}},null,null,null,null,null,null,null,null,null,null,null,null,"Norske Studenters Roklub",null,null,"18.05.2003\n25.07.2003","Ja\nJa","K180503ELL02\nK250703MAR04","5567226\n5247452","29.03.2018\n29.03.2018","Norske Studenters Roklub\nNorske Studenters Roklub","Erik Juel\n","48039369\n","eri-juel@online.no\n","22.08.2018\n22.08.2018"]
["",1,null,null,null,null,null,null,null,null,null,null,null,0.14392271455512362,null,null,null,null,null,null,{"$f":"IF(#REF!=1,IFERROR(VLOOKUP(#REF!,[1]Sheet1!$A:$N,U$2,FALSE),\"\"),\"\")","v":{"$error":"#REF!"}},null,null,null,null,null,null,null,null,null,null,null,null,"Christiania Roklub",null,null,"01.01.2003\n31.03.2003","Ja\nJa","K010103VÅR01\nK310303MAR02","7755151\n7896615","06.03.2018\n06.03.2018","Christiania Roklub\nChristiania Roklub","Grete Isachsen Stokke\n","91338845\n","greteistokke@hotmail.com;grisach@gmail.com\n","22.08.2018\n22.08.2018"]
["",1,null,null,null,null,null,null,null,null,null,null,null,0.19560825857061326,null,null,null,null,null,null,{"$f":"IF(#REF!=1,IFERROR(VLOOKUP(#REF!,[1]Sheet1!$A:$N,U$2,FALSE),\"\"),\"\")","v":{"$error":"#REF!"}},null,null,null,null,null,null,null,null,null,null,null,null,"Drammen Roklubb ",null,null,"22.01.2002\n23.02.2004","Ja\nNei","K220102VIC04\nK230304TAL01","8199687\n7310638","12.03.2018\n12.03.2018","Drammen Roklubb \nDrammen Roklubb ","Beate Pharo\n","90660478\n","beatepharo@gmail.com\n","21.08.2018\n21.08.2018"]
["",1,null,null,null,null,null,null,null,null,null,null,null,0.5087716742607723,null,null,null,null,null,null,{"$f":"IF(#REF!=1,IFERROR(VLOOKUP(#REF!,[1]Sheet1!$A:$N,U$2,FALSE),\"\"),\"\")","v":{"$error":"#REF!"}},null,null,null,null,null,null,null,null,null,null,null,null,"Norske Studenters Roklub",null,null,"11.04.2003\n28.08.2003","Ja\nJa","K110403FAB02\nK280803NOR01","6318695\n7850270","29.03.2018\n07.06.2018","Norske Studenters Roklub\nNorske Studenters Roklub","Erik Juel\n","48039369\n","eri-juel@online.no\n","22.08.2018\n22.08.2018"]
["",1,null,null,null,null,null,null,null,null,null,null,null,0.52280510993627449,null,null,null,null,null,null,{"$f":"IF(#REF!=1,IFERROR(VLOOKUP(#REF!,[1]Sheet1!$A:$N,U$2,FALSE),\"\"),\"\")","v":{"$error":"#REF!"}},null,null,null,null,null,null,null,null,null,null,null,null,"Norske Studenters Roklub",null,null,"26.04.2003\n17.01.2003","Ja\nJa","K260403SAR01\nK170103ELL06","7679466\n8208728","07.06.2018\n07.06.2018","Norske Studenters Roklub\nNorske Studenters Roklub","Erik Juel\n","48039369\n","eri-juel@online.no\n","22.08.2018\n22.08.2018"]
["",1,null,null,null,null,null,null,null,null,null,null,null,0.52797230863496714,null,null,null,null,null,null,{"$f":"IF(#REF!=1,IFERROR(VLOOKUP(#REF!,[1]Sheet1!$A:$N,U$2,FALSE),\"\"),\"\")","v":{"$error":"#REF!"}},null,null,null,null,null,null,null,null,null,null,null,null,"Bærum Roklubb",null,null,"22.05.2002\n17.10.2002","Ja\nJa","M220502IDA01\nK171002TUV03","6806491\n6101180","\n","Bærum Roklubb\nBærum Roklubb","Bente Dingen\n","45411863\n","bente.dingen@lundin-norway.no\n","22.08.2018\n22.08.2018"]
["",1,null,null,null,null,null,null,null,null,null,null,null,0.82858356075338702,null,null,null,null,null,null,{"$f":"IF(#REF!=1,IFERROR(VLOOKUP(#REF!,[1]Sheet1!$A:$N,U$2,FALSE),\"\"),\"\")","v":{"$error":"#REF!"}},null,null,null,null,null,null,null,null,null,null,null,null,"Aalesunds Roklub",null,null,"28.10.2003\n30.09.2004","Ja\nNei","K281003HEL05\nK300904MAR06","6860116\n7258646","30.05.2018\n30.05.2018","Aalesunds Roklub\nAalesunds Roklub","Johan Gerhard Myklebust\n","90894714\n","johan.myklebust@nordea.no\n","21.08.2018\n21.08.2018"]
["",1,null,null,null,null,null,null,null,null,null,null,null,0.95641741725601415,null,null,null,null,null,null,{"$f":"IF(#REF!=1,IFERROR(VLOOKUP(#REF!,[1]Sheet1!$A:$N,U$2,FALSE),\"\"),\"\")","v":{"$error":"#REF!"}},null,null,null,null,null,null,null,null,null,null,null,null,"Norske Studenters Roklub",null,null,"08.04.2003","Ja","K080403LIS01","5391349","29.03.2018","Norske Studenters Roklub","Erik Juel","48039369","eri-juel@online.no","22.08.2018"]
[null,null,null,null,null,null,null,null,null,null,null,null,null,0.105426496836868,null,null,null,null,null,null,{"$f":"IF(#REF!=1,IFERROR(VLOOKUP(#REF!,[1]Sheet1!$A:$N,U$2,FALSE),\"\"),\"\")","v":{"$error":"#REF!"}}]
[{"$f":"D419&R419","v":""},1,null,null,null,null,null,null,null,null,null,null,null,0.98205281853846504,null,null,null,null,null,null,{"$f":"IF(#REF!=1,IFERROR(VLOOKUP(#REF!,[1]Sheet1!$A:$N,U$2,FALSE),\"\"),\"\")","v":{"$error":"#REF!"}}]
["",{"$f":"OFFSET(B420,-1,0)","v":1},null,null,null,null,null,null,null,null,null,null,null,3.0866039933456935E-2,null,null,null,null,null,null,{"$f":"IF(#REF!=1,IFERROR(VLOOKUP(#REF!,[1]Sheet1!$A:$N,U$2,FALSE),\"\"),\"\")","v":{"$error":"#REF!"}},null,null,null,null,null,null,null,null,null,null,null,null,"Drammen Roklubb ",null,null,"16.09.2003\n04.05.2004","Ja\nNei","M160903CHR01\nM040504HÅK13","4573154\n8104025","10.04.2018\n30.05.2018","Drammen Roklubb \nDrammen Roklubb ","Beate Pharo\n","90660478\n","beatepharo@gmail.com\n","21.08.2018\n21.08.2018"]
["",1,null,null,null,null,null,null,null,null,null,null,null,0.16584837118422846,null,null,null,null,null,null,{"$f":"IF(#REF!=1,IFERROR(VLOOKUP(#REF!,[1]Sheet1!$A:$N,U$2,FALSE),\"\"),\"\")","v":{"$error":"#REF!"}},null,null,null,null,null,null,null,null,null,null,null,null,"Moss Roklubb",null,null,"29.01.2003\n01.04.2003","Ja\nJa","M290103VIK01\nM010403SIM03","5993278\n7261136","22.03.2018\n22.03.2018","Moss Roklubb\nMoss Roklubb","Jon Børre Rekstad\n","92252667\n","rekstad0@gmail.com\n","22.08.2018\n22.08.2018"]
["",1,null,null,null,null,null,null,null,null,null,null,null,0.2217949591738485,null,null,null,null,null,null,{"$f":"IF(#REF!=1,IFERROR(VLOOKUP(#REF!,[1]Sheet1!$A:$N,U$2,FALSE),\"\"),\"\")","v":{"$error":"#REF!"}},null,null,null,null,null,null,null,null,null,null,null,null,"Sarpsborg Roklubb - Roing",null,null,"22.12.2002\n24.02.2002","Ja\nJa","M221202HÅK01\nM240202OLI01","6848301\n7448632","22.03.2018\n","Sarpsborg Roklubb - Roing\nSarpsborg Roklubb - Roing","Thomas Gundersen\n","91874904\n","Thomas.gundersen@afgruppen.no;thomas.gundersen@afgruppen.no\n","22.08.2018\n22.08.2018"]
["",1,null,null,null,null,null,null,null,null,null,null,null,0.2429080625150809,null,null,null,null,null,null,{"$f":"IF(#REF!=1,IFERROR(VLOOKUP(#REF!,[1]Sheet1!$A:$N,U$2,FALSE),\"\"),\"\")","v":{"$error":"#REF!"}},null,null,null,null,null,null,null,null,null,null,null,null,"Drammen Roklubb ",null,null,"09.05.2004\n07.02.2003","Nei\nJa","M090504ULR01\nM070203HAM03","5057646\n6756072","12.03.2018\n12.03.2018","Drammen Roklubb \nDrammen Roklubb ","Beate Pharo\n","90660478\n","beatepharo@gmail.com\n","21.08.2018\n21.08.2018"]
["",1,null,null,null,null,null,null,null,null,null,null,null,0.31506879516740416,null,null,null,null,null,null,{"$f":"IF(#REF!=1,IFERROR(VLOOKUP(#REF!,[1]Sheet1!$A:$N,U$2,FALSE),\"\"),\"\")","v":{"$error":"#REF!"}},null,null,null,null,null,null,null,null,null,null,null,null,"Norske Studenters Roklub",null,null,"22.04.2003\n17.01.2002","Ja\nJa","M220403TRY05\nM170102BRO01","8235153\n5003101","29.03.2018\n","Norske Studenters Roklub\nNorske Studenters Roklub","Erik Juel\n","48039369\n","eri-juel@online.no\n","22.08.2018\n22.08.2018"]
["",1,null,null,null,null,null,null,null,null,null,null,null,0.26384686282535386,null,null,null,null,null,null,{"$f":"IF(#REF!=1,IFERROR(VLOOKUP(#REF!,[1]Sheet1!$A:$N,U$2,FALSE),\"\"),\"\")","v":{"$error":"#REF!"}},null,null,null,null,null,null,null,null,null,null,null,null,"Drammen Roklubb ",null,null,"20.06.2003\n30.08.2003","Ja\nJa","M200603AND02\nM300803JON01","8075279\n4879656","02.05.2018\n12.03.2018","Bærum Roklubb\nDrammen Roklubb ","Beate Pharo\n","90660478\n","beatepharo@gmail.com\n","21.08.2018\n21.08.2018"]
["",1,null,null,null,null,null,null,null,null,null,null,null,0.31856816270408461,null,null,null,null,null,null,{"$f":"IF(#REF!=1,IFERROR(VLOOKUP(#REF!,[1]Sheet1!$A:$N,U$2,FALSE),\"\"),\"\")","v":{"$error":"#REF!"}},null,null,null,null,null,null,null,null,null,null,null,null,"Ormsund Roklub",null,null,"07.06.2004\n22.07.2004","Nei\nNei","M070604MAR06\nM220704TRU01","6707662\n7203412","22.03.2018\n06.04.2018","Sarpsborg Roklubb - Roing\nOrmsund Roklub","Eva Hansen\n","90799966\n","eva.hansen@wenaasnordic.com\n","22.08.2018\n22.08.2018"]
["",1,null,null,null,null,null,null,null,null,null,null,null,0.4205343227014684,null,null,null,null,null,null,{"$f":"IF(#REF!=1,IFERROR(VLOOKUP(#REF!,[1]Sheet1!$A:$N,U$2,FALSE),\"\"),\"\")","v":{"$error":"#REF!"}},null,null,null,null,null,null,null,null,null,null,null,null,"Tønsberg Roklub",null,null,"15.09.2003\n30.05.2003","Ja\nJa","M150903TOB06\nM300503TOB07","7936549\n7014841","\n13.04.2018","Tønsberg Roklub\nTønsberg Roklub","Svend Andersen\n","92061715\n","svendandersen@me.com\n","21.08.2018\n21.08.2018"]
["",1,null,null,null,null,null,null,null,null,null,null,null,0.65025193020106276,null,null,null,null,null,null,{"$f":"IF(#REF!=1,IFERROR(VLOOKUP(#REF!,[1]Sheet1!$A:$N,U$2,FALSE),\"\"),\"\")","v":{"$error":"#REF!"}},null,null,null,null,null,null,null,null,null,null,null,null,"Norske Studenters Roklub",null,null,"01.01.2003\n16.12.2003","Ja\nJa","M010103JAC04\nM161203AXE03","8247213\n8133394","07.06.2018\n","Norske Studenters Roklub\nNorske Studenters Roklub","Erik Juel\n","48039369\n","eri-juel@online.no\n","22.08.2018\n22.08.2018"]
["",1,null,null,null,null,null,null,null,null,null,null,null,0.65792802927283633,null,null,null,null,null,null,{"$f":"IF(#REF!=1,IFERROR(VLOOKUP(#REF!,[1]Sheet1!$A:$N,U$2,FALSE),\"\"),\"\")","v":{"$error":"#REF!"}},null,null,null,null,null,null,null,null,null,null,null,null,"Drammen Roklubb ",null,null,"14.04.2003\n14.07.2003","Ja\nJa","M140403SEB04\nM140703JOH03","7710737\n6131539","\n12.03.2018","Drammen Roklubb \nDrammen Roklubb ","Beate Pharo\n","90660478\n","beatepharo@gmail.com\n","21.08.2018\n21.08.2018"]
["",1,null,null,null,null,null,null,null,null,null,null,null,0.78082788875976317,null,null,null,null,null," ",{"$f":"IF(#REF!=1,IFERROR(VLOOKUP(#REF!,[1]Sheet1!$A:$N,U$2,FALSE),\"\"),\"\")","v":{"$error":"#REF!"}},null,null,null,null,null,null,null,null,null,null,null,null,"Haldens Roklub",null,null,"21.02.2002\n24.02.2002","Ja\nJa","M210202HAA02\nM240202OLI02","5006685\n6398349","13.04.2018\n22.03.2018","Haldens Roklub\nSarpsborg Roklubb - Roing","Oskar Van Etten Jarem\n","91725846\n","oskarvanetten@gmail.com\n","22.08.2018\n22.08.2018"]
["",1,null,null,null,null,null,null,null,null,null,null,null,0.99749035880467773,null,null,null,null,null,null,{"$f":"IF(#REF!=1,IFERROR(VLOOKUP(#REF!,[1]Sheet1!$A:$N,U$2,FALSE),\"\"),\"\")","v":{"$error":"#REF!"}},null,null,null,null,null,null,null,null,null,null,null,null,"Moss Roklubb",null,null,"17.05.2002\n30.04.2002","Ja\nJa","M170502SIM07\nM300402MAJ01","7189809\n6977105","22.03.2018\n22.03.2018","Moss Roklubb\nSarpsborg Roklubb - Roing","Jon Børre Rekstad\n","92252667\n","rekstad0@gmail.com\n","22.08.2018\n22.08.2018"]
["",1,null,null,null,null,null,null,null,null,null,null,null,3,null,null,null,null,null,null,{"$f":"IF(#REF!=1,IFERROR(VLOOKUP(#REF!,[1]Sheet1!$A:$N,U$2,FALSE),\"\"),\"\")","v":{"$error":"#REF!"}},null,null,null,null,null,null,null,null,null,null,null,null,"Christiania Roklub",null,null,"22.12.2002\n15.10.2002","Ja\nJa","M221202ELI02\nM151002ÅSM01","4671202\n4513284","\n06.03.2018","Ukjent/ikke registrert klubb\nChristiania Roklub","Grete Isachsen Stokke\n","91338845\n","greteistokke@hotmail.com;grisach@gmail.com\n","22.08.2018\n22.08.2018"]
[null,null,null,null,null,null,null,null,null,null,null,null,null,0.22000075906522332,null,null,null,null,null,null,{"$f":"IF(#REF!=1,IFERROR(VLOOKUP(#REF!,[1]Sheet1!$A:$N,U$2,FALSE),\"\"),\"\")","v":{"$error":"#REF!"}}]
[{"$f":"D434&#REF!","v":{"$error":"#REF!"}},1,null,null,null,null,null,null,null,null,null,null,null,2.0280759316264607E-2,null,null,null,null,null,null,{"$f":"IF(#REF!=1,IFERROR(VLOOKUP(#REF!,[1]Sheet1!$A:$N,U$2,FALSE),\"\"),\"\")","v":{"$error":"#REF!"}}]
[{"$f":"D435&R434","v":""},{"$f":"OFFSET(B435,-1,0)","v":1},null,null,null,null,null,null,null,null,null,null,null,0.14575844501452451,null,null,null,null,null,null,{"$f":"IF(#REF!=1,IFERROR(VLOOKUP(#REF!,[1]Sheet1!$A:$N,U$2,FALSE),\"\"),\"\")","v":{"$error":"#REF!"}},null,null,null,null,null,null,null,null,null,null,null,null,"Tønsberg Roklub","Nei",null,"05.05.2001","Ja","M050501MAR07","7153998","13.04.2018","Tønsberg Roklub",null,"92061715","svendandersen@me.com","22.08.2018"]
["",1,null,null,null,null,null,null,null,null,null,null,null,0.16470072584455087,null,null,null,null,null,null,{"$f":"IF(#REF!=1,IFERROR(VLOOKUP(#REF!,[1]Sheet1!$A:$N,U$2,FALSE),\"\"),\"\")","v":{"$error":"#REF!"}},null,null,null,null,null,null,null,null,null,null,null,null,"Aalesunds Roklub","Nei",null,"27.10.2001","Ja","M271001ARI02","5661384","30.05.2018","Aalesunds Roklub","Johan Myklebust","90894714","johan.myklebust@nordea.no","21.08.2018"]
["",1,null,null,null,null,null,null,null,null,null,null,null,0.19821698005845456,null,null,null,null,null,null,{"$f":"IF(#REF!=1,IFERROR(VLOOKUP(#REF!,[1]Sheet1!$A:$N,U$2,FALSE),\"\"),\"\")","v":{"$error":"#REF!"}},null,null,null,null,null,null,null,null,null,null,null,null,"Tønsberg Roklub","Nei",null,"05.05.2001","Ja","M050501MAR07","7153998","13.04.2018","Tønsberg Roklub",null,"92061715","svendandersen@me.com","22.08.2018"]
["",1,null,null,null,null,null,null,null,null,null,null,null,0.22926340105094689,null,null,null,null,null,null,{"$f":"IF(#REF!=1,IFERROR(VLOOKUP(#REF!,[1]Sheet1!$A:$N,U$2,FALSE),\"\"),\"\")","v":{"$error":"#REF!"}},null,null,null,null,null,null,null,null,null,null,null,null,"Bærum Roklubb","Nei",null,"02.06.2000","Ja","M020600LAR02","4487587","13.04.2018","Bærum Roklubb","Bente Dingen","45411863","bente.dingen@lundin-norway.no","21.08.2018"]
["",1,null,null,null,null,null,null,null,null,null,null,null,0.31243508854930857,null,null,null,null,null,null,{"$f":"IF(#REF!=1,IFERROR(VLOOKUP(#REF!,[1]Sheet1!$A:$N,U$2,FALSE),\"\"),\"\")","v":{"$error":"#REF!"}},null,null,null,null,null,null,null,null,null,null,null,null,"Norske Studenters Roklub","Nei",null,"26.06.2001","Ja","M260101VIT01","5062270","29.03.2018","Norske Studenters Roklub","Erik Juel","48039369","eri-juel@online.no","22.08.2018"]
["",1,null,null,null,null,null,null,null,null,null,null,null,0.36933983733293951,null,null,null,null,null,null,{"$f":"IF(#REF!=1,IFERROR(VLOOKUP(#REF!,[1]Sheet1!$A:$N,U$2,FALSE),\"\"),\"\")","v":{"$error":"#REF!"}},null,null,null,null,null,null,null,null,null,null,null,null,"Sarpsborg Roklubb - Roing","Nei",null,"28.12.2000","Ja","M281200DID01","5330116","22.03.2018","Sarpsborg Roklubb - Roing","Thomas Gundersen","91874904","Thomas.gundersen@afgruppen.no;thomas.gundersen@afgruppen.no","22.08.2018"]
["",1,null,null,null,null,null,null,null,null,null,null,null,0.47013092485143382,null,null,null,null,null,null,{"$f":"IF(#REF!=1,IFERROR(VLOOKUP(#REF!,[1]Sheet1!$A:$N,U$2,FALSE),\"\"),\"\")","v":{"$error":"#REF!"}},null,null,null,null,null,null,null,null,null,null,null,null,"Bærum Roklubb","Nei",null,"20.06.2000","Ja","M070600ØYS01","5372192","13.04.2018","Bærum Roklubb","Bente Dingen","45411863","bente.dingen@lundin-norway.no","21.08.2018"]
["",1,null,null,null,null,null,null,null,null,null,null,null,0.53205541277780866,null,null,null,null,null,null,{"$f":"IF(#REF!=1,IFERROR(VLOOKUP(#REF!,[1]Sheet1!$A:$N,U$2,FALSE),\"\"),\"\")","v":{"$error":"#REF!"}},null,null,null,null,null,null,null,null,null,null,null,null,"Moss Roklubb","Nei",null,"17.08.2000","Ja","M170800JAR02","2794789","22.03.2018","Moss Roklubb","Jon Rekstad","92252667","rekstad0@gmail.com","22.08.2018"]
["",1,null,null,null,null,null,null,null,null,null,null,null,0.62850767393949158,null,null,null,null,null,null,{"$f":"IF(#REF!=1,IFERROR(VLOOKUP(#REF!,[1]Sheet1!$A:$N,U$2,FALSE),\"\"),\"\")","v":{"$error":"#REF!"}},null,null,null,null,null,null,null,null,null,null,null,null,"Bærum Roklubb","Nei",null,"12.09.2000","Ja","M120900BRA02","8203074",null,"Bærum Roklubb","Bente Dingen","45411863","bente.dingen@lundin-norway.no","22.08.2018"]
["",1,null,null,null,null,null,null,null,null,null,null,null,0.64719003202974279,null,null,null,null,null,null,{"$f":"IF(#REF!=1,IFERROR(VLOOKUP(#REF!,[1]Sheet1!$A:$N,U$2,FALSE),\"\"),\"\")","v":{"$error":"#REF!"}},null,null,null,null,null,null,null,null,null,null,null,null,"Sarpsborg Roklubb - Roing","Nei",null,"08.04.2001","Ja","M080401JAC01","5584584","22.03.2018","Sarpsborg Roklubb - Roing","Thomas Gundersen","91874904","Thomas.gundersen@afgruppen.no;thomas.gundersen@afgruppen.no","22.08.2018"]
["",1,null,null,null,null,null,null,null,null,null,null,null,0.76281506914546082,null,null,null,null,null,null,{"$f":"IF(#REF!=1,IFERROR(VLOOKUP(#REF!,[1]Sheet1!$A:$N,U$2,FALSE),\"\"),\"\")","v":{"$error":"#REF!"}},null,null,null,null,null,null,null,null,null,null,null,null,"Bærum Roklubb","Nei",null,"17.04.2000","Ja","M170400EIR02","5005277",null,"Bærum Roklubb","Bente Dingen","45411863","bente.dingen@lundin-norway.no","22.08.2018"]
["",1,null,null,null,null,null,null,null,null,null,null,null,0.78004762369757052,null,null,null,null,null,null,{"$f":"IF(#REF!=1,IFERROR(VLOOKUP(#REF!,[1]Sheet1!$A:$N,U$2,FALSE),\"\"),\"\")","v":{"$error":"#REF!"}},null,null,null,null,null,null,null,null,null,null,null,null,"Horten Roklubb","Nei",null,"13.09.2001","Ja","M130901BEN04","6102843","12.04.2018","Horten Roklubb","Bjørn-Inge Pettersen","93280397","pettersen.bjorn.inge@gmail.com","22.08.2018"]
["",1,null,null,null,null,null,null,null,null,null,null,null,0.83417047377298059,null,null,null,null,null,null,{"$f":"IF(#REF!=1,IFERROR(VLOOKUP(#REF!,[1]Sheet1!$A:$N,U$2,FALSE),\"\"),\"\")","v":{"$error":"#REF!"}},null,null,null,null,null,null,null,null,null,null,null,null,"Drammen Roklubb ","Nei",null,"13.02.2001","Ja","M130201ELI03","7554836",null,"Drammen Roklubb ",null,"90660478","beatepharo@gmail.com","21.08.2018"]
["",1,null,null,null,null,null,null,null,null,null,null,null,0.87102869756678469,null,null,null,null,null,null,{"$f":"IF(#REF!=1,IFERROR(VLOOKUP(#REF!,[1]Sheet1!$A:$N,U$2,FALSE),\"\"),\"\")","v":{"$error":"#REF!"}},null,null,null,null,null,null,null,null,null,null,null,null,"Aalesunds Roklub","Nei",null,"26.07.2001","Ja","M260701FRE03","7811197","13.04.2018","Aalesunds Roklub","Johan Myklebust","90894714","johan.myklebust@nordea.no","21.08.2018"]
[{"$f":"D449&R449","v":""},1,null,null,null,null,null,null,null,null,null,null,null,0.89705128464813977,null,null,null,null,null,null,{"$f":"IF(#REF!=1,IFERROR(VLOOKUP(#REF!,[1]Sheet1!$A:$N,U$2,FALSE),\"\"),\"\")","v":{"$error":"#REF!"}},null,null,null,null,null,null,null,null,null,null,null,null,"Norske Studenters Roklub","Nei",null,"06.08.2001","Ja","M060801NIC02","4916382","29.03.2018","Norske Studenters Roklub","Erik Juel","48039369","eri-juel@online.no","22.08.2018"]
[null,null,null,null,null,null,null,null,null,null,null,null,null,0.86530633342365659,null,null,null,null,null,null,{"$f":"IF(#REF!=1,IFERROR(VLOOKUP(#REF!,[1]Sheet1!$A:$N,U$2,FALSE),\"\"),\"\")","v":{"$error":"#REF!"}}]
[{"$f":"D451&R452","v":""},1,null,null,null,null,null,null,null,null,null,null,null,0.88251861717001989,null,null,null,null,null,null,{"$f":"IF(#REF!=1,IFERROR(VLOOKUP(#REF!,[1]Sheet1!$A:$N,U$2,FALSE),\"\"),\"\")","v":{"$error":"#REF!"}}]
["",{"$f":"OFFSET(B452,-1,0)","v":1},null,null,null,null,null,null,null,null,null,null,null,5.1341165301822533E-2,null,null,null,null,null,null,{"$f":"IF(#REF!=1,IFERROR(VLOOKUP(#REF!,[1]Sheet1!$A:$N,U$2,FALSE),\"\"),\"\")","v":{"$error":"#REF!"}},null,null,null,null,null,null,null,null,null,null,null,null,"Christiania Roklub","Nei",null,"25.09.2002","Nei","K250902NIC02","8247202","14.05.2018","Christiania Roklub","Grete Isachsen Stokke","91338845","greteistokke@hotmail.com;grisach@gmail.com","22.08.2018"]
["",1,null,null,null,null,null,null,null,null,null,null,null,6.486078075146462E-2,null,null,null,null,null,null,{"$f":"IF(#REF!=1,IFERROR(VLOOKUP(#REF!,[1]Sheet1!$A:$N,U$2,FALSE),\"\"),\"\")","v":{"$error":"#REF!"}},null,null,null,null,null,null,null,null,null,null,null,null,"Aalesunds Roklub","Nei",null,"01.08.2001","Ja","K010801HED01","5213239","30.05.2018","Aalesunds Roklub","Johan Myklebust","90894714","johan.myklebust@nordea.no","21.08.2018"]
["",1,null,null,null,null,null,null,null,null,null,null,null,0.25206641206246072,null,null,null,null,null,null,{"$f":"IF(#REF!=1,IFERROR(VLOOKUP(#REF!,[1]Sheet1!$A:$N,U$2,FALSE),\"\"),\"\")","v":{"$error":"#REF!"}},null,null,null,null,null,null,null,null,null,null,null,null,"Tønsberg Roklub","Nei",null,"24.07.2002","Nei","K240702IDA05","7173655","13.04.2018","Tønsberg Roklub",null,"92061715","svendandersen@me.com","21.08.2018"]
["",1,null,null,null,null,null,null,null,null,null,null,null,0.13796739298170402,null,null,null,null,null,null,{"$f":"IF(#REF!=1,IFERROR(VLOOKUP(#REF!,[1]Sheet1!$A:$N,U$2,FALSE),\"\"),\"\")","v":{"$error":"#REF!"}},null,null,null,null,null,null,null,null,null,null,null,null,"Christiania Roklub","Nei",null,"20.05.2000","Ja","K200500MAR04","4488301","31.07.2018","Christiania Roklub","Grete Isachsen Stokke","91338845","greteistokke@hotmail.com;grisach@gmail.com","22.08.2018"]
["",1,null,null,null,null,null,null,null,null,null,null,null,0.18014535746285743,null,null,null,null,null,null,{"$f":"IF(#REF!=1,IFERROR(VLOOKUP(#REF!,[1]Sheet1!$A:$N,U$2,FALSE),\"\"),\"\")","v":{"$error":"#REF!"}},null,null,null,null,null,null,null,null,null,null,null,null,"Bærum Roklubb","Nei",null,"03.06.2001","Ja","K030601CAI03","7289717","17.04.2018","Bærum Roklubb","Bente Dingen","45411863","bente.dingen@lundin-norway.no","21.08.2018"]
["",1,null,null,null,null,null,null,null,null,null,null,null,0.26327962064762689,null,null,null,null,null,null,{"$f":"IF(#REF!=1,IFERROR(VLOOKUP(#REF!,[1]Sheet1!$A:$N,U$2,FALSE),\"\"),\"\")","v":{"$error":"#REF!"}},null,null,null,null,null,null,null,null,null,null,null,null,"Tønsberg Roklub","Nei",null,"09.05.2002","Nei","K090502MAR15","8036277","13.04.2018","Tønsberg Roklub",null,"92061715","svendandersen@me.com","21.08.2018"]
["",1,null,null,null,null,null,null,null,null,null,null,null,0.33470608284271408,null,null,null,null,null,null,{"$f":"IF(#REF!=1,IFERROR(VLOOKUP(#REF!,[1]Sheet1!$A:$N,U$2,FALSE),\"\"),\"\")","v":{"$error":"#REF!"}},null,null,null,null,null,null,null,null,null,null,null,null,"Moss Roklubb","Nei",null,"13.02.2000","Ja","K130200LIS02","6059397",null,"Ukjent/ikke registrert klubb","Jon Rekstad","92252667","rekstad0@gmail.com","22.08.2018"]
["",1,null,null,null,null,null,null,null,null,null,null,null,0.46132392770558672,null,null,null,null,null,null,{"$f":"IF(#REF!=1,IFERROR(VLOOKUP(#REF!,[1]Sheet1!$A:$N,U$2,FALSE),\"\"),\"\")","v":{"$error":"#REF!"}},null,null,null,null,null,null,null,null,null,null,null,null,"Horten Roklubb","Nei",null,"25.12.2000","Ja","K251200MIA01","4997049","12.04.2018","Horten Roklubb","Bjørn-Inge Pettersen","93280397","pettersen.bjorn.inge@gmail.com","22.08.2018"]
["",1,null,null,null,null,null,null,null,null,null,null,null,0.48367012543825094,null,null,null,null,null,null,{"$f":"IF(#REF!=1,IFERROR(VLOOKUP(#REF!,[1]Sheet1!$A:$N,U$2,FALSE),\"\"),\"\")","v":{"$error":"#REF!"}},null,null,null,null,null,null,null,null,null,null,null,null,"Drammen Roklubb ","Nei",null,"27.02.2001","Ja","K270201ELI03","7334407","10.04.2018","Drammen Roklubb ",null,"90660478","beatepharo@gmail.com","21.08.2018"]
["",1,null,null,null,null,null,null,null,null,null,null,null,0.64980955658833806,null,null,null,null,null,null,{"$f":"IF(#REF!=1,IFERROR(VLOOKUP(#REF!,[1]Sheet1!$A:$N,U$2,FALSE),\"\"),\"\")","v":{"$error":"#REF!"}},null,null,null,null,null,null,null,null,null,null,null,null,"Drammen Roklubb ","Nei",null,"14.04.2001","Ja","K140401KAR10","7214275",null,"Drammen Roklubb ",null,"90660478","beatepharo@gmail.com","21.08.2018"]
["",1,null,null,null,null,null,null,null,null,null,null,null,0.67409578129948222,null,null,null,null,null,null,{"$f":"IF(#REF!=1,IFERROR(VLOOKUP(#REF!,[1]Sheet1!$A:$N,U$2,FALSE),\"\"),\"\")","v":{"$error":"#REF!"}},null,null,null,null,null,null,null,null,null,null,null,null,"Tønsberg Roklub","Nei",null,"30.11.2000","Ja","K301100LEN03","6134299","13.04.2018","Tønsberg Roklub",null,"92061715","svendandersen@me.com","21.08.2018"]
["",1,null,null,null,null,null,null,null,null,null,null,null,0.7796852014555139,null,null,null,null,null,null,{"$f":"IF(#REF!=1,IFERROR(VLOOKUP(#REF!,[1]Sheet1!$A:$N,U$2,FALSE),\"\"),\"\")","v":{"$error":"#REF!"}},null,null,null,null,null,null,null,null,null,null,null,null,"Ormsund Roklub","Nei",null,"19.07.2001","Ja","K190701HAN12","7882501","06.04.2018","Ormsund Roklub","Eva Hansen","90799966","eva.hansen@wenaasnordic.com","22.08.2018"]
[{"$f":"D464&#REF!","v":{"$error":"#REF!"}},1,null,null,null,null,null,null,null,null,null,null,null,0.78171205212004613,null,null,null,null,null,null,{"$f":"IF(#REF!=1,IFERROR(VLOOKUP(#REF!,[1]Sheet1!$A:$N,U$2,FALSE),\"\"),\"\")","v":{"$error":"#REF!"}},null,null,null,null,null,null,null,null,null,null,null,null,"Bærum Roklubb","Nei",null,"26.09.2000","Ja","K260900STI02","6778019","13.04.2018","Bærum Roklubb","Bente Dingen","45411863","bente.dingen@lundin-norway.no","21.08.2018"]
[null,null,null,null,null,null,null,null,null,null,null,null,null,null,null,null,null,null,null,null,{"$f":"IF(#REF!=1,IFERROR(VLOOKUP(#REF!,[1]Sheet1!$A:$N,U$2,FALSE),\"\"),\"\")","v":{"$error":"#REF!"}}]
[{"$f":"D466&R466","v":""},1,null,null,null,null,null,null,null,null,null,null,null,null,null,null,null,null,null,null,{"$f":"IF(#REF!=1,IFERROR(VLOOKUP(#REF!,[1]Sheet1!$A:$N,U$2,FALSE),\"\"),\"\")","v":{"$error":"#REF!"}}]
[{"$f":"D467&#REF!","v":{"$error":"#REF!"}},{"$f":"OFFSET(B467,-1,0)","v":1},null,null,null,null,null,null,null,null,null,null,null,60,null,null,null,null,null,null,{"$f":"IF(#REF!=1,IFERROR(VLOOKUP(#REF!,[1]Sheet1!$A:$N,U$2,FALSE),\"\"),\"\")","v":{"$error":"#REF!"}},null,null,null,null,null,null,null,null,null,null,null,null,"Bærum Roklubb","Nei",null,"17.10.2002","Ja","K171002TUV03","6101180",null,"Bærum Roklubb","Bente Dingen","45411863","bente.dingen@lundin-norway.no","22.08.2018"]
[{"$f":"D468&#REF!","v":{"$error":"#REF!"}},1,null,null,null,null,null,null,null,null,null,null,null,60,null,null,null,null,null,null,{"$f":"IF(#REF!=1,IFERROR(VLOOKUP(#REF!,[1]Sheet1!$A:$N,U$2,FALSE),\"\"),\"\")","v":{"$error":"#REF!"}},null,null,null,null,null,null,null,null,null,null,null,null,"Christiania Roklub","Nei",null,"31.03.2003","Ja","K310303MAR02","7896615","06.03.2018","Christiania Roklub","Grete Isachsen Stokke","91338845","greteistokke@hotmail.com;grisach@gmail.com","22.08.2018"]
[{"$f":"D469&R467","v":""},1,null,null,null,null,null,null,null,null,null,null,null,60,null,null,null,null,null,null,{"$f":"IF(#REF!=1,IFERROR(VLOOKUP(#REF!,[1]Sheet1!$A:$N,U$2,FALSE),\"\"),\"\")","v":{"$error":"#REF!"}},null,null,null,null,null,null,null,null,null,null,null,null,"Drammen Roklubb ","Nei",null,"22.01.2002","Ja","K220102VIC04","8199687","12.03.2018","Drammen Roklubb ",null,"90660478","beatepharo@gmail.com","21.08.2018"]
["",1,null,null,null,null,null,null,null,null,null,null,null,60,null,null,null,null,null,null,{"$f":"IF(#REF!=1,IFERROR(VLOOKUP(#REF!,[1]Sheet1!$A:$N,U$2,FALSE),\"\"),\"\")","v":{"$error":"#REF!"}},null,null,null,null,null,null,null,null,null,null,null,null,"Norske Studenters Roklub","Nei",null,"25.07.2003","Ja","K250703MAR04","5247452","29.03.2018","Norske Studenters Roklub","Erik Juel","48039369","eri-juel@online.no","22.08.2018"]
["",1,null,null,null,null,null,null,null,null,null,null,null,60,null,null,null,null,null,null,{"$f":"IF(#REF!=1,IFERROR(VLOOKUP(#REF!,[1]Sheet1!$A:$N,U$2,FALSE),\"\"),\"\")","v":{"$error":"#REF!"}},null,null,null,null,null,null,null,null,null,null,null,null,"Christiania Roklub","Nei",null,"01.01.2003","Ja","K010103VÅR01","7755151","06.03.2018","Christiania Roklub","Grete Isachsen Stokke","91338845","greteistokke@hotmail.com;grisach@gmail.com","22.08.2018"]
["",1,null,null,null,null,null,null,null,null,null,null,null,21,null,null,null,null,null,null,{"$f":"IF(#REF!=1,IFERROR(VLOOKUP(#REF!,[1]Sheet1!$A:$N,U$2,FALSE),\"\"),\"\")","v":{"$error":"#REF!"}},null,null,null,null,null,null,null,null,null,null,null,null,"Norske Studenters Roklub","Nei",null,"11.04.2003","Ja","K110403FAB02","6318695","29.03.2018","Norske Studenters Roklub","Erik Juel","48039369","eri-juel@online.no","22.08.2018"]
["",1,null,null,null,null,null,null,null,null,null,null,null,29,null,null,null,null,null,null,{"$f":"IF(#REF!=1,IFERROR(VLOOKUP(#REF!,[1]Sheet1!$A:$N,U$2,FALSE),\"\"),\"\")","v":{"$error":"#REF!"}},null,null,null,null,null,null,null,null,null,null,null,null,"Sarpsborg Roklubb - Roing","Nei",null,"20.10.2002","Ja","K201002FAT01","6772620","22.03.2018","Sarpsborg Roklubb - Roing","Thomas Gundersen","91874904","Thomas.gundersen@afgruppen.no;thomas.gundersen@afgruppen.no","22.08.2018"]
["",1,null,null,null,null,null,null,null,null,null,null,null,31,null,null,null,null,null,null,{"$f":"IF(#REF!=1,IFERROR(VLOOKUP(#REF!,[1]Sheet1!$A:$N,U$2,FALSE),\"\"),\"\")","v":{"$error":"#REF!"}},null,null,null,null,null,null,null,null,null,null,null,null,"Norske Studenters Roklub","Nei",null,"28.08.2003","Ja","K280803NOR01","7850270","07.06.2018","Norske Studenters Roklub","Erik Juel","48039369","eri-juel@online.no","22.08.2018"]
["",1,null,null,null,null,null,null,null,null,null,null,null,60,null,null,null,null,null,null,{"$f":"IF(#REF!=1,IFERROR(VLOOKUP(#REF!,[1]Sheet1!$A:$N,U$2,FALSE),\"\"),\"\")","v":{"$error":"#REF!"}},null,null,null,null,null,null,null,null,null,null,null,null,"Aalesunds Roklub","Nei",null,"01.11.2002","Ja","K011102KAR02",7811195,"13.04.2018","Aalesunds Roklub","Johan Myklebust","90894714","johan.myklebust@nordea.no","21.08.2018"]
["",1,null,null,null,null,null,null,null,null,null,null,null,26,null,null,null,null,null,null,{"$f":"IF(#REF!=1,IFERROR(VLOOKUP(#REF!,[1]Sheet1!$A:$N,U$2,FALSE),\"\"),\"\")","v":{"$error":"#REF!"}},null,null,null,null,null,null,null,null,null,null,null,null,"Norske Studenters Roklub","Nei",null,"17.01.2003","Ja","K170103ELL06","8208728","07.06.2018","Norske Studenters Roklub","Erik Juel","48039369","eri-juel@online.no","22.08.2018"]
["",1,null,null,null,null,null,null,null,null,null,null,null,8,null,null,null,null,null,null,{"$f":"IF(#REF!=1,IFERROR(VLOOKUP(#REF!,[1]Sheet1!$A:$N,U$2,FALSE),\"\"),\"\")","v":{"$error":"#REF!"}},null,null,null,null,null,null,null,null,null,null,null,null,"Aalesunds Roklub","Nei",null,"05.02.2002","Ja","K050202OLI01","5934237","30.05.2018","Aalesunds Roklub","Johan Myklebust","90894714","johan.myklebust@nordea.no","21.08.2018"]
["",1,null,null,null,null,null,null,null,null,null,null,null,6,null,null,null,null,null,null,{"$f":"IF(#REF!=1,IFERROR(VLOOKUP(#REF!,[1]Sheet1!$A:$N,U$2,FALSE),\"\"),\"\")","v":{"$error":"#REF!"}},null,null,null,null,null,null,null,null,null,null,null,null,"Christiania Roklub","Nei",null,"25.09.2002","Ja","K250902NIC02","8247202","14.05.2018","Christiania Roklub","Grete Isachsen Stokke","91338845","greteistokke@hotmail.com;grisach@gmail.com","22.08.2018"]
["",1,null,null,null,null,null,null,null,null,null,null,null,4,null,null,null,null,null,null,{"$f":"IF(#REF!=1,IFERROR(VLOOKUP(#REF!,[1]Sheet1!$A:$N,U$2,FALSE),\"\"),\"\")","v":{"$error":"#REF!"}},null,null,null,null,null,null,null,null,null,null,null,null,"Norske Studenters Roklub","Nei",null,"23.08.2002","Ja","K230802SAR02","7321246","29.03.2018","Norske Studenters Roklub","Erik Juel","48039369","eri-juel@online.no","22.08.2018"]
["",1,null,null,null,null,null,null,null,null,null,null,null,1,null,null,null,null,null,null,{"$f":"IF(#REF!=1,IFERROR(VLOOKUP(#REF!,[1]Sheet1!$A:$N,U$2,FALSE),\"\"),\"\")","v":{"$error":"#REF!"}},null,null,null,null,null,null,null,null,null,null,null,null,"Horten Roklubb","Nei",null,"01.04.2003","Ja","K010403HEN02","4996831","12.04.2018","Horten Roklubb","Bjørn-Inge Pettersen","93280397","pettersen.bjorn.inge@gmail.com","22.08.2018"]
["",1,null,null,null,null,null,null,null,null,null,null,null,15,null,null,null,null,null,null,{"$f":"IF(#REF!=1,IFERROR(VLOOKUP(#REF!,[1]Sheet1!$A:$N,U$2,FALSE),\"\"),\"\")","v":{"$error":"#REF!"}},null,null,null,null,null,null,null,null,null,null,null,null,"Aalesunds Roklub","Nei",null,"28.10.2003","Ja","K281003HEL05","6860116","30.05.2018","Aalesunds Roklub","Johan Myklebust","90894714","johan.myklebust@nordea.no","21.08.2018"]
["",1,null,null,null,null,null,null,null,null,null,null,null,13,null,null,null,null,null,null,{"$f":"IF(#REF!=1,IFERROR(VLOOKUP(#REF!,[1]Sheet1!$A:$N,U$2,FALSE),\"\"),\"\")","v":{"$error":"#REF!"}},null,null,null,null,null,null,null,null,null,null,null,null,"Bærum Roklubb","Nei",null,"22.05.2002","Ja","M220502IDA01","6806491",null,"Bærum Roklubb","Bente Dingen","45411863","bente.dingen@lundin-norway.no","21.08.2018"]
["",1,null,null,null,null,null,null,null,null,null,null,null,null,null,null,null,null,".",".",{"$f":"IF(#REF!=1,IFERROR(VLOOKUP(#REF!,[1]Sheet1!$A:$N,U$2,FALSE),\"\"),\"\")","v":{"$error":"#REF!"}}]
["",{"$f":"OFFSET(B484,-1,0)","v":1},null,null,null,null,null,null,null,null,null,null,null,60,null,null,null,null,null,null,{"$f":"IF(#REF!=1,IFERROR(VLOOKUP(#REF!,[1]Sheet1!$A:$N,U$2,FALSE),\"\"),\"\")","v":{"$error":"#REF!"}},null,null,null,null,null,null,null,null,null,null,null,null,"Christiania Roklub","Nei",null,"22.12.2002","Ja","M221202ELI02","4671202",null,"Ukjent/ikke registrert klubb","Grete Isachsen Stokke","91338845","greteistokke@hotmail.com;grisach@gmail.com","22.08.2018"]
["",1,null,null,null,null,null,null,null,null,null,null,null,60,null,null,null,null,null,null,{"$f":"IF(#REF!=1,IFERROR(VLOOKUP(#REF!,[1]Sheet1!$A:$N,U$2,FALSE),\"\"),\"\")","v":{"$error":"#REF!"}},null,null,null,null,null,null,null,null,null,null,null,null,"Norske Studenters Roklub","Nei",null,"16.12.2003","Ja","M161203AXE03","8133394",null,"Norske Studenters Roklub","Erik Juel","48039369","eri-juel@online.no","22.08.2018"]
["",1,null,null,null,null,null,null,null,null,null,null,null,60,null,null,null,null,null,null,{"$f":"IF(#REF!=1,IFERROR(VLOOKUP(#REF!,[1]Sheet1!$A:$N,U$2,FALSE),\"\"),\"\")","v":{"$error":"#REF!"}},null,null,null,null,null,null,null,null,null,null,null,null,"Drammen Roklubb ","Nei",null,"16.09.2003","Ja","M160903CHR01","4573154","10.04.2018","Drammen Roklubb ",null,"90660478","beatepharo@gmail.com","21.08.2018"]
["",1,null,null,null,null,null,null,null,null,null,null,null,54,null,null,null,null,null,null,{"$f":"IF(#REF!=1,IFERROR(VLOOKUP(#REF!,[1]Sheet1!$A:$N,U$2,FALSE),\"\"),\"\")","v":{"$error":"#REF!"}},null,null,null,null,null,null,null,null,null,null,null,null,"Norske Studenters Roklub","Nei",null,"01.01.2003","Ja","M010103JAC04","8247213","07.06.2018","Norske Studenters Roklub","Erik Juel","48039369","eri-juel@online.no","22.08.2018"]
["",1,null,null,null,null,null,null,null,null,null,null,null,60,null,null,null,null,null,null,{"$f":"IF(#REF!=1,IFERROR(VLOOKUP(#REF!,[1]Sheet1!$A:$N,U$2,FALSE),\"\"),\"\")","v":{"$error":"#REF!"}},null,null,null,null,null,null,null,null,null,null,null,null,"Drammen Roklubb ","Nei",null,"14.07.2003","Ja","M140703JOH03","6131539","12.03.2018","Drammen Roklubb ",null,"90660478","beatepharo@gmail.com","21.08.2018"]
["",1,null,null,null,null,null,null,null,null,null,null,null,55,null,null,null,null,null,null,{"$f":"IF(#REF!=1,IFERROR(VLOOKUP(#REF!,[1]Sheet1!$A:$N,U$2,FALSE),\"\"),\"\")","v":{"$error":"#REF!"}},null,null,null,null,null,null,null,null,null,null,null,null,"Norske Studenters Roklub","Nei",null,"29.06.2002","Ja","M290602KNU03","8137181","29.03.2018","Norske Studenters Roklub","Erik Juel","48039369","eri-juel@online.no","22.08.2018"]
["",1,null,null,null,null,null,null,null,null,null,null,null,60,null,null,null,null,null,null,{"$f":"IF(#REF!=1,IFERROR(VLOOKUP(#REF!,[1]Sheet1!$A:$N,U$2,FALSE),\"\"),\"\")","v":{"$error":"#REF!"}},null,null,null,null,null,null,null,null,null,null,null,null,"Drammen Roklubb ","Nei",null,"16.09.2003","Ja","M160903CHR01","4573154","10.04.2018","Drammen Roklubb ",null,"90660478","beatepharo@gmail.com","21.08.2018"]
["",1,null,null,null,null,null,null,null,null,null,null,null,39,null,null,null,null,null,null,{"$f":"IF(#REF!=1,IFERROR(VLOOKUP(#REF!,[1]Sheet1!$A:$N,U$2,FALSE),\"\"),\"\")","v":{"$error":"#REF!"}},null,null,null,null,null,null,null,null,null,null,null,null,"Tønsberg Roklub","Nei",null,"30.05.2003","Ja","M300503TOB07","7014841","13.04.2018","Tønsberg Roklub",null,"92061715","svendandersen@me.com","21.08.2018"]
["",1,null,null,null,null,null,null,null,null,null,null,null,33,null,null,null,null,null,null,{"$f":"IF(#REF!=1,IFERROR(VLOOKUP(#REF!,[1]Sheet1!$A:$N,U$2,FALSE),\"\"),\"\")","v":{"$error":"#REF!"}},null,null,null,null,null,null,null,null,null,null,null,null,"Drammen Roklubb ","Nei",null,"14.04.2003","Ja","M140403SEB06","7310627","12.03.2018","Drammen Roklubb ",null,"90660478","beatepharo@gmail.com","21.08.2018"]
["",1,null,null,null,null,null,null,null,null,null,null,null,31,null,null,null,null,null,null,{"$f":"IF(#REF!=1,IFERROR(VLOOKUP(#REF!,[1]Sheet1!$A:$N,U$2,FALSE),\"\"),\"\")","v":{"$error":"#REF!"}},null,null,null,null,null,null,null,null,null,null,null,null,"Tønsberg Roklub","Nei",null,"15.09.2003","Ja","M150903TOB06","7936549",null,"Tønsberg Roklub",null,"92061715","svendandersen@me.com","21.08.2018"]
["",1,null,null,null,null,null,null,null,null,null,null,null,35,null,null,null,null,null,null,{"$f":"IF(#REF!=1,IFERROR(VLOOKUP(#REF!,[1]Sheet1!$A:$N,U$2,FALSE),\"\"),\"\")","v":{"$error":"#REF!"}},null,null,null,null,null,null,null,null,null,null,null,null,"Moss Roklubb","Nei",null,"29.01.2003","Ja","M290103VIK01","5993278","22.03.2018","Moss Roklubb","Jon Rekstad","92252667","rekstad0@gmail.com","22.08.2018"]
["",1,null,null,null,null,null,null,null,null,null,null,null,41,null,null,null,null,null,null,{"$f":"IF(#REF!=1,IFERROR(VLOOKUP(#REF!,[1]Sheet1!$A:$N,U$2,FALSE),\"\"),\"\")","v":{"$error":"#REF!"}},null,null,null,null,null,null,null,null,null,null,null,null,"Bærum Roklubb","Nei",null,"20.06.2003","Ja","M200603AND02","8075279","02.05.2018","Bærum Roklubb","Bente Dingen","45411863","bente.dingen@lundin-norway.no","21.08.2018"]
["",1,null,null,null,null,null,null,null,null,null,null,null,27,null,null,null,null,null,null,{"$f":"IF(#REF!=1,IFERROR(VLOOKUP(#REF!,[1]Sheet1!$A:$N,U$2,FALSE),\"\"),\"\")","v":{"$error":"#REF!"}},null,null,null,null,null,null,null,null,null,null,null,null,"Christiania Roklub","Nei",null,"15.10.2002","Ja","M151002ÅSM01","4513284","06.03.2018","Christiania Roklub","Grete Isachsen Stokke","91338845","greteistokke@hotmail.com;grisach@gmail.com","22.08.2018"]
["",1,null,null,null,null,null,null,null,null,null,null,null,25,null,null,null,null,null,null,{"$f":"IF(#REF!=1,IFERROR(VLOOKUP(#REF!,[1]Sheet1!$A:$N,U$2,FALSE),\"\"),\"\")","v":{"$error":"#REF!"}},null,null,null,null,null,null,null,null,null,null,null,null,"Sarpsborg Roklubb - Roing","Nei",null,"17.04.2002","Ja","M170402PHI02","6387522","22.03.2018","Sarpsborg Roklubb - Roing","Thomas Gundersen","91874904","Thomas.gundersen@afgruppen.no;thomas.gundersen@afgruppen.no","22.08.2018"]
["",1,null,null,null,null,null,null,null,null,null,null,null,24,null,null,null,null,null,null,{"$f":"IF(#REF!=1,IFERROR(VLOOKUP(#REF!,[1]Sheet1!$A:$N,U$2,FALSE),\"\"),\"\")","v":{"$error":"#REF!"}},null,null,null,null,null,null,null,null,null,null,null,null,"Moss Roklubb","Nei",null,"17.05.2002","Ja","M170502SIM07","7189809","22.03.2018","Moss Roklubb","Jon Rekstad","92252667","rekstad0@gmail.com","22.08.2018"]
["",1,null,null,null,null,null,null,null,null,null,null,null,23,null,null,null,null,null,null,{"$f":"IF(#REF!=1,IFERROR(VLOOKUP(#REF!,[1]Sheet1!$A:$N,U$2,FALSE),\"\"),\"\")","v":{"$error":"#REF!"}},null,null,null,null,null,null,null,null,null,null,null,null,"Horten Roklubb","Nei",null,"03.02.2003","Ja","M030203KAS03","6159104","12.04.2018","Horten Roklubb","Bjørn-Inge Pettersen","93280397","pettersen.bjorn.inge@gmail.com","22.08.2018"]
["",1,null,null,null,null,null,null,null,null,null,null,null,26,null,null,null,null,null,null,{"$f":"IF(#REF!=1,IFERROR(VLOOKUP(#REF!,[1]Sheet1!$A:$N,U$2,FALSE),\"\"),\"\")","v":{"$error":"#REF!"}},null,null,null,null,null,null,null,null,null,null,null,null,"Moss Roklubb","Nei",null,"01.04.2003","Ja","M010403SIM03","7261136","22.03.2018","Moss Roklubb","Jon Rekstad","92252667","rekstad0@gmail.com","22.08.2018"]
["",1,null,null,null,null,null,null,null,null,null,null,null,29,null,null,null,null,null,null,{"$f":"IF(#REF!=1,IFERROR(VLOOKUP(#REF!,[1]Sheet1!$A:$N,U$2,FALSE),\"\"),\"\")","v":{"$error":"#REF!"}},null,null,null,null,null,null,null,null,null,null,null,null,"Drammen Roklubb ","Nei",null,"09.05.2004","Nei","M090504ULR01","5057646","12.03.2018","Drammen Roklubb ",null,"90660478","beatepharo@gmail.com","21.08.2018"]
["",1,null,null,null,null,null,null,null,null,null,null,null,18,null,null,null,null,null,null,{"$f":"IF(#REF!=1,IFERROR(VLOOKUP(#REF!,[1]Sheet1!$A:$N,U$2,FALSE),\"\"),\"\")","v":{"$error":"#REF!"}},null,null,null,null,null,null,null,null,null,null,null,null,"Drammen Roklubb ","Nei",null,"30.08.2003","Ja","M300803JON01","4879656","12.03.2018","Drammen Roklubb ",null,"90660478","beatepharo@gmail.com","21.08.2018"]
["",1,null,null,null,null,null,null,null,null,null,null,null,9,null,null,null,null,null,null,{"$f":"IF(#REF!=1,IFERROR(VLOOKUP(#REF!,[1]Sheet1!$A:$N,U$2,FALSE),\"\"),\"\")","v":{"$error":"#REF!"}},null,null,null,null,null,null,null,null,null,null,null,null,"Sarpsborg Roklubb - Roing","Nei",null,"24.02.2002","Ja","M240202OLI01","7448632",null,"Sarpsborg Roklubb - Roing","Thomas Gundersen","91874904","Thomas.gundersen@afgruppen.no;thomas.gundersen@afgruppen.no","22.08.2018"]
["",1,null,null,null,null,null,null,null,null,null,null,null,1,null,null,null,null,null,null,{"$f":"IF(#REF!=1,IFERROR(VLOOKUP(#REF!,[1]Sheet1!$A:$N,U$2,FALSE),\"\"),\"\")","v":{"$error":"#REF!"}},null,null,null,null,null,null,null,null,null,null,null,null,"Haldens Roklub","Nei",null,"21.02.2002","Ja","M210202HAA02","5006685","13.04.2018","Haldens Roklub",null,"91725846","oskarvanetten@gmail.com","22.08.2018"]
["",1,null,null,null,null,null,null,null,null,null,null,null,4,null,null,null,null,null,null,{"$f":"IF(#REF!=1,IFERROR(VLOOKUP(#REF!,[1]Sheet1!$A:$N,U$2,FALSE),\"\"),\"\")","v":{"$error":"#REF!"}},null,null,null,null,null,null,null,null,null,null,null,null,"Sarpsborg Roklubb - Roing","Nei",null,"22.12.2002","Ja","M221202HÅK01","6848301","22.03.2018","Sarpsborg Roklubb - Roing","Thomas Gundersen","91874904","Thomas.gundersen@afgruppen.no;thomas.gundersen@afgruppen.no","22.08.2018"]
["",1,null,null,null,null,null,null,null,null,null,null,null,14,null,null,null,null,null,null,{"$f":"IF(#REF!=1,IFERROR(VLOOKUP(#REF!,[1]Sheet1!$A:$N,U$2,FALSE),\"\"),\"\")","v":{"$error":"#REF!"}},null,null,null,null,null,null,null,null,null,null,null,null,"Drammen Roklubb ","Nei",null,"07.02.2003","Ja","M070203HAM03","6756072","12.03.2018","Drammen Roklubb ",null,"90660478","beatepharo@gmail.com","21.08.2018"]
["",1,null,null,null,null,null,null,null,null,null,null,null,20,null,null,null,null,null,null,{"$f":"IF(#REF!=1,IFERROR(VLOOKUP(#REF!,[1]Sheet1!$A:$N,U$2,FALSE),\"\"),\"\")","v":{"$error":"#REF!"}},null,null,null,null,null,null,null,null,null,null,null,null,"Sarpsborg Roklubb - Roing","Nei",null,"30.04.2002","Ja","M300402MAJ01","6977105","22.03.2018","Sarpsborg Roklubb - Roing","Thomas Gundersen","91874904","Thomas.gundersen@afgruppen.no;thomas.gundersen@afgruppen.no","22.08.2018"]
[null,null,null,null,null,null,null,null,null,null,null,null,null,null,null,null,null,null,null,null,{"$f":"IF(#REF!=1,IFERROR(VLOOKUP(#REF!,[1]Sheet1!$A:$N,U$2,FALSE),\"\"),\"\")","v":{"$error":"#REF!"}}]
[{"$f":"D509&R509","v":"8"},{"$f":"OFFSET(B509,-1,0)","v":0},"Søn 28.8",null,null,null,null,null,null,null,null,null,null,null,null,null,null,8,null,null,{"$f":"IF(#REF!=1,IFERROR(VLOOKUP(#REF!,[1]Sheet1!$A:$N,U$2,FALSE),\"\"),\"\")","v":{"$error":"#REF!"}},null,null,null,null,null,{"$f":"IF(R509<>0,LEFT(Z509,1),0)*1","v":{"$error":"#VALUE!"}},null,null,null,null,null,null,null,null,null,null,null,null,null,null,null,null,null,null,null,null,null,null,null,null,10]
[null,null,"Søn 28.8",null,null,null,null,null,null,null,null,null,null,null,null,null,null,9,null,null,{"$f":"IF(#REF!=1,IFERROR(VLOOKUP(#REF!,[1]Sheet1!$A:$N,U$2,FALSE),\"\"),\"\")","v":{"$error":"#REF!"}},null,null,null,null,null,{"$f":"IF(R510<>0,LEFT(Z510,1),0)*1","v":{"$error":"#VALUE!"}},null,null,null,null,null,null,null,null,null,null,null,null,null,null,null,null,null,null,null,null,null,null,null,null,11]
[null,null,null,null,null,null,null,null,null,null,null,null,null,null,null,null,null,null,null,null,{"$f":"IF(#REF!=1,IFERROR(VLOOKUP(#REF!,[1]Sheet1!$A:$N,U$2,FALSE),\"\"),\"\")","v":{"$error":"#REF!"}}]
["2030",1,null,null,null,null,null,null,null,null,null,null,null,null,null,null,null,null,null,null,{"$f":"IF(#REF!=1,IFERROR(VLOOKUP(#REF!,[1]Sheet1!$A:$N,U$2,FALSE),\"\"),\"\")","v":{"$error":"#REF!"}}]
[{"$f":"D513&R514","v":""},{"$f":"OFFSET(B513,-1,0)","v":1},null,null,null,null,null,null,null,null,null,null,null,4.6391413801592174E-2,null,null,null,null,null,null,{"$f":"IF(#REF!=1,IFERROR(VLOOKUP(#REF!,[1]Sheet1!$A:$N,U$2,FALSE),\"\"),\"\")","v":{"$error":"#REF!"}},null,null,null,null,null,null,null,null,null,null,null,null,"Sarpsborg Roklubb - Roing","Nei",null,"24.09.2006",null,"K240906AUR03","6895451","22.03.2018","Sarpsborg Roklubb - Roing","Thomas Gundersen","91874904","Thomas.gundersen@afgruppen.no;thomas.gundersen@afgruppen.no","22.08.2018"]
["",null,null,null,null,null,null,null,null,null,null,null,null,5.9212554943524287E-2,null,null,null,null,null,null,{"$f":"IF(#REF!=1,IFERROR(VLOOKUP(#REF!,[1]Sheet1!$A:$N,U$2,FALSE),\"\"),\"\")","v":{"$error":"#REF!"}},null,null,null,null,null,null,null,null,null,null,null,null,"Bærum Roklubb","Nei",null,null,null,null,null,null,"Bærum Roklubb","Bente Dingen","45411863","bente.dingen@lundin-norway.no","20.08.2018"]
["",{"$f":"OFFSET(B515,-1,0)","v":0},null,null,null,null,null,null,null,null,null,null,null,7.2381131876410265E-2,null,null,null,null,null,null,{"$f":"IF(#REF!=1,IFERROR(VLOOKUP(#REF!,[1]Sheet1!$A:$N,U$2,FALSE),\"\"),\"\")","v":{"$error":"#REF!"}},null,null,null,null,null,null,null,null,null,null,null,null,"Sarpsborg Roklubb - Roing","Nei",null,"30.08.2002",null,"M300802SON04","6270267",null,"Sarpsborg Roklubb - Roing","Thomas Gundersen","91874904","Thomas.gundersen@afgruppen.no;thomas.gundersen@afgruppen.no","22.08.2018"]
["",0,null,null,null,null,null,null,null,null,null,null,null,0.24636861842114033,null,null,null,null,null,null,{"$f":"IF(#REF!=1,IFERROR(VLOOKUP(#REF!,[1]Sheet1!$A:$N,U$2,FALSE),\"\"),\"\")","v":{"$error":"#REF!"}},null,null,null,null,null,null,null,null,null,null,null,null,"Aalesunds Roklub","Nei",null,null,null,null,null,null,"Aalesunds Roklub","Johan Myklebust","90894714","johan.myklebust@nordea.no","21.08.2018"]
["",0,null,null,null,null,null,null,null,null,null,null,null,0.22565003840671227,null,null,null,null,null,null,{"$f":"IF(#REF!=1,IFERROR(VLOOKUP(#REF!,[1]Sheet1!$A:$N,U$2,FALSE),\"\"),\"\")","v":{"$error":"#REF!"}},null,null,null,null,null,null,null,null,null,null,null,null,"Bærum Roklubb","Nei",null,"28.09.2004",null,"M280904VÅL03","8162101",null,"Bærum Roklubb","Bente Dingen","45411863","bente.dingen@lundin-norway.no","20.08.2018"]
["",0,null,null,null,null,null,null,null,null,null,null,null,0.18999208899589748,null,null,null,null,null,null,{"$f":"IF(#REF!=1,IFERROR(VLOOKUP(#REF!,[1]Sheet1!$A:$N,U$2,FALSE),\"\"),\"\")","v":{"$error":"#REF!"}},null,null,null,null,null,null,null,null,null,null,null,null,"Sarpsborg Roklubb - Roing","Nei",null,"14.09.2007",null,"K140907PIA01","7920500","22.03.2018","Sarpsborg Roklubb - Roing","Thomas Gundersen","91874904","Thomas.gundersen@afgruppen.no;thomas.gundersen@afgruppen.no","22.08.2018"]
["",0,null,null,null,null,null,null,null,null,null,null,null,0.55370695428865546,null,null,null,null,null,null,{"$f":"IF(#REF!=1,IFERROR(VLOOKUP(#REF!,[1]Sheet1!$A:$N,U$2,FALSE),\"\"),\"\")","v":{"$error":"#REF!"}},null,null,null,null,null,null,null,null,null,null,null,null,"Haldens Roklub","Nei"]
["",0,null,null,null,null,null,null,null,null,null,null,null,0.98633957322027588,null,null,null,null,null,null,{"$f":"IF(#REF!=1,IFERROR(VLOOKUP(#REF!,[1]Sheet1!$A:$N,U$2,FALSE),\"\"),\"\")","v":{"$error":"#REF!"}},null,null,null,null,null,null,null,null,null,null,null,null,"Ormsund Roklub","Nei",null,"22.07.2006",null,"K220706ALV01","5812861","06.04.2018","Ormsund Roklub","Eva Hansen","90799966","eva.hansen@wenaasnordic.com","22.08.2018"]
["",0,null,null,null,null,null,null,null,null,null,null,null,0.14512480602456235,null,null,null,null,null,null,{"$f":"IF(#REF!=1,IFERROR(VLOOKUP(#REF!,[1]Sheet1!$A:$N,U$2,FALSE),\"\"),\"\")","v":{"$error":"#REF!"}},null,null,null,null,null,null,null,null,null,null,null,null,"Sarpsborg Roklubb - Roing","Nei",null,"21.07.2006",null,"M210706NAB01","7920489","22.03.2018","Sarpsborg Roklubb - Roing","Thomas Gundersen","91874904","Thomas.gundersen@afgruppen.no;thomas.gundersen@afgruppen.no","22.08.2018"]
[null,null,null,null,null,null,null,null,null,null,null,null,null,0.45910899172739794,null,null,null,null,null,null,{"$f":"IF(#REF!=1,IFERROR(VLOOKUP(#REF!,[1]Sheet1!$A:$N,U$2,FALSE),\"\"),\"\")","v":{"$error":"#REF!"}}]
["2040",1,null,null,null,null,null,null,null,null,null,null,null,0.15573042640460821,null,null,null,null,null,null,{"$f":"IF(#REF!=1,IFERROR(VLOOKUP(#REF!,[1]Sheet1!$A:$N,U$2,FALSE),\"\"),\"\")","v":{"$error":"#REF!"}}]
[{"$f":"D524&#REF!","v":{"$error":"#REF!"}},{"$f":"OFFSET(B524,-1,0)","v":1},null,null,null,null,null,null,null,null,null,null,null,1.9857456934876061E-2,null,null,null,null,null,null,{"$f":"IF(#REF!=1,IFERROR(VLOOKUP(#REF!,[1]Sheet1!$A:$N,U$2,FALSE),\"\"),\"\")","v":{"$error":"#REF!"}},null,null,null,null,null,null,null,null,null,null,null,null,"Aalesunds Roklub","Nei",null,null,null,null,null,null,"Aalesunds Roklub","Johan Myklebust","90894714","johan.myklebust@nordea.no","21.08.2018"]
[{"$f":"D525&R525","v":""},1,null,null,null,null,null,null,null,null,null,null,null,2.4655299265473052E-2,null,null,null,null,null,null,{"$f":"IF(#REF!=1,IFERROR(VLOOKUP(#REF!,[1]Sheet1!$A:$N,U$2,FALSE),\"\"),\"\")","v":{"$error":"#REF!"}},null,null,null,null,null,null,null,null,null,null,null,null,"Tønsberg Roklub","Nei",null,"07.09.2007",null,"M070907ERI02","6452187","01.05.2018","Tønsberg Roklub",null,"92061715","svendandersen@me.com","21.08.2018"]
["",1,null,null,null,null,null,null,null,null,null,null,null,0.10998661866872861,null,null,null,null,null,null,{"$f":"IF(#REF!=1,IFERROR(VLOOKUP(#REF!,[1]Sheet1!$A:$N,U$2,FALSE),\"\"),\"\")","v":{"$error":"#REF!"}},null,null,null,null,null,null,null,null,null,null,null,null,"Aalesunds Roklub","Nei",null,null,null,null,null,null,"Aalesunds Roklub","Johan Myklebust","90894714","johan.myklebust@nordea.no","21.08.2018"]
["",1,null,null,null,null,null,null,null,null,null,null,null,0.15383482608549537,null,null,null,null,null,null,{"$f":"IF(#REF!=1,IFERROR(VLOOKUP(#REF!,[1]Sheet1!$A:$N,U$2,FALSE),\"\"),\"\")","v":{"$error":"#REF!"}},null,null,null,null,null,null,null,null,null,null,null,null,"Norske Studenters Roklub","Nei",null,"16.07.2006","Nei","M160706MAT02","5820353","22.06.2018","Norske Studenters Roklub","Erik Juel","48039369","eri-juel@online.no","22.08.2018"]
["",1,null,null,null,null,null,null,null,null,null,null,null,0.16684788639941084,null,null,null,null,null,null,{"$f":"IF(#REF!=1,IFERROR(VLOOKUP(#REF!,[1]Sheet1!$A:$N,U$2,FALSE),\"\"),\"\")","v":{"$error":"#REF!"}},null,null,null,null,null,null,null,null,null,null,null,null,"Ormsund Roklub","Nei",null,"01.05.2006",null,"M010506GAB03","8030335","06.04.2018","Ormsund Roklub","Eva Hansen","90799966","eva.hansen@wenaasnordic.com","22.08.2018"]
["",1,null,null,null,null,null,null,null,null,null,null,null,0.19198282751868312,null,null,null,null,null,null,{"$f":"IF(#REF!=1,IFERROR(VLOOKUP(#REF!,[1]Sheet1!$A:$N,U$2,FALSE),\"\"),\"\")","v":{"$error":"#REF!"}},null,null,null,null,null,null,null,null,null,null,null,null,"Norske Studenters Roklub","Nei",null,"20.01.2006","Nei","M010306SAN01","7266956","07.06.2018","Norske Studenters Roklub","Erik Juel","48039369","eri-juel@online.no","22.08.2018"]
["",1,null,null,null,null,null,null,null,null,null,null,null,0.33467815775016119,null,null,null,null,null,null,{"$f":"IF(#REF!=1,IFERROR(VLOOKUP(#REF!,[1]Sheet1!$A:$N,U$2,FALSE),\"\"),\"\")","v":{"$error":"#REF!"}},null,null,null,null,null,null,null,null,null,null,null,null,"Moss Roklubb","Nei",null,"20.06.2006",null,"M200606VIN03","5373415","22.03.2018","Moss Roklubb","Jon Rekstad","92252667","rekstad0@gmail.com","22.08.2018"]
["",1,null,null,null,null,null,null,null,null,null,null,null,0.42603753467252925,null,null,null,null,null,null,{"$f":"IF(#REF!=1,IFERROR(VLOOKUP(#REF!,[1]Sheet1!$A:$N,U$2,FALSE),\"\"),\"\")","v":{"$error":"#REF!"}},null,null,null,null,null,null,null,null,null,null,null,null,"Sarpsborg Roklubb - Roing","Nei",null,"13.04.2006",null,"K130406MAR07","8128455","22.03.2018","Sarpsborg Roklubb - Roing","Thomas Gundersen","91874904","Thomas.gundersen@afgruppen.no;thomas.gundersen@afgruppen.no","22.08.2018"]
["",1,null,null,null,null,null,null,null,null,null,null,null,0.49811360984773689,null,null,null,null,null,null,{"$f":"IF(#REF!=1,IFERROR(VLOOKUP(#REF!,[1]Sheet1!$A:$N,U$2,FALSE),\"\"),\"\")","v":{"$error":"#REF!"}},null,null,null,null,null,null,null,null,null,null,null,null,"Haldens Roklub","Nei"]
["",1,null,null,null,null,null,null,null,null,null,null,null,0.65808725491705133,null,null,null,null,null,null,{"$f":"IF(#REF!=1,IFERROR(VLOOKUP(#REF!,[1]Sheet1!$A:$N,U$2,FALSE),\"\"),\"\")","v":{"$error":"#REF!"}},null,null,null,null,null,null,null,null,null,null,null,null,"Moss Roklubb","Nei",null,"11.08.2006",null,"M110806ODI02","5615654","12.05.2018","Moss Roklubb","Jon Rekstad","92252667","rekstad0@gmail.com","22.08.2018"]
["",1,null,null,null,null,null,null,null,null,null,null,null,0.75175472234514484,null,null,null,null,null,null,{"$f":"IF(#REF!=1,IFERROR(VLOOKUP(#REF!,[1]Sheet1!$A:$N,U$2,FALSE),\"\"),\"\")","v":{"$error":"#REF!"}},null,null,null,null,null,null,null,null,null,null,null,null,"Aalesunds Roklub","Nei",null,null,null,null,null,null,"Aalesunds Roklub","Johan Myklebust","90894714","johan.myklebust@nordea.no","21.08.2018"]
["2060",1,null,null,null,null,null,null,null,null,null,null,null,0.8952091103733526,null,null,null,null," "," ",{"$f":"IF(#REF!=1,IFERROR(VLOOKUP(#REF!,[1]Sheet1!$A:$N,U$2,FALSE),\"\"),\"\")","v":{"$error":"#REF!"}}]
[{"$f":"D536&R536","v":""},{"$f":"OFFSET(B536,-1,0)","v":1},null,null,null,null,null,null,null,null,null,null,null,1.6662427441193062E-3,null,null,null,null,null,null,{"$f":"IF(#REF!=1,IFERROR(VLOOKUP(#REF!,[1]Sheet1!$A:$N,U$2,FALSE),\"\"),\"\")","v":{"$error":"#REF!"}},null,null,null,null,null,null,null,null,null,null,null,null,"Bærum Roklubb","Nei",null,"25.02.2005","Ja","M250205FER01","5587277","05.08.2018","Bærum Roklubb","Bente Dingen","45411863","bente.dingen@lundin-norway.no","20.08.2018"]
["",1,null,null,null,null,null,null,null,null,null,null,null,5.5879603551527768E-2,null,null,null,null,null,null,{"$f":"IF(#REF!=1,IFERROR(VLOOKUP(#REF!,[1]Sheet1!$A:$N,U$2,FALSE),\"\"),\"\")","v":{"$error":"#REF!"}},null,null,null,null,null,null,null,null,null,null,null,null,"Drammen Roklubb ","Nei",null,"06.08.2004","Ja","M060804PET02","7726990","10.04.2018","Drammen Roklubb ",null,"90660478","beatepharo@gmail.com","21.08.2018"]
["",1,null,null,null,null,null,null,null,null,null,null,null,0.17141273347122543,null,null,null,null,null,null,{"$f":"IF(#REF!=1,IFERROR(VLOOKUP(#REF!,[1]Sheet1!$A:$N,U$2,FALSE),\"\"),\"\")","v":{"$error":"#REF!"}},null,null,null,null,null,null,null,null,null,null,null,null,"Sarpsborg Roklubb - Roing","Nei",null,"22.10.2004","Ja","M221004NOR01","6917184","22.03.2018","Sarpsborg Roklubb - Roing","Thomas Gundersen","91874904","Thomas.gundersen@afgruppen.no;thomas.gundersen@afgruppen.no","22.08.2018"]
["",1,null,null,null,null,null,null,null,null,null,null,null,6.3981610469180383E-3,null,null,null,null,null,null,{"$f":"IF(#REF!=1,IFERROR(VLOOKUP(#REF!,[1]Sheet1!$A:$N,U$2,FALSE),\"\"),\"\")","v":{"$error":"#REF!"}},null,null,null,null,null,null,null,null,null,null,null,null,"Bærum Roklubb","Nei",null,"29.06.2005","Ja","M290605THO01","7328781","05.06.2018","Bærum Roklubb","Bente Dingen","45411863","bente.dingen@lundin-norway.no","20.08.2018"]
["",1,null,null,null,null,null,null,null,null,null,null,null,0.20489905236441419,null,null,null,null,null,null,{"$f":"IF(#REF!=1,IFERROR(VLOOKUP(#REF!,[1]Sheet1!$A:$N,U$2,FALSE),\"\"),\"\")","v":{"$error":"#REF!"}},null,null,null,null,null,null,null,null,null,null,null,null,"Norske Studenters Roklub","Nei",null,"22.10.2005","Ja","M221005AKS02","5564987","07.06.2018","Norske Studenters Roklub","Erik Juel","48039369","eri-juel@online.no","22.08.2018"]
["",1,null,null,null,null,null,null,null,null,null,null,null,0.21202621168690372,null,null,null,null,null,null,{"$f":"IF(#REF!=1,IFERROR(VLOOKUP(#REF!,[1]Sheet1!$A:$N,U$2,FALSE),\"\"),\"\")","v":{"$error":"#REF!"}},null,null,null,null,null,null,null,null,null,null,null,null,"Bærum Roklubb","Nei",null,"30.04.2005","Ja","M300405JAC02","8085498","13.06.2018","Bærum Roklubb","Bente Dingen","45411863","bente.dingen@lundin-norway.no","20.08.2018"]
["",1,null,null,null,null,null,null,null,null,null,null,null,0.24848020120182857,null,null,null,null,null,null,{"$f":"IF(#REF!=1,IFERROR(VLOOKUP(#REF!,[1]Sheet1!$A:$N,U$2,FALSE),\"\"),\"\")","v":{"$error":"#REF!"}},null,null,null,null,null,null,null,null,null,null,null,null,"Bærum Roklubb","Nei",null,"27.12.2004","Ja","M271204BRA01","5137898","13.06.2018","Bærum Roklubb","Bente Dingen","45411863","bente.dingen@lundin-norway.no","20.08.2018"]
["",1,null,null,null,null,null,null,null,null,null,null,null,0.26565175837031085,null,null,null,null,null,null,{"$f":"IF(#REF!=1,IFERROR(VLOOKUP(#REF!,[1]Sheet1!$A:$N,U$2,FALSE),\"\"),\"\")","v":{"$error":"#REF!"}},null,null,null,null,null,null,null,null,null,null,null,null,"Moss Roklubb","Nei",null,"30.12.2005","Ja","M301205KIM02","5477783","22.03.2018","Moss Roklubb","Jon Rekstad","92252667","rekstad0@gmail.com","22.08.2018"]
["",1,null,null,null,null,null,null,null,null,null,null,null,0.27847504963627245,null,null,null,null,null,null,{"$f":"IF(#REF!=1,IFERROR(VLOOKUP(#REF!,[1]Sheet1!$A:$N,U$2,FALSE),\"\"),\"\")","v":{"$error":"#REF!"}},null,null,null,null,null,null,null,null,null,null,null,null,"Christiania Roklub","Nei",null,"31.05.2005","Ja","M310505JOH04","8208422","06.03.2018","Christiania Roklub","Grete Isachsen Stokke","91338845","greteistokke@hotmail.com;grisach@gmail.com","22.08.2018"]
["",1,null,null,null,null,null,null,null,null,null,null,null,0.35495668211796738,null,null,null,null,null,null,{"$f":"IF(#REF!=1,IFERROR(VLOOKUP(#REF!,[1]Sheet1!$A:$N,U$2,FALSE),\"\"),\"\")","v":{"$error":"#REF!"}},null,null,null,null,null,null,null,null,null,null,null,null,"Bærum Roklubb","Nei",null,"19.02.2005","Ja","M190205BRA01","4214459","05.08.2018","Bærum Roklubb","Bente Dingen","45411863","bente.dingen@lundin-norway.no","20.08.2018"]
["",1,null,null,null,null,null,null,null,null,null,null,null,0.37893614450907975,null,null,null,null,null,null,{"$f":"IF(#REF!=1,IFERROR(VLOOKUP(#REF!,[1]Sheet1!$A:$N,U$2,FALSE),\"\"),\"\")","v":{"$error":"#REF!"}},null,null,null,null,null,null,null,null,null,null,null,null,"Christiania Roklub","Nei",null,"14.01.2004","Ja","M140104JAC01","7522750",null,"Christiania Roklub","Grete Isachsen Stokke","91338845","greteistokke@hotmail.com;grisach@gmail.com","22.08.2018"]
["",1,null,null,null,null,null,null,null,null,null,null,null,0.433831597853644,null,null,null,null,null,null,{"$f":"IF(#REF!=1,IFERROR(VLOOKUP(#REF!,[1]Sheet1!$A:$N,U$2,FALSE),\"\"),\"\")","v":{"$error":"#REF!"}},null,null,null,null,null,null,null,null,null,null,null,null,"Aalesunds Roklub","Nei",null,"24.11.2004","Ja","M241104GAB01","7633038","30.05.2018","Aalesunds Roklub","Johan Myklebust","90894714","johan.myklebust@nordea.no","21.08.2018"]
["",1,null,null,null,null,null,null,null,null,null,null,null,0.45078768728168217,null,null,null,null,null,null,{"$f":"IF(#REF!=1,IFERROR(VLOOKUP(#REF!,[1]Sheet1!$A:$N,U$2,FALSE),\"\"),\"\")","v":{"$error":"#REF!"}},null,null,null,null,null,null,null,null,null,null,null,null,"Christiania Roklub","Nei",null,"20.08.2004","Ja","M200804BRA04","7758069","06.03.2018","Christiania Roklub","Grete Isachsen Stokke","91338845","greteistokke@hotmail.com;grisach@gmail.com","22.08.2018"]
["",1,null,null,null,null,null,null,null,null,null,null,null,0.50781581434365353,null,null,null,null,null,null,{"$f":"IF(#REF!=1,IFERROR(VLOOKUP(#REF!,[1]Sheet1!$A:$N,U$2,FALSE),\"\"),\"\")","v":{"$error":"#REF!"}},null,null,null,null,null,null,null,null,null,null,null,null,"Bærum Roklubb","Nei",null,"09.02.2005","Ja","M090205EMI01","7947640","11.05.2018","Bærum Roklubb","Bente Dingen","45411863","bente.dingen@lundin-norway.no","20.08.2018"]
["",1,null,null,null,null,null,null,null,null,null,null,null,0.5377642454352819,null,null,null,null,null,null,{"$f":"IF(#REF!=1,IFERROR(VLOOKUP(#REF!,[1]Sheet1!$A:$N,U$2,FALSE),\"\"),\"\")","v":{"$error":"#REF!"}},null,null,null,null,null,null,null,null,null,null,null,null,"Sarpsborg Roklubb - Roing","Nei",null,"01.04.2004","Ja","M010404TOR02","7786944","22.03.2018","Sarpsborg Roklubb - Roing","Thomas Gundersen","91874904","Thomas.gundersen@afgruppen.no;thomas.gundersen@afgruppen.no","22.08.2018"]
["",1,null,null,null,null,null,null,null,null,null,null,null,0.54867756657135747,null,null,null,null,null,null,{"$f":"IF(#REF!=1,IFERROR(VLOOKUP(#REF!,[1]Sheet1!$A:$N,U$2,FALSE),\"\"),\"\")","v":{"$error":"#REF!"}},null,null,null,null,null,null,null,null,null,null,null,null,"Ormsund Roklub","Nei",null,"22.07.2004","Ja","M220704TRU01","7203412","06.04.2018","Ormsund Roklub","Eva Hansen","90799966","eva.hansen@wenaasnordic.com","22.08.2018"]
["",1,null,null,null,null,null,null,null,null,null,null,null,0.56387751195760349,null,null,null,null,null,null,{"$f":"IF(#REF!=1,IFERROR(VLOOKUP(#REF!,[1]Sheet1!$A:$N,U$2,FALSE),\"\"),\"\")","v":{"$error":"#REF!"}},null,null,null,null,null,null,null,null,null,null,null,null,"Aalesunds Roklub","Nei",null,"22.12.2005","Ja","M221205PET02","7619015","30.05.2018","Aalesunds Roklub","Johan Myklebust","90894714","johan.myklebust@nordea.no","21.08.2018"]
["",1,null,null,null,null,null,null,null,null,null,null,null,0.57621893843286076,null,null,null,null,null,null,{"$f":"IF(#REF!=1,IFERROR(VLOOKUP(#REF!,[1]Sheet1!$A:$N,U$2,FALSE),\"\"),\"\")","v":{"$error":"#REF!"}},null,null,null,null,null,null,null,null,null,null,null,null,"Christiania Roklub","Nei",null,"25.04.2004","Ja","M250404CHR01","5051812","06.03.2018","Christiania Roklub","Grete Isachsen Stokke","91338845","greteistokke@hotmail.com;grisach@gmail.com","22.08.2018"]
["",1,null,null,null,null,null,null,null,null,null,null,null,0.58161646859816152,null,null,null,null,null,null,{"$f":"IF(#REF!=1,IFERROR(VLOOKUP(#REF!,[1]Sheet1!$A:$N,U$2,FALSE),\"\"),\"\")","v":{"$error":"#REF!"}},null,null,null,null,null,null,null,null,null,null,null,null,"Ormsund Roklub","Nei",null,"22.06.2004","Ja","M220604MAX04","7259283","06.04.2018","Ormsund Roklub","Eva Hansen","90799966","eva.hansen@wenaasnordic.com","22.08.2018"]
["",1,null,null,null,null,null,null,null,null,null,null,null,0.61870893889398948,null,null,null,null,null,null,{"$f":"IF(#REF!=1,IFERROR(VLOOKUP(#REF!,[1]Sheet1!$A:$N,U$2,FALSE),\"\"),\"\")","v":{"$error":"#REF!"}},null,null,null,null,null,null,null,null,null,null,null,null,"Sarpsborg Roklubb - Roing","Nei",null,"07.06.2004","Ja","M070604MAR06","6707662","22.03.2018","Sarpsborg Roklubb - Roing","Thomas Gundersen","91874904","Thomas.gundersen@afgruppen.no;thomas.gundersen@afgruppen.no","22.08.2018"]
["",1,null,null,null,null,null,null,null,null,null,null,null,0.6478621723823822,null,null,null,null,null,null,{"$f":"IF(#REF!=1,IFERROR(VLOOKUP(#REF!,[1]Sheet1!$A:$N,U$2,FALSE),\"\"),\"\")","v":{"$error":"#REF!"}},null,null,null,null,null,null,null,null,null,null,null,null,"Christiania Roklub","Nei",null,"29.01.2004","Ja","M290104LOR01","8138326","06.03.2018","Christiania Roklub","Grete Isachsen Stokke","91338845","greteistokke@hotmail.com;grisach@gmail.com","22.08.2018"]
["",1,null,null,null,null,null,null,null,null,null,null,null,0.65465476005986378,null,null,null,null,null,null,{"$f":"IF(#REF!=1,IFERROR(VLOOKUP(#REF!,[1]Sheet1!$A:$N,U$2,FALSE),\"\"),\"\")","v":{"$error":"#REF!"}},null,null,null,null,null,null,null,null,null,null,null,null,"Norske Studenters Roklub","Nei",null,"24.06.2005","Ja","M240605HER09","8204299","07.06.2018","Norske Studenters Roklub","Erik Juel","48039369","eri-juel@online.no","22.08.2018"]
["",1,null,null,null,null,null,null,null,null,null,null,null,0.69013755925541098,null,null,null,null,null,null,{"$f":"IF(#REF!=1,IFERROR(VLOOKUP(#REF!,[1]Sheet1!$A:$N,U$2,FALSE),\"\"),\"\")","v":{"$error":"#REF!"}},null,null,null,null,null,null,null,null,null,null,null,null,"Moss Roklubb","Nei",null,"30.08.2004","Ja","M300804SIG03","7678533","22.03.2018","Moss Roklubb","Jon Rekstad","92252667","rekstad0@gmail.com","22.08.2018"]
["",1,null,null,null,null,null,null,null,null,null,null,null,0.72456086224483629,null,null,null,null,null,null,{"$f":"IF(#REF!=1,IFERROR(VLOOKUP(#REF!,[1]Sheet1!$A:$N,U$2,FALSE),\"\"),\"\")","v":{"$error":"#REF!"}},null,null,null,null,null,null,null,null,null,null,null,null,"Christiania Roklub","Nei",null,"27.04.2005","Ja","M270405KAS03","7758071","06.03.2018","Christiania Roklub","Grete Isachsen Stokke","91338845","greteistokke@hotmail.com;grisach@gmail.com","22.08.2018"]
["",1,null,null,null,null,null,null,null,null,null,null,null,0.72935779558845149,null,null,null,null,null,null,{"$f":"IF(#REF!=1,IFERROR(VLOOKUP(#REF!,[1]Sheet1!$A:$N,U$2,FALSE),\"\"),\"\")","v":{"$error":"#REF!"}},null,null,null,null,null,null,null,null,null,null,null,null,"Aalesunds Roklub","Nei",null,"12.05.2004","Ja","M120504ERL04","8150106","30.05.2018","Aalesunds Roklub","Johan Myklebust","90894714","johan.myklebust@nordea.no","21.08.2018"]
["",1,null,null,null,null,null,null,null,null,null,null,null,0.73280096062990241,null,null,null,null,null,null,{"$f":"IF(#REF!=1,IFERROR(VLOOKUP(#REF!,[1]Sheet1!$A:$N,U$2,FALSE),\"\"),\"\")","v":{"$error":"#REF!"}},null,null,null,null,null,null,null,null,null,null,null,null,"Bærum Roklubb","Nei",null,"24.10.2004","Ja","M241004NOA04","8111044","05.06.2018","Bærum Roklubb","Bente Dingen","45411863","bente.dingen@lundin-norway.no","20.08.2018"]
["",1,null,null,null,null,null,null,null,null,null,null,null,0.76086321493881026,null,null,null,null,null,null,{"$f":"IF(#REF!=1,IFERROR(VLOOKUP(#REF!,[1]Sheet1!$A:$N,U$2,FALSE),\"\"),\"\")","v":{"$error":"#REF!"}},null,null,null,null,null,null,null,null,null,null,null,null,"Moss Roklubb","Nei",null,"17.05.2004","Ja","M170504ERI04","8200596","22.03.2018","Moss Roklubb","Jon Rekstad","92252667","rekstad0@gmail.com","22.08.2018"]
["",1,null,null,null,null,null,null,null,null,null,null,null,0.81011054748120437,null,null,null,null,null,null,{"$f":"IF(#REF!=1,IFERROR(VLOOKUP(#REF!,[1]Sheet1!$A:$N,U$2,FALSE),\"\"),\"\")","v":{"$error":"#REF!"}},null,null,null,null,null,null,null,null,null,null,null,null,"Bærum Roklubb","Nei",null,"28.08.2005","Ja","M280805THO03","6142424","05.06.2018","Bærum Roklubb","Bente Dingen","45411863","bente.dingen@lundin-norway.no","20.08.2018"]
["",1,null,null,null,null,null,null,null,null,null,null,null,0.83338213743873824,null,null,null,null,null,null,{"$f":"IF(#REF!=1,IFERROR(VLOOKUP(#REF!,[1]Sheet1!$A:$N,U$2,FALSE),\"\"),\"\")","v":{"$error":"#REF!"}},null,null,null,null,null,null,null,null,null,null,null,null,"Drammen Roklubb ","Nei",null,"04.05.2004","Ja","M040504HÅK13","8104025","30.05.2018","Drammen Roklubb ",null,"90660478","beatepharo@gmail.com","21.08.2018"]
["",1,null,null,null,null,null,null,null,null,null,null,null,0.93679844008425983,null,null,null,null,null,null,{"$f":"IF(#REF!=1,IFERROR(VLOOKUP(#REF!,[1]Sheet1!$A:$N,U$2,FALSE),\"\"),\"\")","v":{"$error":"#REF!"}},null,null,null,null,null,null,null,null,null,null,null,null,"Tønsberg Roklub","Nei",null,"24.04.2005","Ja","M240405EDV04","8171027","01.05.2018","Tønsberg Roklub",null,"92061715","svendandersen@me.com","22.08.2018"]
["",1,null,null,null,null,null,null,null,null,null,null,null,0.94392904637670594,null,null,null,null,null,null,{"$f":"IF(#REF!=1,IFERROR(VLOOKUP(#REF!,[1]Sheet1!$A:$N,U$2,FALSE),\"\"),\"\")","v":{"$error":"#REF!"}},null,null,null,null,null,null,null,null,null,null,null,null,"Moss Roklubb","Nei",null,"26.05.2004","Ja","M260504OSK01","5217507","22.03.2018","Moss Roklubb","Jon Rekstad","92252667","rekstad0@gmail.com","22.08.2018"]
["",1,null,null,null,null,null,null,null,null,null,null,null,0.97284497808823667,null,null,null,null,null,null,{"$f":"IF(#REF!=1,IFERROR(VLOOKUP(#REF!,[1]Sheet1!$A:$N,U$2,FALSE),\"\"),\"\")","v":{"$error":"#REF!"}},null,null,null,null,null,null,null,null,null,null,null,null,"Christiania Roklub","Nei",null,"08.01.2004","Ja","M080104JOS02","6201834","06.03.2018","Christiania Roklub","Grete Isachsen Stokke","91338845","greteistokke@hotmail.com;grisach@gmail.com","22.08.2018"]
[null,null,null,null,null,null,null,null,null,null,null,null,null,0.23459125248737434,null,null,null,null,null,null,{"$f":"IF(#REF!=1,IFERROR(VLOOKUP(#REF!,[1]Sheet1!$A:$N,U$2,FALSE),\"\"),\"\")","v":{"$error":"#REF!"}}]
[null,null,null,null,null,null,null,null,null,null,null,null,null,0.9775598513872038,null,null,null,null,null,null,{"$f":"IF(#REF!=1,IFERROR(VLOOKUP(#REF!,[1]Sheet1!$A:$N,U$2,FALSE),\"\"),\"\")","v":{"$error":"#REF!"}}]
[{"$f":"D570&R570","v":""},1,null,null,null,null,null,null,null,null,null,null,102,0.1989997124153281,null,null,null,null,null,null,{"$f":"IF(#REF!=1,IFERROR(VLOOKUP(#REF!,[1]Sheet1!$A:$N,U$2,FALSE),\"\"),\"\")","v":{"$error":"#REF!"}}]
["",{"$f":"OFFSET(B571,-1,0)","v":1},null,null,null,null,null,null,null,null,null,null,null,0.20922510617372347,null,null,null,null,null,null,{"$f":"IF(#REF!=1,IFERROR(VLOOKUP(#REF!,[1]Sheet1!$A:$N,U$2,FALSE),\"\"),\"\")","v":{"$error":"#REF!"}},null,null,null,null,null,null,null,null,null,null,null,null,"Aalesunds Roklub",null,null,"22.03.2005\n29.07.2005","Ja\nJa","K220305IDA04\nK290705GUR05","7094408\n8157743","30.05.2018\n30.05.2018","Aalesunds Roklub\nAalesunds Roklub","Johan Gerhard Myklebust\n","90894714\n","johan.myklebust@nordea.no\n","21.08.2018\n21.08.2018"]
["",1,null,null,null,null,null,null,null,null,null,null,null,0.22084010156996159,null,null,null,null,null,null,{"$f":"IF(#REF!=1,IFERROR(VLOOKUP(#REF!,[1]Sheet1!$A:$N,U$2,FALSE),\"\"),\"\")","v":{"$error":"#REF!"}},null,null,null,null,null,null,null,null,null,null,null,null,"Ormsund Roklub",null,null,"07.07.2004\n17.01.2004","Ja\nJa","K070704MIL03\nK170104EMB01","5812808\n7697937","06.04.2018\n06.04.2018","Ormsund Roklub\nOrmsund Roklub","Eva Hansen\n","90799966\n","eva.hansen@wenaasnordic.com\n","22.08.2018\n22.08.2018"]
["",1,null,null,null,null,null,null,null,null,null,null,null,0.525905070078861,null,null,null,null,null,null,{"$f":"IF(#REF!=1,IFERROR(VLOOKUP(#REF!,[1]Sheet1!$A:$N,U$2,FALSE),\"\"),\"\")","v":{"$error":"#REF!"}},null,null,null,null,null,null,null,null,null,null,null,null,"Aalesunds Roklub",null,null,"30.09.2004\n27.08.2004","Ja\nJa","K300904MAR06\nK270804ERI01","7258646\n5395032","30.05.2018\n30.05.2018","Aalesunds Roklub\nAalesunds Roklub","Johan Gerhard Myklebust\n","90894714\n","johan.myklebust@nordea.no\n","21.08.2018\n21.08.2018"]
["",1,null,null,null,null,null,null,null,null,null,null,null,0.70832472325119111,null,null,null,null,null,null,{"$f":"IF(#REF!=1,IFERROR(VLOOKUP(#REF!,[1]Sheet1!$A:$N,U$2,FALSE),\"\"),\"\")","v":{"$error":"#REF!"}},null,null,null,null,null,null,null,null,null,null,null,null,"Ormsund Roklub",null,null,"31.12.2004\n18.12.2004","Ja\nJa","K311204ANN05\nK181204TYR02","7203396\n7259282","06.04.2018\n06.04.2018","Ormsund Roklub\nOrmsund Roklub","Eva Hansen\n","90799966\n","eva.hansen@wenaasnordic.com\n","22.08.2018\n22.08.2018"]
["",1,null,null,null,null,null,null,null,null,null,null,null,0.79888862853096876,null,null,null,null,null,null,{"$f":"IF(#REF!=1,IFERROR(VLOOKUP(#REF!,[1]Sheet1!$A:$N,U$2,FALSE),\"\"),\"\")","v":{"$error":"#REF!"}},null,null,null,null,null,null,null,null,null,null,null,null,"Aalesunds Roklub",null,null,"31.01.2004\n05.08.2005","Ja\nJa","K310104SEL01\nK050805NAT01","6871648\n7095895","30.05.2018\n30.05.2018","Aalesunds Roklub\nAalesunds Roklub","Johan Gerhard Myklebust\n","90894714\n","johan.myklebust@nordea.no\n","21.08.2018\n21.08.2018"]
["",1,null,null,null,null,null,null,null,null,null,null,null,0.815321391030984,null,null,null,null,null,null,{"$f":"IF(#REF!=1,IFERROR(VLOOKUP(#REF!,[1]Sheet1!$A:$N,U$2,FALSE),\"\"),\"\")","v":{"$error":"#REF!"}},null,null,null,null,null,null,null,null,null,null,null,null,"Trondhjems Roklubb",null,null,"12.04.2004","Ja","K120404MAR04","4108903","08.08.2018","Trondhjems Roklubb","Solveig Berthung","90999147","solveig.berthung@gmail.com;solveig.berthung@trondhjems-roklub.no","22.08.2018"]
["",1,null,null,null,null,null,null,null,null,null,null,null,0.92108123410957154,null,null,null,null,null,null,{"$f":"IF(#REF!=1,IFERROR(VLOOKUP(#REF!,[1]Sheet1!$A:$N,U$2,FALSE),\"\"),\"\")","v":{"$error":"#REF!"}},null,null,null,null,null,null,null,null,null,null,null,null,"Aalesunds Roklub",null,null,"16.02.2004\n22.04.2004","Ja\nJa","K160204LIV01\nK220404MIA01","7633009\n7091604","30.05.2018\n30.05.2018","Aalesunds Roklub\nAalesunds Roklub","Johan Gerhard Myklebust\n","90894714\n","johan.myklebust@nordea.no\n","21.08.2018\n21.08.2018"]
[null,null,null,null,null,null,null,null,null,null,null,null,null,9.1134298019119653E-2,null,null,null,null,null,null,{"$f":"IF(#REF!=1,IFERROR(VLOOKUP(#REF!,[1]Sheet1!$A:$N,U$2,FALSE),\"\"),\"\")","v":{"$error":"#REF!"}}]
[{"$f":"D579&R579","v":""},1,null,null,null,null,null,null,null,null,null,null,null,0.53682280782655434,null,null,null,null,null,null,{"$f":"IF(#REF!=1,IFERROR(VLOOKUP(#REF!,[1]Sheet1!$A:$N,U$2,FALSE),\"\"),\"\")","v":{"$error":"#REF!"}}]
[{"$f":"D580&R580","v":""},{"$f":"OFFSET(B580,-1,0)","v":1},null,null,null,null,null,null,null,null,null,null,null,0.13371841045191213,null,null,null,null,null,null,{"$f":"IF(#REF!=1,IFERROR(VLOOKUP(#REF!,[1]Sheet1!$A:$N,U$2,FALSE),\"\"),\"\")","v":{"$error":"#REF!"}},null,null,null,null,null,null,null,null,null,null,null,null,"Christiania Roklub","Nei",null,"07.05.1991","Ja","K070591HEL01","8124580","03.04.2018","Christiania Roklub","Grete Isachsen Stokke","91338845","greteistokke@hotmail.com;grisach@gmail.com","22.08.2018"]
[{"$f":"D581&R581","v":""},{"$f":"OFFSET(B581,-1,0)","v":1},null,null,null,null,null,null,null,null,null,null,null,0.76582543966961503,null,null,null,null,null,null,{"$f":"IF(#REF!=1,IFERROR(VLOOKUP(#REF!,[1]Sheet1!$A:$N,U$2,FALSE),\"\"),\"\")","v":{"$error":"#REF!"}},null,null,null,null,null,null,null,null,null,null,null,null,"Drammen Roklubb ","Nei",null,"20.09.1994","Ja","K200994FAN03","8149207","12.03.2018","Drammen Roklubb ",null,"90660478","beatepharo@gmail.com","21.08.2018"]
[null,null,null,null,null,null,null,null,null,null,null,null,null,0.21980620607141022,null,null,null,null,null,null,{"$f":"IF(#REF!=1,IFERROR(VLOOKUP(#REF!,[1]Sheet1!$A:$N,U$2,FALSE),\"\"),\"\")","v":{"$error":"#REF!"}}]
[{"$f":"D583&R583","v":""},1,null,null,null,null,null,null,null,null,null,null,null,0.333838326344706,null,null,null,null,null,null,{"$f":"IF(#REF!=1,IFERROR(VLOOKUP(#REF!,[1]Sheet1!$A:$N,U$2,FALSE),\"\"),\"\")","v":{"$error":"#REF!"}}]
["",{"$f":"OFFSET(B584,-1,0)","v":1},null,null,null,null,null,null,null,null,null,null,null,1.0639174522675265E-3,null,null,null,null,null,null,{"$f":"IF(#REF!=1,IFERROR(VLOOKUP(#REF!,[1]Sheet1!$A:$N,U$2,FALSE),\"\"),\"\")","v":{"$error":"#REF!"}},null,null,null,null,null,null,null,null,null,null,null,null,"Sarpsborg Roklubb - Roing",null,null,"28.12.2000\n13.02.2000","Ja\nJa","K281200COR02\nK130200LIS02","6060150\n6059397","22.03.2018\n","Sarpsborg Roklubb - Roing\nÅrungen Ro- og Kajakklubb","Thomas Gundersen\n","91874904\n","Thomas.gundersen@afgruppen.no;thomas.gundersen@afgruppen.no\n","22.08.2018\n22.08.2018"]
["",1,null,null,null,null,null,null,null,null,null,null,null,0.51126193992894231,null,null,null,null,null,null,{"$f":"IF(#REF!=1,IFERROR(VLOOKUP(#REF!,[1]Sheet1!$A:$N,U$2,FALSE),\"\"),\"\")","v":{"$error":"#REF!"}},null,null,null,null,null,null,null,null,null,null,null,null,"Aalesunds Roklub",null,null,"01.11.2002\n01.08.2001","Nei\nJa","K011102KAR02\nK010801HED01","7811195\n5213239","13.04.2018\n30.05.2018","Aalesunds Roklub\nAalesunds Roklub","Johan Gerhard Myklebust\n","90894714\n","johan.myklebust@nordea.no\n","21.08.2018\n21.08.2018"]
["",1,null,null,null,null,null,null,null,null,null,null,null,0.64199993419013734,null,null,null,null,null,null,{"$f":"IF(#REF!=1,IFERROR(VLOOKUP(#REF!,[1]Sheet1!$A:$N,U$2,FALSE),\"\"),\"\")","v":{"$error":"#REF!"}},null,null,null,null,null,null,null,null,null,null,null,null,"Fredrikstad Roklub",null,null,null,null,null,null,null,null,null,null,"Linda Schi Liseter"]
["",1,null,null,null,null,null,null,null,null,null,null,null,0.70882053391058319,null,null,null,null,null,null,{"$f":"IF(#REF!=1,IFERROR(VLOOKUP(#REF!,[1]Sheet1!$A:$N,U$2,FALSE),\"\"),\"\")","v":{"$error":"#REF!"}},null,null,null,null,null,null,null,null,null,null,null,null,"Christiania Roklub",null,null,"20.08.2001\n25.09.2002","Ja\nNei","K200801ANN08\nK250902NIC02","8030448\n8247202","14.05.2018\n14.05.2018","Christiania Roklub\nChristiania Roklub","Grete Isachsen Stokke\n","91338845\n","greteistokke@hotmail.com;grisach@gmail.com\n","22.08.2018\n22.08.2018"]
["",1,null,null,null,null,null,null,null,null,null,null,null,0.72565149698866338,null,null,null,null,null,null,{"$f":"IF(#REF!=1,IFERROR(VLOOKUP(#REF!,[1]Sheet1!$A:$N,U$2,FALSE),\"\"),\"\")","v":{"$error":"#REF!"}},null,null,null,null,null,null,null,null,null,null,null,null,"Drammen Roklubb ",null,null,"14.04.2001\n24.07.2002","Ja\nNei","K140401KAR10\nK240702IDA05","7214275\n7173655","12.03.2018\n13.04.2018","Drammen Roklubb \nTønsberg Roklub","Beate Pharo\n","90660478\n","beatepharo@gmail.com\n","21.08.2018\n21.08.2018"]
["",1,null,null,null,null,null,null,null,null,null,null,null,0.98406190516133063,null,null,null,null,null,null,{"$f":"IF(#REF!=1,IFERROR(VLOOKUP(#REF!,[1]Sheet1!$A:$N,U$2,FALSE),\"\"),\"\")","v":{"$error":"#REF!"}},null,null,null,null,null,null,null,null,null,null,null,null,"Bærum Roklubb",null,null,"15.01.2001\n03.06.2001","Ja\nJa","K150101THE02\nK030601CAI03","6790513\n7289717","17.04.2018\n17.04.2018","Bærum Roklubb\nBærum Roklubb","Bente Dingen\n","45411863\n","bente.dingen@lundin-norway.no\n","22.08.2018\n22.08.2018"]
["",1,null,null,null,null,null,null,null,null,null,null,null,0.17644156317468429,null,null,null,null,null,null,{"$f":"IF(#REF!=1,IFERROR(VLOOKUP(#REF!,[1]Sheet1!$A:$N,U$2,FALSE),\"\"),\"\")","v":{"$error":"#REF!"}}]
["",{"$f":"OFFSET(B591,-1,0)","v":1},null,null,null,null,null,null,null,null,null,null,null,0.53611278176012545,null,null,null,null,null,null,{"$f":"IF(#REF!=1,IFERROR(VLOOKUP(#REF!,[1]Sheet1!$A:$N,U$2,FALSE),\"\"),\"\")","v":{"$error":"#REF!"}},null,null,null,null,null,null,null,null,null,null,null,null,"Bærum Roklubb",null,null,"11.08.1999\n11.04.1979","Ja\nJa","K110899SYN04\nK110479HIL01","8066138\n6051441","\n","Bærum Roklubb\nBærum Roklubb","Bente Dingen\n","45411863\n","bente.dingen@lundin-norway.no\n","22.08.2018\n22.08.2018"]
[null,null,null,null,null,null,null,null,null,null,null,null,null,0.84067119934359613,null,null,null,null,null,null,{"$f":"IF(#REF!=1,IFERROR(VLOOKUP(#REF!,[1]Sheet1!$A:$N,U$2,FALSE),\"\"),\"\")","v":{"$error":"#REF!"}}]
[{"$f":"D593&R593","v":""},1,null,null,null,null,null,null,null,null,null,null,null,0.75667794129308874,null,null,null,null,null,null,{"$f":"IF(#REF!=1,IFERROR(VLOOKUP(#REF!,[1]Sheet1!$A:$N,U$2,FALSE),\"\"),\"\")","v":{"$error":"#REF!"}}]
[{"$f":"D594&R594","v":""},{"$f":"OFFSET(B594,-1,0)","v":1},null,null,null,null,null,null,null,null,null,null,null,0.88978815635032926,null,null,null,null,null,null,{"$f":"IF(#REF!=1,IFERROR(VLOOKUP(#REF!,[1]Sheet1!$A:$N,U$2,FALSE),\"\"),\"\")","v":{"$error":"#REF!"}},null,null,null,null,null,null,null,null,null,null,null,null,"Bærum Roklubb","Nei",null,"12.09.2000","Ja","M120900BRA02","8203074",null,"Bærum Roklubb","Bente Dingen","45411863","bente.dingen@lundin-norway.no","22.08.2018"]
["",1,null,null,null,null,null,null,null,null,null,null,null,0.97343422899242826,null,null,null,null,null,null,{"$f":"IF(#REF!=1,IFERROR(VLOOKUP(#REF!,[1]Sheet1!$A:$N,U$2,FALSE),\"\"),\"\")","v":{"$error":"#REF!"}},null,null,null,null,null,null,null,null,null,null,null,null,"Bærum Roklubb","Nei",null,"17.04.2000","Ja","M170400EIR02","5005277",null,"Bærum Roklubb","Bente Dingen","45411863","bente.dingen@lundin-norway.no","22.08.2018"]
["",1,null,null,null,null,null,null,null,null,null,null,null,5.961395651894319E-2,null,null,null,null,null,null,{"$f":"IF(#REF!=1,IFERROR(VLOOKUP(#REF!,[1]Sheet1!$A:$N,U$2,FALSE),\"\"),\"\")","v":{"$error":"#REF!"}},null,null,null,null,null,null,null,null,null,null,null,null,"Bærum Roklubb","Nei",null,"02.06.2000","Ja","M020600LAR02","4487587","13.04.2018","Bærum Roklubb","Bente Dingen","45411863","bente.dingen@lundin-norway.no","21.08.2018"]
["",1,null,null,null,null,null,null,null,null,null,null,null,0.99668130599822302,null,null,null,null,null,null,{"$f":"IF(#REF!=1,IFERROR(VLOOKUP(#REF!,[1]Sheet1!$A:$N,U$2,FALSE),\"\"),\"\")","v":{"$error":"#REF!"}},null,null,null,null,null,null,null,null,null,null,null,null,"Bærum Roklubb","Nei",null,"20.06.2000","Ja","M070600ØYS01","5372192","13.04.2018","Bærum Roklubb","Bente Dingen","45411863","bente.dingen@lundin-norway.no","21.08.2018"]
["",1,null,null,null,null,null,null,null,null,null,null,null,0.93254444915154189,null,null,null,null,null,null,{"$f":"IF(#REF!=1,IFERROR(VLOOKUP(#REF!,[1]Sheet1!$A:$N,U$2,FALSE),\"\"),\"\")","v":{"$error":"#REF!"}},null,null,null,null,null,null,null,null,null,null,null,null,"Drammen Roklubb ","Nei",null,"13.02.2001","Ja","M130201ELI03","7554836",null,"Drammen Roklubb ",null,"90660478","beatepharo@gmail.com","21.08.2018"]
["",1,null,null,null,null,null,null,null,null,null,null,null,0.57851724545567162,null,null,null,null,null,null,{"$f":"IF(#REF!=1,IFERROR(VLOOKUP(#REF!,[1]Sheet1!$A:$N,U$2,FALSE),\"\"),\"\")","v":{"$error":"#REF!"}},null,null,null,null,null,null,null,null,null,null,null,null,"Horten Roklubb","Nei",null,"13.09.2001","Ja","M130901BEN04","6102843","12.04.2018","Horten Roklubb","Bjørn-Inge Pettersen","93280397","pettersen.bjorn.inge@gmail.com","22.08.2018"]
["",1,null,null,null,null,null,null,null,null,null,null,null,0.20307351157245057,null,null,null,null,null,null,{"$f":"IF(#REF!=1,IFERROR(VLOOKUP(#REF!,[1]Sheet1!$A:$N,U$2,FALSE),\"\"),\"\")","v":{"$error":"#REF!"}},null,null,null,null,null,null,null,null,null,null,null,null,"Moss Roklubb","Nei",null,"17.08.2000","Ja","M170800JAR02","2794789","22.03.2018","Moss Roklubb","Jon Rekstad","92252667","rekstad0@gmail.com","22.08.2018"]
["",1,null,null,null,null,null,null,null,null,null,null,null,0.32812747965227063,null,null,null,null,null,null,{"$f":"IF(#REF!=1,IFERROR(VLOOKUP(#REF!,[1]Sheet1!$A:$N,U$2,FALSE),\"\"),\"\")","v":{"$error":"#REF!"}},null,null,null,null,null,null,null,null,null,null,null,null,"Norske Studenters Roklub","Nei",null,"06.08.2001","Ja","M060801NIC02","4916382","29.03.2018","Norske Studenters Roklub","Erik Juel","48039369","eri-juel@online.no","22.08.2018"]
["",1,null,null,null,null,null,null,null,null,null,null,null,0.45919791452747383,null,null,null,null,null,null,{"$f":"IF(#REF!=1,IFERROR(VLOOKUP(#REF!,[1]Sheet1!$A:$N,U$2,FALSE),\"\"),\"\")","v":{"$error":"#REF!"}},null,null,null,null,null,null,null,null,null,null,null,null,"Norske Studenters Roklub","Nei",null,"26.06.2001","Ja","M260101VIT01","5062270","29.03.2018","Norske Studenters Roklub","Erik Juel","48039369","eri-juel@online.no","22.08.2018"]
["",1,null,null,null,null,null,null,null,null,null,null,null,0.23550495792146664,null,null,null,null,null,null,{"$f":"IF(#REF!=1,IFERROR(VLOOKUP(#REF!,[1]Sheet1!$A:$N,U$2,FALSE),\"\"),\"\")","v":{"$error":"#REF!"}},null,null,null,null,null,null,null,null,null,null,null,null,"Sarpsborg Roklubb - Roing","Nei",null,"28.12.2000","Ja","M281200DID01","5330116","22.03.2018","Sarpsborg Roklubb - Roing","Thomas Gundersen","91874904","Thomas.gundersen@afgruppen.no;thomas.gundersen@afgruppen.no","22.08.2018"]
["",1,null,null,null,null,null,null,null,null,null,null,null,0.53792493875704006,null,null,null,null,null,null,{"$f":"IF(#REF!=1,IFERROR(VLOOKUP(#REF!,[1]Sheet1!$A:$N,U$2,FALSE),\"\"),\"\")","v":{"$error":"#REF!"}},null,null,null,null,null,null,null,null,null,null,null,null,"Sarpsborg Roklubb - Roing","Nei",null,"08.04.2001","Ja","M080401JAC01","5584584","22.03.2018","Sarpsborg Roklubb - Roing","Thomas Gundersen","91874904","Thomas.gundersen@afgruppen.no;thomas.gundersen@afgruppen.no","22.08.2018"]
["",1,null,null,null,null,null,null,null,null,null,null,null,0.93478843554272506,null,null,null,null,null,null,{"$f":"IF(#REF!=1,IFERROR(VLOOKUP(#REF!,[1]Sheet1!$A:$N,U$2,FALSE),\"\"),\"\")","v":{"$error":"#REF!"}},null,null,null,null,null,null,null,null,null,null,null,null,"Tønsberg Roklub","Nei",null,"05.05.2001","Ja","M050501MAR07","7153998","13.04.2018","Tønsberg Roklub",null,"92061715","svendandersen@me.com","22.08.2018"]
["",1,null,null,null,null,null,null,null,null,null,null,null,7.7524428969628412E-2,null,null,null,null,null,null,{"$f":"IF(#REF!=1,IFERROR(VLOOKUP(#REF!,[1]Sheet1!$A:$N,U$2,FALSE),\"\"),\"\")","v":{"$error":"#REF!"}},null,null,null,null,null,null,null,null,null,null,null,null,"Aalesunds Roklub","Nei",null,"26.07.2001","Ja","M260701FRE03","7811197","13.04.2018","Aalesunds Roklub","Johan Myklebust","90894714","johan.myklebust@nordea.no","21.08.2018"]
["",1,null,null,null,null,null,null,null,null,null,null,null,0.49559469876872686,null,null,null,null,null,null,{"$f":"IF(#REF!=1,IFERROR(VLOOKUP(#REF!,[1]Sheet1!$A:$N,U$2,FALSE),\"\"),\"\")","v":{"$error":"#REF!"}},null,null,null,null,null,null,null,null,null,null,null,null,"Aalesunds Roklub","Nei",null,"27.10.2001","Ja","M271001ARI02","5661384","30.05.2018","Aalesunds Roklub","Johan Myklebust","90894714","johan.myklebust@nordea.no","21.08.2018"]
["",1,null,null,null,null,null,null,null,null,null,null,null,0.70702982711377105,null,null,null,null,null,null,{"$f":"IF(#REF!=1,IFERROR(VLOOKUP(#REF!,[1]Sheet1!$A:$N,U$2,FALSE),\"\"),\"\")","v":{"$error":"#REF!"}},null,null,null,null,null,null,null,null,null,null,null,null,"Tønsberg Roklub","Nei",null,"05.05.2001","Ja","M050501MAR07","7153998","13.04.2018","Tønsberg Roklub",null,"92061715","svendandersen@me.com","22.08.2018"]
[null,null,null,null,null,null,null,null,null,null,null,null,null,0.44191571489721626,null,null,null,null,null,null,{"$f":"IF(#REF!=1,IFERROR(VLOOKUP(#REF!,[1]Sheet1!$A:$N,U$2,FALSE),\"\"),\"\")","v":{"$error":"#REF!"}}]
[{"$f":"D610&R610","v":""},1,null,null,null,null,null,null,null,null,null,null,null,0.33991887611091753,null,null,null,null,null,null,{"$f":"IF(#REF!=1,IFERROR(VLOOKUP(#REF!,[1]Sheet1!$A:$N,U$2,FALSE),\"\"),\"\")","v":{"$error":"#REF!"}}]
[{"$f":"D611&R611","v":""},{"$f":"OFFSET(B611,-1,0)","v":1},null,null,null,null,null,null,null,null,null,null,null,0.25947169464137254,null,null,null,null,null,null,{"$f":"IF(#REF!=1,IFERROR(VLOOKUP(#REF!,[1]Sheet1!$A:$N,U$2,FALSE),\"\"),\"\")","v":{"$error":"#REF!"}},null,null,null,null,null,null,null,null,null,null,null,null,"OSI","Nei"]
[{"$f":"D612&R612","v":""},0,null,null,null,null,null,null,null,null,null,null,null,0.8860313814487617,null,null,null,null,null,null,{"$f":"IF(#REF!=1,IFERROR(VLOOKUP(#REF!,[1]Sheet1!$A:$N,U$2,FALSE),\"\"),\"\")","v":{"$error":"#REF!"}}]
[{"$f":"D613&R613","v":""},{"$f":"OFFSET(B613,-1,0)","v":0},null,null,null,null,null,null,null,null,null,null,null,0.25054706749911149,null,null,null,null,null,null,{"$f":"IF(#REF!=1,IFERROR(VLOOKUP(#REF!,[1]Sheet1!$A:$N,U$2,FALSE),\"\"),\"\")","v":{"$error":"#REF!"}},null,null,null,null,null,null,null,null,null,null,null,null,"Aalesunds Roklub",null,null,"19.04.1978\n03.05.1963\n22.08.1977\n30.07.1971","Ja\nJa\nJa\nJa","K190478BOD02\nK030563SYN01\nK220877KAR04\nK300771ANN01","6100789\n670931\n6112516\n7074380","\n\n\n","Aalesunds Roklub\nAalesunds Roklub\nAalesunds Roklub\nAalesunds Roklub","Johan Gerhard Myklebust\n","90894714\n","johan.myklebust@nordea.no\n","21.08.2018\n21.08.2018\n21.08.2018\n21.08.2018"]
[{"$f":"D614&R614","v":""},1,null,null,null,null,null,null,null,null,null,null,null,0.9305381381552289,null,null,null,null,null,null,{"$f":"IF(#REF!=1,IFERROR(VLOOKUP(#REF!,[1]Sheet1!$A:$N,U$2,FALSE),\"\"),\"\")","v":{"$error":"#REF!"}}]
[{"$f":"D615&R615","v":""},{"$f":"OFFSET(B615,-1,0)","v":1},null,null,null,null,null,null,null,null,null,null,null,0.7208801939319297,null,null,null,null,null,null,{"$f":"IF(#REF!=1,IFERROR(VLOOKUP(#REF!,[1]Sheet1!$A:$N,U$2,FALSE),\"\"),\"\")","v":{"$error":"#REF!"}},null,null,null,null,null,null,null,null,null,null,null,null,"Tønsberg Roklub",null,null,"30.05.2001\n24.12.2000","Ja\nJa","M300501LAR02\nM241200ISA03","4234298\n7173184","13.04.2018\n13.04.2018","Tønsberg Roklub\nTønsberg Roklub","Svend Andersen\n","92061715\n","svendandersen@me.com\n","21.08.2018\n21.08.2018"]
[null,null,null,null,null,null,null,null,null,null,null,null,null,0.18463246853111925,null,null,null,null,null,null,{"$f":"IF(#REF!=1,IFERROR(VLOOKUP(#REF!,[1]Sheet1!$A:$N,U$2,FALSE),\"\"),\"\")","v":{"$error":"#REF!"}}]
[{"$f":"D617&R617","v":""},1,null,null,null,null,null,null,null,null,null,null,null,0.21444254689412667,null,null,null,null,null,null,{"$f":"IF(#REF!=1,IFERROR(VLOOKUP(#REF!,[1]Sheet1!$A:$N,U$2,FALSE),\"\"),\"\")","v":{"$error":"#REF!"}}]
["",{"$f":"OFFSET(B618,-1,0)","v":1},null,null,null,null,null,null,null,null,null,null,null,0.67163065661472909,null,null,null,null,null,null,{"$f":"IF(#REF!=1,IFERROR(VLOOKUP(#REF!,[1]Sheet1!$A:$N,U$2,FALSE),\"\"),\"\")","v":{"$error":"#REF!"}},null,null,null,null,null,null,null,null,null,null,null,null,"Bærum Roklubb","Nei",null,"19.05.1975","Ja","M190575ESP02","587671",null,"Bærum Roklubb","Bente Dingen","45411863","bente.dingen@lundin-norway.no","22.08.2018"]
[{"$f":"D619&R619","v":""},{"$f":"OFFSET(B619,-1,0)","v":1},null,null,null,null,null,null,null,null,null,null,null,0.7468604879167724,null,null,null,null,null,null,{"$f":"IF(#REF!=1,IFERROR(VLOOKUP(#REF!,[1]Sheet1!$A:$N,U$2,FALSE),\"\"),\"\")","v":{"$error":"#REF!"}},null,null,null,null,null,null,null,null,null,null,null,null,"Haldens Roklub","Nei",null,"29.06.1995","Ja","M290695THO04","5304581","13.04.2018","Haldens Roklub",null,"91725846","oskarvanetten@gmail.com","22.08.2018"]
["",{"$f":"OFFSET(B620,-1,0)","v":1},null,null,null,null,null,null,null,null,null,null,null,1.7976875826106298E-2,null,null,null,null,null,null,{"$f":"IF(#REF!=1,IFERROR(VLOOKUP(#REF!,[1]Sheet1!$A:$N,U$2,FALSE),\"\"),\"\")","v":{"$error":"#REF!"}},null,null,null,null,null,null,null,null,null,null,null,null,"Bærum Roklubb","Nei",null,"09.02.1994","Ja","M090294HAL02","5993966","13.04.2018","Bærum Roklubb","Bente Dingen","45411863","bente.dingen@lundin-norway.no","21.08.2018"]
["",0,null,null,null,null,null,null,null,null,null,null,null,0.74420175625438001,null,null,null,null,null,null,{"$f":"IF(#REF!=1,IFERROR(VLOOKUP(#REF!,[1]Sheet1!$A:$N,U$2,FALSE),\"\"),\"\")","v":{"$error":"#REF!"}}]
["",{"$f":"OFFSET(B622,-1,0)","v":0},null,null,null,null,null,null,null,null,null,null,null,0.3895068634884622,null,null,null,null,null,null,{"$f":"IF(#REF!=1,IFERROR(VLOOKUP(#REF!,[1]Sheet1!$A:$N,U$2,FALSE),\"\"),\"\")","v":{"$error":"#REF!"}},null,null,null,null,null,null,null,null,null,null,null,null,"Bærum Roklubb",null,null,"26.09.2000\n15.01.2001\n03.06.2001\n22.05.2002","Ja\nJa\nJa\nNei","K260900STI02\nK150101THE02\nK030601CAI03\nK220502IDA01","6778019\n6790513\n7289717\n4612874","13.04.2018\n17.04.2018\n17.04.2018\n","Bærum Roklubb\nBærum Roklubb\nBærum Roklubb\nUkjent/ikke registrert klubb","Bente Dingen\n","45411863\n","bente.dingen@lundin-norway.no\n","22.08.2018\n22.08.2018\n22.08.2018\n22.08.2018"]
[null,null,null,null,null,null,null,null,null,null,null,null,null,0.35923054795505793,null,null,null,null,null,null,{"$f":"IF(#REF!=1,IFERROR(VLOOKUP(#REF!,[1]Sheet1!$A:$N,U$2,FALSE),\"\"),\"\")","v":{"$error":"#REF!"}}]
[{"$f":"D624&R624","v":""},0,null,null,null,null,null,null,null,null,null,null,null,0.41829271071368712,null,null,null,null,null,null,{"$f":"IF(#REF!=1,IFERROR(VLOOKUP(#REF!,[1]Sheet1!$A:$N,U$2,FALSE),\"\"),\"\")","v":{"$error":"#REF!"}}]
["",1,null,null,null,null,null,null,null,null,null,null,null,0.76122893808082748,null,null,null,null,null,null,{"$f":"IF(#REF!=1,IFERROR(VLOOKUP(#REF!,[1]Sheet1!$A:$N,U$2,FALSE),\"\"),\"\")","v":{"$error":"#REF!"}}]
["",{"$f":"OFFSET(B626,-1,0)","v":1},null,null,null,null,null,null,null,null,null,null,null,0.91436378288809184,null,null,null,null," ",null,{"$f":"IF(#REF!=1,IFERROR(VLOOKUP(#REF!,[1]Sheet1!$A:$N,U$2,FALSE),\"\"),\"\")","v":{"$error":"#REF!"}},null,null,null,null,null,null,null,null,null,null,null,null,"Bærum Roklubb",null,null,"07.03.1992\n28.02.1994","Ja\nJa","K070392ODA03\nK280294MAR04","6631175\n8081992","\n","Bærum Roklubb\nBærum Roklubb","Bente Dingen\n","45411863\n","bente.dingen@lundin-norway.no\n","21.08.2018\n21.08.2018"]
["",{"$f":"OFFSET(B627,-1,0)","v":1},null,null,null,null,null,null,null,null,null,null,null,0.39123528491015869,null,null,null,null," ",null,{"$f":"IF(#REF!=1,IFERROR(VLOOKUP(#REF!,[1]Sheet1!$A:$N,U$2,FALSE),\"\"),\"\")","v":{"$error":"#REF!"}},null,null,null,null,null,null,null,null,null,null,null,null,"Christiania Roklub",null,null,"20.05.2000\n22.01.1969","Nei\nJa","K200500MAR04\nK220169EST04","4488301\n5301147","31.07.2018\n22.05.2018","Christiania Roklub\nChristiania Roklub","Grete Isachsen Stokke\n","91338845\n","greteistokke@hotmail.com;grisach@gmail.com\n","22.08.2018\n22.08.2018"]
[{"$f":"D628&R628","v":""},{"$f":"OFFSET(B628,-1,0)","v":1},null,null,null,null,null,null,null,null,null,null,null,0.45358938774534052,null,null,null,null,null,null,{"$f":"IF(#REF!=1,IFERROR(VLOOKUP(#REF!,[1]Sheet1!$A:$N,U$2,FALSE),\"\"),\"\")","v":{"$error":"#REF!"}},null,null,null,null,null,null,null,null,null,null,null,null,"Bærum Roklubb",null,null,"11.08.1999\n11.04.1979","Ja\nJa","K110899SYN04\nK110479HIL01","8066138\n6051441","\n","Bærum Roklubb\nBærum Roklubb","Bente Dingen\n","45411863\n","bente.dingen@lundin-norway.no\n","22.08.2018\n22.08.2018"]
["",{"$f":"OFFSET(B629,-1,0)","v":1},null,null,null,null,null,null,null,null,null,null,null,2.5195507956249141E-2,null,null,null,null,null,null,{"$f":"IF(#REF!=1,IFERROR(VLOOKUP(#REF!,[1]Sheet1!$A:$N,U$2,FALSE),\"\"),\"\")","v":{"$error":"#REF!"}},null,null,null,null,null,null,null,null,null,null,null,null,"Christiania Roklub",null,null,"07.05.1991\n20.05.2000","Ja\nNei","K070591HEL01\nK200500MAR04","8124580\n4488301","03.04.2018\n31.07.2018","Christiania Roklub\nChristiania Roklub","Grete Isachsen Stokke\n","91338845\n","greteistokke@hotmail.com;grisach@gmail.com\n","22.08.2018\n22.08.2018"]
[null,null,null,null,null,null,null,null,null,null,null,null,null,0.70764926425683095,null,null,null,null,null,null,{"$f":"IF(#REF!=1,IFERROR(VLOOKUP(#REF!,[1]Sheet1!$A:$N,U$2,FALSE),\"\"),\"\")","v":{"$error":"#REF!"}}]
[{"$f":"D631&R631","v":""},1,null,null,null,null,null,null,null,null,null,null,null,0.99521976224604347,null,null,null,null,null,null,{"$f":"IF(#REF!=1,IFERROR(VLOOKUP(#REF!,[1]Sheet1!$A:$N,U$2,FALSE),\"\"),\"\")","v":{"$error":"#REF!"}}]
["",{"$f":"OFFSET(B632,-1,0)","v":1},null,null,null,null,null,null,null,null,null,null,null,5.5125769317684759E-2,null,null,null,null," ",null,{"$f":"IF(#REF!=1,IFERROR(VLOOKUP(#REF!,[1]Sheet1!$A:$N,U$2,FALSE),\"\"),\"\")","v":{"$error":"#REF!"}},null,null,null,null,null,null,null,null,null,null,null,null,"Aalesunds Roklub",null,null,"02.02.2005\n12.05.2004","Ja\nJa","M020205PHI01\nM120504ERL04","6948464\n8150106","30.05.2018\n30.05.2018","Aalesunds Roklub\nAalesunds Roklub","Johan Gerhard Myklebust\n","90894714\n","johan.myklebust@nordea.no\n","21.08.2018\n21.08.2018"]
["",1,null,null,null,null,null,null,null,null,null,null,null,6.3769226343887819E-2,null,null,null,null," ",null,{"$f":"IF(#REF!=1,IFERROR(VLOOKUP(#REF!,[1]Sheet1!$A:$N,U$2,FALSE),\"\"),\"\")","v":{"$error":"#REF!"}},null,null,null,null,null,null,null,null,null,null,null,null,"Bærum Roklubb",null,null,"09.02.2005\n28.08.2005","Ja\nJa","M090205EMI01\nM280805THO03","7947640\n6142424","11.05.2018\n05.06.2018","Bærum Roklubb\nBærum Roklubb","Bente Dingen\n","45411863\n","bente.dingen@lundin-norway.no\n","20.08.2018\n20.08.2018"]
["",1,null,null,null,null,null,null,null,null,null,null,null,0.16722903692612412,null,null,null,null,null,null,{"$f":"IF(#REF!=1,IFERROR(VLOOKUP(#REF!,[1]Sheet1!$A:$N,U$2,FALSE),\"\"),\"\")","v":{"$error":"#REF!"}},null,null,null,null,null,null,null,null,null,null,null,null,"Ormsund Roklub",null,null,"05.03.2004\n22.06.2004","Ja\nJa","M050304MAR05\nM220604MAX04","8128450\n7259283","08.06.2018\n06.04.2018","Ormsund Roklub\nOrmsund Roklub","Eva Hansen\n","90799966\n","eva.hansen@wenaasnordic.com\n","22.08.2018\n22.08.2018"]
["",1,null,null,null,null,null,null,null,null,null,null,null,0.24638242931569121,null,null,null,null,null,null,{"$f":"IF(#REF!=1,IFERROR(VLOOKUP(#REF!,[1]Sheet1!$A:$N,U$2,FALSE),\"\"),\"\")","v":{"$error":"#REF!"}},null,null,null,null,null,null,null,null,null,null,null,null,"Norske Studenters Roklub",null,null,"22.10.2005\n01.10.2006","Ja\nNei","M221005AKS02\nM011006FEL03","5564987\n6965861","07.06.2018\n07.06.2018","Norske Studenters Roklub\nNorske Studenters Roklub","Erik Juel\n","48039369\n","eri-juel@online.no\n","22.08.2018\n22.08.2018"]
["",1,null,null,null,null,null,null,null,null,null,null,null,0.46770873520207878,null,null,null,null,null,null,{"$f":"IF(#REF!=1,IFERROR(VLOOKUP(#REF!,[1]Sheet1!$A:$N,U$2,FALSE),\"\"),\"\")","v":{"$error":"#REF!"}},null,null,null,null,null,null,null,null,null,null,null,null,"Aalesunds Roklub",null,null,"20.07.2005\n28.08.2005","Ja\nJa","M200705AND02\nM280805MAG03","6228122\n7096143","30.05.2018\n30.05.2018","Aalesunds Roklub\nAalesunds Roklub","Johan Gerhard Myklebust\n","90894714\n","johan.myklebust@nordea.no\n","21.08.2018\n21.08.2018"]
["",1,null,null,null,null,null,null,null,null,null,null,null,0.52644621091979293,null,null,null,null,null,null,{"$f":"IF(#REF!=1,IFERROR(VLOOKUP(#REF!,[1]Sheet1!$A:$N,U$2,FALSE),\"\"),\"\")","v":{"$error":"#REF!"}},null,null,null,null,null,null,null,null,null,null,null,null,"Bærum Roklubb",null,null,"29.06.2005\n25.02.2005","Ja\nJa","M290605THO01\nM250205FER01","7328781\n5587277","05.06.2018\n05.08.2018","Bærum Roklubb\nBærum Roklubb","Bente Dingen\n","45411863\n","bente.dingen@lundin-norway.no\n","20.08.2018\n20.08.2018"]
["",1,null,null,null,null,null,null,null,null,null,null,null,0.55755907120259085,null,null,null,null,null,null,{"$f":"IF(#REF!=1,IFERROR(VLOOKUP(#REF!,[1]Sheet1!$A:$N,U$2,FALSE),\"\"),\"\")","v":{"$error":"#REF!"}},null,null,null,null,null,null,null,null,null,null,null,null,"Bærum Roklubb",null,null,"24.10.2004\n27.12.2004","Ja\nJa","M241004NOA04\nM271204BRA01","8111044\n5137898","05.06.2018\n13.06.2018","Bærum Roklubb\nBærum Roklubb","Bente Dingen\n","45411863\n","bente.dingen@lundin-norway.no\n","20.08.2018\n20.08.2018"]
["",1,null,null,null,null,null,null,null,null,null,null,null,0.58295967552002548,null,null,null,null,null,null,{"$f":"IF(#REF!=1,IFERROR(VLOOKUP(#REF!,[1]Sheet1!$A:$N,U$2,FALSE),\"\"),\"\")","v":{"$error":"#REF!"}},null,null,null,null,null,null,null,null,null,null,null,null,"Aalesunds Roklub",null,null,"24.11.2004\n31.07.2005","Ja\nJa","M241104GAB01\nM310705HEI05","7633038\n6582360","30.05.2018\n30.05.2018","Aalesunds Roklub\nAalesunds Roklub","Johan Gerhard Myklebust\n","90894714\n","johan.myklebust@nordea.no\n","21.08.2018\n21.08.2018"]
["",1,null,null,null,null,null,null,null,null,null,null,null,0.602093485037273,null,null,null,null,null,null,{"$f":"IF(#REF!=1,IFERROR(VLOOKUP(#REF!,[1]Sheet1!$A:$N,U$2,FALSE),\"\"),\"\")","v":{"$error":"#REF!"}},null,null,null,null,null,null,null,null,null,null,null,null,"Moss Roklubb",null,null,"30.08.2004\n26.05.2004","Ja\nJa","M300804SIG03\nM260504OSK01","7678533\n5217507","22.03.2018\n22.03.2018","Moss Roklubb\nMoss Roklubb","Jon Børre Rekstad\n","92252667\n","rekstad0@gmail.com\n","22.08.2018\n22.08.2018"]
["",1,null,null,null,null,null,null,null,null,null,null,null,0.67829046454129394,null,null,null,null,null,null,{"$f":"IF(#REF!=1,IFERROR(VLOOKUP(#REF!,[1]Sheet1!$A:$N,U$2,FALSE),\"\"),\"\")","v":{"$error":"#REF!"}},null,null,null,null,null,null,null,null,null,null,null,null,"Christiania Roklub",null,null,"14.01.2004\n29.01.2004","Ja\nJa","M140104JAC01\nM290104LOR01","7522750\n8138326","\n06.03.2018","Christiania Roklub\nChristiania Roklub","Grete Isachsen Stokke\n","91338845\n","greteistokke@hotmail.com;grisach@gmail.com\n","22.08.2018\n22.08.2018"]
["",1,null,null,null,null,null,null,null,null,null,null,null,0.78156547372797669,null,null,null,null,null,null,{"$f":"IF(#REF!=1,IFERROR(VLOOKUP(#REF!,[1]Sheet1!$A:$N,U$2,FALSE),\"\"),\"\")","v":{"$error":"#REF!"}},null,null,null,null,null,null,null,null,null,null,null,null,"Bærum Roklubb",null,null,"30.04.2005\n19.02.2005","Ja\nJa","M300405JAC02\nM190205BRA01","8085498\n4214459","13.06.2018\n05.08.2018","Bærum Roklubb\nBærum Roklubb","Bente Dingen\n","45411863\n","bente.dingen@lundin-norway.no\n","20.08.2018\n20.08.2018"]
["",1,null,null,null,null,null,null,null,null,null,null,null,0.79977773738363711,null,null,null,null,null,null,{"$f":"IF(#REF!=1,IFERROR(VLOOKUP(#REF!,[1]Sheet1!$A:$N,U$2,FALSE),\"\"),\"\")","v":{"$error":"#REF!"}},null,null,null,null,null,null,null,null,null,null,null,null,"Aalesunds Roklub",null,null,"22.12.2005\n27.05.2006","Ja\nNei","M221205PET02\nM270506MAD02","7619015\n8233207","30.05.2018\n30.05.2018","Aalesunds Roklub\nAalesunds Roklub","Johan Gerhard Myklebust\n","90894714\n","johan.myklebust@nordea.no\n","21.08.2018\n21.08.2018"]
["",1,null,null,null,null,null,null,null,null,null,null,null,0.98090423973660579,null,null,null,null,null,null,{"$f":"IF(#REF!=1,IFERROR(VLOOKUP(#REF!,[1]Sheet1!$A:$N,U$2,FALSE),\"\"),\"\")","v":{"$error":"#REF!"}},null,null,null,null,null,null,null,null,null,null,null,null,"Christiania Roklub",null,null,"20.08.2004\n27.04.2005","Ja\nJa","M200804BRA04\nM270405KAS03","7758069\n7758071","06.03.2018\n06.03.2018","Christiania Roklub\nChristiania Roklub","Grete Isachsen Stokke\n","91338845\n","greteistokke@hotmail.com;grisach@gmail.com\n","22.08.2018\n22.08.2018"]
["",1,null,null,null,null,null,null,null,null,null,null,null,0.84735831373605419,null,null,null,null,null,null,{"$f":"IF(#REF!=1,IFERROR(VLOOKUP(#REF!,[1]Sheet1!$A:$N,U$2,FALSE),\"\"),\"\")","v":{"$error":"#REF!"}},null,null,null,null,null,null,null,null,null,null,null,null,"Tønsberg Roklub",null,null,"24.04.2005\n07.09.2007","Ja\nNei","M240405EDV04\nM070907ERI02","8171027\n6452187","01.05.2018\n01.05.2018","Tønsberg Roklub\nTønsberg Roklub","Svend Andersen\n","92061715\n","svendandersen@me.com\n","22.08.2018\n22.08.2018"]
["",1,null,null,null,null,null,null,null,null,null,null,null,0.85731470358263351,null,null,null,null,null,null,{"$f":"IF(#REF!=1,IFERROR(VLOOKUP(#REF!,[1]Sheet1!$A:$N,U$2,FALSE),\"\"),\"\")","v":{"$error":"#REF!"}},null,null,null,null,null,null,null,null,null,null,null,null,"Sarpsborg Roklubb - Roing",null,null,"22.10.2004","Ja","M221004NOR01","6917184","22.03.2018","Sarpsborg Roklubb - Roing","Thomas Gundersen","91874904","Thomas.gundersen@afgruppen.no;thomas.gundersen@afgruppen.no","22.08.2018"]
["",1,null,null,null,null,null,null,null,null,null,null,null,0.86260940870543046,null,null,null,null,null,null,{"$f":"IF(#REF!=1,IFERROR(VLOOKUP(#REF!,[1]Sheet1!$A:$N,U$2,FALSE),\"\"),\"\")","v":{"$error":"#REF!"}},null,null,null,null,null,null,null,null,null,null,null,null,"Moss Roklubb",null,null,"30.12.2005\n20.06.2006","Ja\nNei","M301205KIM02\nM200606VIN03","5477783\n5373415","22.03.2018\n22.03.2018","Moss Roklubb\nMoss Roklubb","Jon Børre Rekstad\n","92252667\n","rekstad0@gmail.com\n","22.08.2018\n22.08.2018"]
["",1,null,null,null,null,null,null,null,null,null,null,null,0.8964043856708187,null,null,null,null,null,null,{"$f":"IF(#REF!=1,IFERROR(VLOOKUP(#REF!,[1]Sheet1!$A:$N,U$2,FALSE),\"\"),\"\")","v":{"$error":"#REF!"}},null,null,null,null,null,null,null,null,null,null,null,null,"Norske Studenters Roklub",null,null,"20.01.2006\n24.06.2005","Nei\nJa","M010306SAN01\nM240605HER09","7266956\n8204299","07.06.2018\n07.06.2018","Norske Studenters Roklub\nNorske Studenters Roklub","Erik Juel\n","48039369\n","eri-juel@online.no\n","22.08.2018\n22.08.2018"]
["",1,null,null,null,null,null,null,null,null,null,null,null,0.91899471570732416,null,null,null,null,null,null,{"$f":"IF(#REF!=1,IFERROR(VLOOKUP(#REF!,[1]Sheet1!$A:$N,U$2,FALSE),\"\"),\"\")","v":{"$error":"#REF!"}},null,null,null,null,null,null,null,null,null,null,null,null,"Christiania Roklub",null,null,"08.01.2004\n25.04.2004","Ja\nJa","M080104JOS02\nM250404CHR01","6201834\n5051812","06.03.2018\n06.03.2018","Christiania Roklub\nChristiania Roklub","Grete Isachsen Stokke\n","91338845\n","greteistokke@hotmail.com;grisach@gmail.com\n","22.08.2018\n22.08.2018"]
[null,null,null,null,null,null,null,null,null,null,null,null,null,0.97548461515706775,null,null,null,null,null,null,{"$f":"IF(#REF!=1,IFERROR(VLOOKUP(#REF!,[1]Sheet1!$A:$N,U$2,FALSE),\"\"),\"\")","v":{"$error":"#REF!"}}]
[{"$f":"D651&R651","v":""},1,null,null,null,null,null,null,null,null,null,null,null,0.98363569650757576,null,null,null,null,null,null,{"$f":"IF(#REF!=1,IFERROR(VLOOKUP(#REF!,[1]Sheet1!$A:$N,U$2,FALSE),\"\"),\"\")","v":{"$error":"#REF!"}}]
["",{"$f":"OFFSET(B652,-1,0)","v":1},null,null,null,null,null,null,null,null,null,null,null,0.24784351995922449,null,null,null,null,null,null,{"$f":"IF(#REF!=1,IFERROR(VLOOKUP(#REF!,[1]Sheet1!$A:$N,U$2,FALSE),\"\"),\"\")","v":{"$error":"#REF!"}},null,null,null,null,null,null,null,null,null,null,null,null,null,"Aalesunds Roklub","Nei",null,"22.03.2005","Ja","K220305IDA04","7094408","30.05.2018","Aalesunds Roklub","Johan Myklebust","90894714","johan.myklebust@nordea.no","21.08.2018"]
["",1,null,null,null,null,null,null,null,null,null,null,null,1.1781266373941834E-2,null,null,null,null,null,null,{"$f":"IF(#REF!=1,IFERROR(VLOOKUP(#REF!,[1]Sheet1!$A:$N,U$2,FALSE),\"\"),\"\")","v":{"$error":"#REF!"}},null,null,null,null,null,null,null,null,null,null,null,null,null,"Drammen Roklubb ","Nei",null,"23.02.2004","Ja","K230304TAL01","7310638","12.03.2018","Drammen Roklubb ",null,"90660478","beatepharo@gmail.com","21.08.2018"]
["",1,null,null,null,null,null,null,null,null,null,null,null,0.15082445426443114,null,null,null,null,null,null,{"$f":"IF(#REF!=1,IFERROR(VLOOKUP(#REF!,[1]Sheet1!$A:$N,U$2,FALSE),\"\"),\"\")","v":{"$error":"#REF!"}},null,null,null,null,null,null,null,null,null,null,null,null,null,"Tønsberg Roklub","Nei",null,"07.02.2005","Ja","K070205SHI02","7919053","01.05.2018","Tønsberg Roklub",null,"92061715","svendandersen@me.com","22.08.2018"]
["",1,null,null,null,null,null,null,null,null,null,null,null,0.17026338394083329,null,null,null,null,null,null,{"$f":"IF(#REF!=1,IFERROR(VLOOKUP(#REF!,[1]Sheet1!$A:$N,U$2,FALSE),\"\"),\"\")","v":{"$error":"#REF!"}},null,null,null,null,null,null,null,null,null,null,null,null,null,"Ormsund Roklub","Nei",null,"17.01.2004","Ja","K170104EMB01","7697937","06.04.2018","Ormsund Roklub","Eva Hansen","90799966","eva.hansen@wenaasnordic.com","22.08.2018"]
["",1,null,null,null,null,null,null,null,null,null,null,null,0.17519643220289682,null,null,null,null,null,null,{"$f":"IF(#REF!=1,IFERROR(VLOOKUP(#REF!,[1]Sheet1!$A:$N,U$2,FALSE),\"\"),\"\")","v":{"$error":"#REF!"}},null,null,null,null,null,null,null,null,null,null,null,null,null,"Aalesunds Roklub","Nei",null,"05.08.2005","Ja","K050805NAT01","7095895","30.05.2018","Aalesunds Roklub","Johan Myklebust","90894714","johan.myklebust@nordea.no","21.08.2018"]
["",1,null,null,null,null,null,null,null,null,null,null,null,0.47096966681947727,null,null,null,null,null,null,{"$f":"IF(#REF!=1,IFERROR(VLOOKUP(#REF!,[1]Sheet1!$A:$N,U$2,FALSE),\"\"),\"\")","v":{"$error":"#REF!"}},null,null,null,null,null,null,null,null,null,null,null,null,null,"Trondhjems Roklubb","Nei",null,"12.04.2004","Ja","K120404MAR04","4108903","08.08.2018","Trondhjems Roklubb","Solveig Berthung","90999147","solveig.berthung@gmail.com;solveig.berthung@trondhjems-roklub.no","22.08.2018"]
["",1,null,null,null,null,null,null,null,null,null,null,null,0.48200541124586971,null,null,null,null,null,null,{"$f":"IF(#REF!=1,IFERROR(VLOOKUP(#REF!,[1]Sheet1!$A:$N,U$2,FALSE),\"\"),\"\")","v":{"$error":"#REF!"}},null,null,null,null,null,null,null,null,null,null,null,null,null,"Drammen Roklubb ","Nei",null,"02.01.2005","Ja","K020105AND01","5443894","12.03.2018","Drammen Roklubb ",null,"90660478","beatepharo@gmail.com","21.08.2018"]
["",1,null,null,null,null,null,null,null,null,null,null,null,0.72570692805790626,null,null,null,null,null,null,{"$f":"IF(#REF!=1,IFERROR(VLOOKUP(#REF!,[1]Sheet1!$A:$N,U$2,FALSE),\"\"),\"\")","v":{"$error":"#REF!"}},null,null,null,null,null,null,null,null,null,null,null,null,null,"Ormsund Roklub","Nei",null,"31.12.2004","Ja","K311204ANN05","7203396","06.04.2018","Ormsund Roklub","Eva Hansen","90799966","eva.hansen@wenaasnordic.com","22.08.2018"]
["",1,null,null,null,null,null,null,null,null,null,null,null,0.66563885646723564,null,null,null,null,null,null,{"$f":"IF(#REF!=1,IFERROR(VLOOKUP(#REF!,[1]Sheet1!$A:$N,U$2,FALSE),\"\"),\"\")","v":{"$error":"#REF!"}},null,null,null,null,null,null,null,null,null,null,null,null,null,"Drammen Roklubb ","Nei",null,"19.08.2004","Ja","K190804EMM03","5532186","12.03.2018","Drammen Roklubb ",null,"90660478","beatepharo@gmail.com","21.08.2018"]
["",1,null,null,null,null,null,null,null,null,null,null,null,0.98886814484128815,null,null,null,null,null,null,{"$f":"IF(#REF!=1,IFERROR(VLOOKUP(#REF!,[1]Sheet1!$A:$N,U$2,FALSE),\"\"),\"\")","v":{"$error":"#REF!"}},null,null,null,null,null,null,null,null,null,null,null,null,"Aalesunds Roklub","Nei",null,"19.05.2006","Nei","K190506JUL02","6824678","30.05.2018","Aalesunds Roklub","Johan Myklebust","90894714","johan.myklebust@nordea.no","21.08.2018"]
["",1,null,null,null,null,null,null,null,null,null,null,null,0.86581419633397882,null,null,null,null,null,null,{"$f":"IF(#REF!=1,IFERROR(VLOOKUP(#REF!,[1]Sheet1!$A:$N,U$2,FALSE),\"\"),\"\")","v":{"$error":"#REF!"}},null,null,null,null,null,null,null,null,null,null,null,null,null,"Ormsund Roklub","Nei",null,"18.12.2004","Ja","K181204TYR02","7259282","06.04.2018","Ormsund Roklub","Eva Hansen","90799966","eva.hansen@wenaasnordic.com","22.08.2018"]
["",1,null,null,null,null,null,null,null,null,null,null,null,0.88471758959232638,null,null,null,null,null,null,{"$f":"IF(#REF!=1,IFERROR(VLOOKUP(#REF!,[1]Sheet1!$A:$N,U$2,FALSE),\"\"),\"\")","v":{"$error":"#REF!"}},null,null,null,null,null,null,null,null,null,null,null,null,null,"Sarpsborg Roklubb - Roing","Nei",null,"13.04.2006","Nei","K130406MAR07","8128455","22.03.2018","Sarpsborg Roklubb - Roing","Thomas Gundersen","91874904","Thomas.gundersen@afgruppen.no;thomas.gundersen@afgruppen.no","22.08.2018"]
["",1,null,null,null,null,null,null,null,null,null,null,null,0.89739970262775659,null,null,null,null,null,null,{"$f":"IF(#REF!=1,IFERROR(VLOOKUP(#REF!,[1]Sheet1!$A:$N,U$2,FALSE),\"\"),\"\")","v":{"$error":"#REF!"}},null,null,null,null,null,null,null,null,null,null,null,null,null,"Aalesunds Roklub","Nei",null,"29.07.2005","Ja","K290705GUR05","8157743","30.05.2018","Aalesunds Roklub","Johan Myklebust","90894714","johan.myklebust@nordea.no","21.08.2018"]
["",1,null,null,null,null,null,null,null,null,null,null,null,2.7714471119638096E-2,null,null,null,null,null,null,{"$f":"IF(#REF!=1,IFERROR(VLOOKUP(#REF!,[1]Sheet1!$A:$N,U$2,FALSE),\"\"),\"\")","v":{"$error":"#REF!"}}]
["",{"$f":"OFFSET(B666,-1,0)","v":1},null,null,null,null,null,null,null,null,null,null,null,0.56035811064178431,null,null,null,null,null,null,{"$f":"IF(#REF!=1,IFERROR(VLOOKUP(#REF!,[1]Sheet1!$A:$N,U$2,FALSE),\"\"),\"\")","v":{"$error":"#REF!"}},null,null,null,null,null,null,null,null,null,null,null,null,"Christiania Roklub",null,null,"22.12.2002\n15.10.2002","Ja\nJa","M221202ELI02\nM151002ÅSM01","4671202\n4513284","\n06.03.2018","Ukjent/ikke registrert klubb\nChristiania Roklub","Grete Isachsen Stokke\n","91338845\n","greteistokke@hotmail.com;grisach@gmail.com\n","22.08.2018\n22.08.2018"]
["",1,null,null,null,null,null,null,null,null,null,null,null,0.47515347501861216,null,null,null,null,null,null,{"$f":"IF(#REF!=1,IFERROR(VLOOKUP(#REF!,[1]Sheet1!$A:$N,U$2,FALSE),\"\"),\"\")","v":{"$error":"#REF!"}},null,null,null,null,null,null,null,null,null,null,null,null,"Drammen Roklubb ",null,null,"09.05.2004\n07.02.2003","Nei\nJa","M090504ULR01\nM070203HAM03","5057646\n6756072","12.03.2018\n12.03.2018","Drammen Roklubb \nDrammen Roklubb ","Beate Pharo\n","90660478\n","beatepharo@gmail.com\n","21.08.2018\n21.08.2018"]
["",1,null,null,null,null,null,null,null,null,null,null,null,0.60661875284681177,null,null,null,null,null,null,{"$f":"IF(#REF!=1,IFERROR(VLOOKUP(#REF!,[1]Sheet1!$A:$N,U$2,FALSE),\"\"),\"\")","v":{"$error":"#REF!"}},null,null,null,null,null,null,null,null,null,null,null,null,"Drammen Roklubb ",null,null,"20.06.2003\n30.08.2003","Ja\nJa","M200603AND02\nM300803JON01","8075279\n4879656","02.05.2018\n12.03.2018","Bærum Roklubb\nDrammen Roklubb ","Beate Pharo\n","90660478\n","beatepharo@gmail.com\n","21.08.2018\n21.08.2018"]
["",1,null,null,null,null,null,null,null,null,null,null,null,8.2452792339828829E-3,null,null,null,null,null,null,{"$f":"IF(#REF!=1,IFERROR(VLOOKUP(#REF!,[1]Sheet1!$A:$N,U$2,FALSE),\"\"),\"\")","v":{"$error":"#REF!"}},null,null,null,null,null,null,null,null,null,null,null,null,"Drammen Roklubb ",null,null,"14.04.2003\n14.07.2003","Ja\nJa","M140403SEB04\nM140703JOH03","7710737\n6131539","\n12.03.2018","Drammen Roklubb \nDrammen Roklubb ","Beate Pharo\n","90660478\n","beatepharo@gmail.com\n","21.08.2018\n21.08.2018"]
["",1,null,null,null,null,null,null,null,null,null,null,null,7.7778149000900521E-2,null,null,null,null,null,null,{"$f":"IF(#REF!=1,IFERROR(VLOOKUP(#REF!,[1]Sheet1!$A:$N,U$2,FALSE),\"\"),\"\")","v":{"$error":"#REF!"}},null,null,null,null,null,null,null,null,null,null,null,null,"Drammen Roklubb ",null,null,"16.09.2003\n04.05.2004","Ja\nNei","M160903CHR01\nM040504HÅK13","4573154\n8104025","10.04.2018\n30.05.2018","Drammen Roklubb \nDrammen Roklubb ","Beate Pharo\n","90660478\n","beatepharo@gmail.com\n","21.08.2018\n21.08.2018"]
["",1,null,null,null,null,null,null,null,null,null,null,null,0.70385039720533482,null,null,null,null,null,null,{"$f":"IF(#REF!=1,IFERROR(VLOOKUP(#REF!,[1]Sheet1!$A:$N,U$2,FALSE),\"\"),\"\")","v":{"$error":"#REF!"}},null,null,null,null,null,null,null,null,null,null,null,null,"Haldens Roklub",null,null,"21.02.2002\n24.02.2002","Ja\nJa","M210202HAA02\nM240202OLI02","5006685\n6398349","13.04.2018\n22.03.2018","Haldens Roklub\nSarpsborg Roklubb - Roing","Oskar Van Etten Jarem\n","91725846\n","oskarvanetten@gmail.com\n","22.08.2018\n22.08.2018"]
["",1,null,null,null,null,null,null,null,null,null,null,null,0.17008320040781832,null,null,null,null,null,null,{"$f":"IF(#REF!=1,IFERROR(VLOOKUP(#REF!,[1]Sheet1!$A:$N,U$2,FALSE),\"\"),\"\")","v":{"$error":"#REF!"}},null,null,null,null,null,null,null,null,null,null,null,null,"Moss Roklubb",null,null,"29.01.2003\n01.04.2003","Ja\nJa","M290103VIK01\nM010403SIM03","5993278\n7261136","22.03.2018\n22.03.2018","Moss Roklubb\nMoss Roklubb","Jon Børre Rekstad\n","92252667\n","rekstad0@gmail.com\n","22.08.2018\n22.08.2018"]
["",1,null,null,null,null,null,null,null,null,null,null,null,0.83064184724724177,null,null,null,null,null,null,{"$f":"IF(#REF!=1,IFERROR(VLOOKUP(#REF!,[1]Sheet1!$A:$N,U$2,FALSE),\"\"),\"\")","v":{"$error":"#REF!"}},null,null,null,null,null,null,null,null,null,null,null,null,"Moss Roklubb",null,null,"17.05.2002\n30.04.2002","Ja\nJa","M170502SIM07\nM300402MAJ01","7189809\n6977105","22.03.2018\n22.03.2018","Moss Roklubb\nSarpsborg Roklubb - Roing","Jon Børre Rekstad\n","92252667\n","rekstad0@gmail.com\n","22.08.2018\n22.08.2018"]
["",1,null,null,null,null,null,null,null,null,null,null,null,0.22357339190592773,null,null,null,null,null,null,{"$f":"IF(#REF!=1,IFERROR(VLOOKUP(#REF!,[1]Sheet1!$A:$N,U$2,FALSE),\"\"),\"\")","v":{"$error":"#REF!"}},null,null,null,null,null,null,null,null,null,null,null,null,"Norske Studenters Roklub",null,null,"01.01.2003\n16.12.2003","Ja\nJa","M010103JAC04\nM161203AXE03","8247213\n8133394","07.06.2018\n","Norske Studenters Roklub\nNorske Studenters Roklub","Erik Juel\n","48039369\n","eri-juel@online.no\n","22.08.2018\n22.08.2018"]
["",1,null,null,null,null,null,null,null,null,null,null,null,7.2248958433744903E-2,null,null,null,null,null,null,{"$f":"IF(#REF!=1,IFERROR(VLOOKUP(#REF!,[1]Sheet1!$A:$N,U$2,FALSE),\"\"),\"\")","v":{"$error":"#REF!"}},null,null,null,null,null,null,null,null,null,null,null,null,"Norske Studenters Roklub",null,null,"22.04.2003\n17.01.2002","Ja\nJa","M220403TRY05\nM170102BRO01","8235153\n5003101","29.03.2018\n","Norske Studenters Roklub\nNorske Studenters Roklub","Erik Juel\n","48039369\n","eri-juel@online.no\n","22.08.2018\n22.08.2018"]
["",1,null,null,null,null,null,null,null,null,null,null,null,0.78941440681977237,null,null,null,null,null,null,{"$f":"IF(#REF!=1,IFERROR(VLOOKUP(#REF!,[1]Sheet1!$A:$N,U$2,FALSE),\"\"),\"\")","v":{"$error":"#REF!"}},null,null,null,null,null,null,null,null,null,null,null,null,"Ormsund Roklub",null,null,"07.06.2004\n22.07.2004","Nei\nNei","M070604MAR06\nM220704TRU01","6707662\n7203412","22.03.2018\n06.04.2018","Sarpsborg Roklubb - Roing\nOrmsund Roklub","Eva Hansen\n","90799966\n","eva.hansen@wenaasnordic.com\n","22.08.2018\n22.08.2018"]
["",1,null,null,null,null,null,null,null,null,null,null,null,0.58363542682018676,null,null,null,null,null,null,{"$f":"IF(#REF!=1,IFERROR(VLOOKUP(#REF!,[1]Sheet1!$A:$N,U$2,FALSE),\"\"),\"\")","v":{"$error":"#REF!"}},null,null,null,null,null,null,null,null,null,null,null,null,"Sarpsborg Roklubb - Roing",null,null,"22.12.2002\n24.02.2002","Ja\nJa","M221202HÅK01\nM240202OLI01","6848301\n7448632","22.03.2018\n","Sarpsborg Roklubb - Roing\nSarpsborg Roklubb - Roing","Thomas Gundersen\n","91874904\n","Thomas.gundersen@afgruppen.no;thomas.gundersen@afgruppen.no\n","22.08.2018\n22.08.2018"]
["",1,null,null,null,null,null,null,null,null,null,null,null,0.56842147314413705,null,null,null,null,null,null,{"$f":"IF(#REF!=1,IFERROR(VLOOKUP(#REF!,[1]Sheet1!$A:$N,U$2,FALSE),\"\"),\"\")","v":{"$error":"#REF!"}},null,null,null,null,null,null,null,null,null,null,null,null,"Tønsberg Roklub",null,null,"15.09.2003\n30.05.2003","Ja\nJa","M150903TOB06\nM300503TOB07","7936549\n7014841","\n13.04.2018","Tønsberg Roklub\nTønsberg Roklub","Svend Andersen\n","92061715\n","svendandersen@me.com\n","21.08.2018\n21.08.2018"]
[null,null,null,null,null,null,null,null,null,null,null,null,null,0.65740414833671179,null,null,null,null,null,null,{"$f":"IF(#REF!=1,IFERROR(VLOOKUP(#REF!,[1]Sheet1!$A:$N,U$2,FALSE),\"\"),\"\")","v":{"$error":"#REF!"}}]
[{"$f":"D680&R680","v":""},1,null,null,null,null,null,null,null,null,null,null,null,4.3257323914084322E-3,null,null,null,null,null,null,{"$f":"IF(#REF!=1,IFERROR(VLOOKUP(#REF!,[1]Sheet1!$A:$N,U$2,FALSE),\"\"),\"\")","v":{"$error":"#REF!"}}]
[{"$f":"D681&R681","v":""},{"$f":"OFFSET(B681,-1,0)","v":1},null,null,null,null,null,null,null,null,null,null,null,0.93987680391469652,null,null,null,null,null,null,{"$f":"IF(#REF!=1,IFERROR(VLOOKUP(#REF!,[1]Sheet1!$A:$N,U$2,FALSE),\"\"),\"\")","v":{"$error":"#REF!"}},null,null,null,null,null,null,null,null,null,null,null,null,"Bærum Roklubb","Nei",null,"03.06.2001","Ja","K030601CAI03","7289717","17.04.2018","Bærum Roklubb","Bente Dingen","45411863","bente.dingen@lundin-norway.no","21.08.2018"]
["",1,null,null,null,null,null,null,null,null,null,null,null,0.20541804290651167,null,null,null,null,null,null,{"$f":"IF(#REF!=1,IFERROR(VLOOKUP(#REF!,[1]Sheet1!$A:$N,U$2,FALSE),\"\"),\"\")","v":{"$error":"#REF!"}},null,null,null,null,null,null,null,null,null,null,null,null,"Bærum Roklubb","Nei",null,"26.09.2000","Ja","K260900STI02","6778019","13.04.2018","Bærum Roklubb","Bente Dingen","45411863","bente.dingen@lundin-norway.no","21.08.2018"]
["",1,null,null,null,null,null,null,null,null,null,null,null,0.1594095887914273,null,null,null,null,null,null,{"$f":"IF(#REF!=1,IFERROR(VLOOKUP(#REF!,[1]Sheet1!$A:$N,U$2,FALSE),\"\"),\"\")","v":{"$error":"#REF!"}},null,null,null,null,null,null,null,null,null,null,null,null,"Christiania Roklub","Nei",null,"25.09.2002","Nei","K250902NIC02","8247202","14.05.2018","Christiania Roklub","Grete Isachsen Stokke","91338845","greteistokke@hotmail.com;grisach@gmail.com","22.08.2018"]
["",1,null,null,null,null,null,null,null,null,null,null,null,0.60656296495294493,null,null,null,null,null,null,{"$f":"IF(#REF!=1,IFERROR(VLOOKUP(#REF!,[1]Sheet1!$A:$N,U$2,FALSE),\"\"),\"\")","v":{"$error":"#REF!"}},null,null,null,null,null,null,null,null,null,null,null,null,"Christiania Roklub","Nei",null,"20.05.2000","Ja","K200500MAR04","4488301","31.07.2018","Christiania Roklub","Grete Isachsen Stokke","91338845","greteistokke@hotmail.com;grisach@gmail.com","22.08.2018"]
["",1,null,null,null,null,null,null,null,null,null,null,null,0.73721582736496571,null,null,null,null,null,null,{"$f":"IF(#REF!=1,IFERROR(VLOOKUP(#REF!,[1]Sheet1!$A:$N,U$2,FALSE),\"\"),\"\")","v":{"$error":"#REF!"}},null,null,null,null,null,null,null,null,null,null,null,null,"Drammen Roklubb ","Nei",null,"27.02.2001","Ja","K270201ELI03","7334407","10.04.2018","Drammen Roklubb ",null,"90660478","beatepharo@gmail.com","21.08.2018"]
["",1,null,null,null,null,null,null,null,null,null,null,null,0.27155849210663618,null,null,null,null,null,null,{"$f":"IF(#REF!=1,IFERROR(VLOOKUP(#REF!,[1]Sheet1!$A:$N,U$2,FALSE),\"\"),\"\")","v":{"$error":"#REF!"}},null,null,null,null,null,null,null,null,null,null,null,null,"Drammen Roklubb ","Nei",null,"14.04.2001","Ja","K140401KAR10","7214275",null,"Drammen Roklubb ",null,"90660478","beatepharo@gmail.com","21.08.2018"]
["",1,null,null,null,null,null,null,null,null,null,null,null,0.95739400722987411,null,null,null,null,null,null,{"$f":"IF(#REF!=1,IFERROR(VLOOKUP(#REF!,[1]Sheet1!$A:$N,U$2,FALSE),\"\"),\"\")","v":{"$error":"#REF!"}},null,null,null,null,null,null,null,null,null,null,null,null,"Horten Roklubb","Nei",null,"25.12.2000","Ja","K251200MIA01","4997049","12.04.2018","Horten Roklubb","Bjørn-Inge Pettersen","93280397","pettersen.bjorn.inge@gmail.com","22.08.2018"]
["",1,null,null,null,null,null,null,null,null,null,null,null,0.21834333152410834,null,null,null,null,null,null,{"$f":"IF(#REF!=1,IFERROR(VLOOKUP(#REF!,[1]Sheet1!$A:$N,U$2,FALSE),\"\"),\"\")","v":{"$error":"#REF!"}},null,null,null,null,null,null,null,null,null,null,null,null,"Moss Roklubb","Nei",null,"13.02.2000","Ja","K130200LIS02","6059397",null,"Ukjent/ikke registrert klubb","Jon Rekstad","92252667","rekstad0@gmail.com","22.08.2018"]
["",1,null,null,null,null,null,null,null,null,null,null,null,0.7746635962929812,null,null,null,null,null,null,{"$f":"IF(#REF!=1,IFERROR(VLOOKUP(#REF!,[1]Sheet1!$A:$N,U$2,FALSE),\"\"),\"\")","v":{"$error":"#REF!"}},null,null,null,null,null,null,null,null,null,null,null,null,"Ormsund Roklub","Nei",null,"19.07.2001","Ja","K190701HAN12","7882501","06.04.2018","Ormsund Roklub","Eva Hansen","90799966","eva.hansen@wenaasnordic.com","22.08.2018"]
["",1,null,null,null,null,null,null,null,null,null,null,null,0.49046459740067283,null,null,null,null,null,null,{"$f":"IF(#REF!=1,IFERROR(VLOOKUP(#REF!,[1]Sheet1!$A:$N,U$2,FALSE),\"\"),\"\")","v":{"$error":"#REF!"}},null,null,null,null,null,null,null,null,null,null,null,null,"Tønsberg Roklub","Nei",null,"24.07.2002","Nei","K240702IDA05","7173655","13.04.2018","Tønsberg Roklub",null,"92061715","svendandersen@me.com","21.08.2018"]
["",1,null,null,null,null,null,null,null,null,null,null,null,0.81858324957898998,null,null,null,null,null,null,{"$f":"IF(#REF!=1,IFERROR(VLOOKUP(#REF!,[1]Sheet1!$A:$N,U$2,FALSE),\"\"),\"\")","v":{"$error":"#REF!"}},null,null,null,null,null,null,null,null,null,null,null,null,"Tønsberg Roklub","Nei",null,"30.11.2000","Ja","K301100LEN03","6134299","13.04.2018","Tønsberg Roklub",null,"92061715","svendandersen@me.com","21.08.2018"]
["",1,null,null,null,null,null,null,null,null,null,null,null,0.46243034737177091,null,null,null,null,null,null,{"$f":"IF(#REF!=1,IFERROR(VLOOKUP(#REF!,[1]Sheet1!$A:$N,U$2,FALSE),\"\"),\"\")","v":{"$error":"#REF!"}},null,null,null,null,null,null,null,null,null,null,null,null,"Tønsberg Roklub","Nei",null,"09.05.2002","Nei","K090502MAR15","8036277","13.04.2018","Tønsberg Roklub",null,"92061715","svendandersen@me.com","21.08.2018"]
["",1,null,null,null,null,null,null,null,null,null,null,null,0.46961883180379138,null,null,null,null,null,null,{"$f":"IF(#REF!=1,IFERROR(VLOOKUP(#REF!,[1]Sheet1!$A:$N,U$2,FALSE),\"\"),\"\")","v":{"$error":"#REF!"}},null,null,null,null,null,null,null,null,null,null,null,null,"Aalesunds Roklub","Nei",null,"01.08.2001","Ja","K010801HED01","5213239","30.05.2018","Aalesunds Roklub","Johan Myklebust","90894714","johan.myklebust@nordea.no","21.08.2018"]
[null,null,null,null,null,null,null,null,null,null,null,null,null,0.26513825113438483,null,null,null,null,null,null,{"$f":"IF(#REF!=1,IFERROR(VLOOKUP(#REF!,[1]Sheet1!$A:$N,U$2,FALSE),\"\"),\"\")","v":{"$error":"#REF!"}}]
[{"$f":"D695&R695","v":""},1,null,null,null,null,null,null,null,null,null,null,null,0.75088053053376413,null,null,null,null,null,null,{"$f":"IF(#REF!=1,IFERROR(VLOOKUP(#REF!,[1]Sheet1!$A:$N,U$2,FALSE),\"\"),\"\")","v":{"$error":"#REF!"}}]
[{"$f":"D696&R696","v":""},{"$f":"OFFSET(B696,-1,0)","v":1},null,null,null,null,null,null,null,null,null,null,null,0.31328643692305491,null,null,null,null,null,null,{"$f":"IF(#REF!=1,IFERROR(VLOOKUP(#REF!,[1]Sheet1!$A:$N,U$2,FALSE),\"\"),\"\")","v":{"$error":"#REF!"}},null,null,null,null,null,null,null,null,null,null,null,null,"Christiania Roklub",null,null,"01.01.2003\n31.03.2003\n05.09.2003\n14.12.2004","Ja\nJa\nJa\nNei","K010103VÅR01\nK310303MAR02\nK050903MAT04\nK141204AME04","7755151\n7896615\n7741867\n8314782","06.03.2018\n06.03.2018\n\n22.08.2018","Christiania Roklub\nChristiania Roklub\nChristiania Roklub\nChristiania Roklub","Grete Isachsen Stokke\n","91338845\n","greteistokke@hotmail.com;grisach@gmail.com\n","22.08.2018\n22.08.2018\n22.08.2018\n22.08.2018"]
[{"$f":"D697&R697","v":""},{"$f":"OFFSET(B697,-1,0)","v":1},null,null,null,null,null,null,null,null,null,null,null,0.39564024827969446,null,null,null,null,null,null,{"$f":"IF(#REF!=1,IFERROR(VLOOKUP(#REF!,[1]Sheet1!$A:$N,U$2,FALSE),\"\"),\"\")","v":{"$error":"#REF!"}},null,null,null,null,null,null,null,null,null,null,null,null,"Aalesunds Roklub",null,null,"28.10.2003\n30.09.2004\n05.02.2002\n27.08.2004","Ja\nNei\nJa\nNei","K281003HEL05\nK300904MAR06\nK050202OLI01\nK270804ERI01","6860116\n7258646\n5934237\n5395032","30.05.2018\n30.05.2018\n30.05.2018\n30.05.2018","Aalesunds Roklub\nAalesunds Roklub\nAalesunds Roklub\nAalesunds Roklub","Johan Gerhard Myklebust\n","90894714\n","johan.myklebust@nordea.no\n","21.08.2018\n21.08.2018\n21.08.2018\n21.08.2018"]
[{"$f":"D698&R698","v":""},{"$f":"OFFSET(B698,-1,0)","v":1},null,null,null,null,null,null,null,null,null,null,null,0.41268843357686447,null,null,null,null,null,null,{"$f":"IF(#REF!=1,IFERROR(VLOOKUP(#REF!,[1]Sheet1!$A:$N,U$2,FALSE),\"\"),\"\")","v":{"$error":"#REF!"}},null,null,null,null,null,null,null,null,null,null,null,null,"Norske Studenters Roklub",null,null,"11.04.2003\n26.04.2003\n28.08.2003\n17.01.2003","Ja\nJa\nJa\nJa","K110403FAB02\nK260403SAR01\nK280803NOR01\nK170103ELL06","6318695\n7679466\n7850270\n8208728","29.03.2018\n07.06.2018\n07.06.2018\n07.06.2018","Norske Studenters Roklub\nNorske Studenters Roklub\nNorske Studenters Roklub\nNorske Studenters Roklub","Erik Juel\n","48039369\n","eri-juel@online.no\n","22.08.2018\n22.08.2018\n22.08.2018\n22.08.2018"]
[{"$f":"D699&R699","v":""},{"$f":"OFFSET(B699,-1,0)","v":1},null,null,null,null,null,null,null,null,null,null,null,0.52669298359593353,null,null,null,null,null,null,{"$f":"IF(#REF!=1,IFERROR(VLOOKUP(#REF!,[1]Sheet1!$A:$N,U$2,FALSE),\"\"),\"\")","v":{"$error":"#REF!"}},null,null,null,null,null,null,null,null,null,null,null,null,"Aalesunds Roklub",null,null,"01.11.2002\n31.01.2004\n22.04.2004\n16.02.2004","Ja\nNei\nNei\nNei","K011102KAR02\nK310104SEL01\nK220404MIA01\nK160204LIV01","7811195\n6871648\n7091604\n7633009","13.04.2018\n30.05.2018\n30.05.2018\n30.05.2018","Aalesunds Roklub\nAalesunds Roklub\nAalesunds Roklub\nAalesunds Roklub","Johan Gerhard Myklebust\n","90894714\n","johan.myklebust@nordea.no\n","21.08.2018\n21.08.2018\n21.08.2018\n21.08.2018"]
[{"$f":"D700&R700","v":""},{"$f":"OFFSET(B700,-1,0)","v":1},null,null,null,null,null,null,null,null,null,null,null,0.83328049417096717,null,null,null,null,null,null,{"$f":"IF(#REF!=1,IFERROR(VLOOKUP(#REF!,[1]Sheet1!$A:$N,U$2,FALSE),\"\"),\"\")","v":{"$error":"#REF!"}},null,null,null,null,null,null,null,null,null,null,null,null,"Norske Studenters Roklub",null,null,"25.07.2003\n18.05.2003\n23.08.2002\n08.04.2003","Ja\nJa\nJa\nJa","K250703MAR04\nK180503ELL02\nK230802SAR02\nK080403LIS01","5247452\n5567226\n7321246\n5391349","29.03.2018\n29.03.2018\n29.03.2018\n29.03.2018","Norske Studenters Roklub\nNorske Studenters Roklub\nNorske Studenters Roklub\nNorske Studenters Roklub","Erik Juel\n","48039369\n","eri-juel@online.no\n","22.08.2018\n22.08.2018\n22.08.2018\n22.08.2018"]
[null,null,null,null,null,null,null,null,null,null,null,null,null,0.55835654053898542,null,null,null,null,null,null,{"$f":"IF(#REF!=1,IFERROR(VLOOKUP(#REF!,[1]Sheet1!$A:$N,U$2,FALSE),\"\"),\"\")","v":{"$error":"#REF!"}}]
[{"$f":"D702&R703","v":""},1,null,null,null,null,null,null,null,null,null,null,null,0.30650676428865209,null,null,null,null,null,null,{"$f":"IF(#REF!=1,IFERROR(VLOOKUP(#REF!,[1]Sheet1!$A:$N,U$2,FALSE),\"\"),\"\")","v":{"$error":"#REF!"}}]
[{"$f":"D703&R704","v":""},{"$f":"OFFSET(B703,-1,0)","v":1},null,null,null,null,null,null,null,null,null,null,null,0.14411603984028631,null,null,null,null,null,null,{"$f":"IF(#REF!=1,IFERROR(VLOOKUP(#REF!,[1]Sheet1!$A:$N,U$2,FALSE),\"\"),\"\")","v":{"$error":"#REF!"}},null,null,null,null,null,null,null,null,null,null,null,null,"Christiania Roklub",null,null,"19.10.1963\n29.07.1968","Ja\nJa","M191063KNU02\nM290768LAR05","8189836\n6755536","\n21.03.2018","Christiania Roklub\nChristiania Roklub","Grete Isachsen Stokke\n","91338845\n","greteistokke@hotmail.com;grisach@gmail.com\n","22.08.2018\n22.08.2018"]
[{"$f":"D704&R705","v":""},{"$f":"OFFSET(B704,-1,0)","v":1},null,null,null,null,null,null,null,null,null,null,null,0.17639731801059089,null,null,null,null,null,null,{"$f":"IF(#REF!=1,IFERROR(VLOOKUP(#REF!,[1]Sheet1!$A:$N,U$2,FALSE),\"\"),\"\")","v":{"$error":"#REF!"}},null,null,null,null,null,null,null,null,null,null,null,null,"Norske Studenters Roklub",null,null,"04.10.1965\n03.06.1964","Ja\nJa","M041065HAL03\nM030664JEN03","6340602\n8198377","07.06.2018\n","Norske Studenters Roklub,Oslo Roklubb\nNorske Studenters Roklub,Oslo Roklubb","Erik Juel\n","48039369\n","eri-juel@online.no\n","22.08.2018\n22.08.2018"]
[{"$f":"D705&R706","v":""},{"$f":"OFFSET(B705,-1,0)","v":1},null,null,null,null,null,null,null,null,null,null,null,0.9931512266687702,null,null,null,null,null,null,{"$f":"IF(#REF!=1,IFERROR(VLOOKUP(#REF!,[1]Sheet1!$A:$N,U$2,FALSE),\"\"),\"\")","v":{"$error":"#REF!"}},null,null,null,null,null,null,null,null,null,null,null,null,"Christiania Roklub",null,null,"18.02.1974\n24.08.1970","Ja\nJa","M180274HEN02\nM240870KJE01","411966\n573717","22.08.2018\n22.08.2018","Christiania Roklub\nBærum Roklubb,Christiania Roklub,Stavanger Roklub","Grete Isachsen Stokke\n","91338845\n","greteistokke@hotmail.com;grisach@gmail.com\n","22.08.2018\n22.08.2018"]
[{"$f":"D706&R707","v":""},{"$f":"OFFSET(B706,-1,0)","v":1},null,null,null,null,null,null,null,null,null,null,null,0.61722498622919542,null,null,null,null,null,null,{"$f":"IF(#REF!=1,IFERROR(VLOOKUP(#REF!,[1]Sheet1!$A:$N,U$2,FALSE),\"\"),\"\")","v":{"$error":"#REF!"}},null,null,null,null,null,null,null,null,null,null,null,null,"Bærum Roklubb",null,null,"01.03.1966\n14.04.1966","Ja\nJa","M010366JAN02\nM140466PET01","6761517\n8125484","\n","Bærum Roklubb\nBærum Roklubb","Bente Dingen\n","45411863\n","bente.dingen@lundin-norway.no\n","22.08.2018\n22.08.2018"]
[{"$f":"D707&#REF!","v":{"$error":"#REF!"}},{"$f":"OFFSET(B707,-1,0)","v":1},null,null,null,null,null,null,null,null,null,null,null,0.41166846934183632,null,null,null,null,null,null,{"$f":"IF(#REF!=1,IFERROR(VLOOKUP(#REF!,[1]Sheet1!$A:$N,U$2,FALSE),\"\"),\"\")","v":{"$error":"#REF!"}},null,null,null,null,null,null,null,null,null,null,null,null,"Norske Studenters Roklub",null,null,"02.11.1983\n02.08.1965","Ja\nJa","M021183EDU03\nM020865PHI01","8238773\n7500481","\n17.08.2018","Norske Studenters Roklub\nNorske Studenters Roklub","Erik Juel\n","48039369\n","eri-juel@online.no\n","22.08.2018\n22.08.2018"]
[null,null,null,null,null,null,null,null,null,null,null,null,null,0.79981531308519849,null,null,null,null,null,null,{"$f":"IF(#REF!=1,IFERROR(VLOOKUP(#REF!,[1]Sheet1!$A:$N,U$2,FALSE),\"\"),\"\")","v":{"$error":"#REF!"}}]
[{"$f":"D709&R709","v":""},1,null,null,null,null,null,null,null,null,null,null,null,0.29307620658871081,null,null,null,null,null,null,{"$f":"IF(#REF!=1,IFERROR(VLOOKUP(#REF!,[1]Sheet1!$A:$N,U$2,FALSE),\"\"),\"\")","v":{"$error":"#REF!"}}]
[103,{"$f":"OFFSET(B710,-1,0)","v":1},null,null,null,null,null,null,null,null,null,null,null,0.23231961658323352,null,null,null,null,null,null,{"$f":"IF(#REF!=1,IFERROR(VLOOKUP(#REF!,[1]Sheet1!$A:$N,U$2,FALSE),\"\"),\"\")","v":{"$error":"#REF!"}},null,null,null,null,null,null,null,null,null,null,null,null,"Aalesunds Roklub","Nei",null,null,null,null,null,null,"Aalesunds Roklub","Johan Myklebust","90894714","johan.myklebust@nordea.no","21.08.2018"]
[{"$f":"D711&R710","v":""},{"$f":"OFFSET(B711,-1,0)","v":1},null,null,null,null,null,null,null,null,null,null,null,0.19811306706073206,null,null,null,null,null,null,{"$f":"IF(#REF!=1,IFERROR(VLOOKUP(#REF!,[1]Sheet1!$A:$N,U$2,FALSE),\"\"),\"\")","v":{"$error":"#REF!"}},null,null,null,null,null,null,null,null,null,null,null,null,"Moss Roklubb",null,null,"29.07.1976\n13.02.2000","Ja\nNei","K290776MAR05\nK130200LIS02","7170315\n6059397","\n","Norske Studenters Roklub,Oslo Roklubb\nÅrungen Ro- og Kajakklubb","Jon Børre Rekstad\n","92252667\n","rekstad0@gmail.com\n","22.08.2018\n22.08.2018"]
[103,{"$f":"OFFSET(B712,-1,0)","v":1},null,null,null,null,null,null,null,null,null,null,null,0.64841771641484081,null,null,null,null,null,null,{"$f":"IF(#REF!=1,IFERROR(VLOOKUP(#REF!,[1]Sheet1!$A:$N,U$2,FALSE),\"\"),\"\")","v":{"$error":"#REF!"}},null,null,null,null,null,null,null,null,null,null,null,null,"Aalesunds Roklub","Nei",null,null,null,null,null,null,"Aalesunds Roklub","Johan Myklebust","90894714","johan.myklebust@nordea.no","21.08.2018"]
[null,null,null,null,null,null,null,null,null,null,null,null,null,1.991049460244898E-2,null,null,null,null,null,null,{"$f":"IF(#REF!=1,IFERROR(VLOOKUP(#REF!,[1]Sheet1!$A:$N,U$2,FALSE),\"\"),\"\")","v":{"$error":"#REF!"}}]
[{"$f":"D714&R714","v":""},0,null,null,null,null,null,null,null,null,null,null,null,0.98176872792216729,null,null,null,null,null,null,{"$f":"IF(#REF!=1,IFERROR(VLOOKUP(#REF!,[1]Sheet1!$A:$N,U$2,FALSE),\"\"),\"\")","v":{"$error":"#REF!"}}]
["",{"$f":"OFFSET(B715,-1,0)","v":0},null,null,null,null,null,null,null,null,null,null,null,0.33561408658494751,null,null,null,null,null,null,{"$f":"IF(#REF!=1,IFERROR(VLOOKUP(#REF!,[1]Sheet1!$A:$N,U$2,FALSE),\"\"),\"\")","v":{"$error":"#REF!"}},null,null,null,null,null,null,null,null,null,null,null,null,"Bærum Roklubb",null,null,"11.08.1999\n11.04.1979","Ja\nJa","K110899SYN04\nK110479HIL01","8066138\n6051441","\n","Bærum Roklubb\nBærum Roklubb","Bente Dingen\n","45411863\n","bente.dingen@lundin-norway.no\n","21.08.2018\n21.08.2018"]
["",1,null,null,null,null,null,null,null,null,null,null,null,0.34065516117327865,null,null,null,null,null,null,{"$f":"IF(#REF!=1,IFERROR(VLOOKUP(#REF!,[1]Sheet1!$A:$N,U$2,FALSE),\"\"),\"\")","v":{"$error":"#REF!"}}]
["",{"$f":"OFFSET(B717,-1,0)","v":1},null,null,null,null,null,null,null,null,null,null,null,0.87995027809039306,null,null,null,null,null,null,{"$f":"IF(#REF!=1,IFERROR(VLOOKUP(#REF!,[1]Sheet1!$A:$N,U$2,FALSE),\"\"),\"\")","v":{"$error":"#REF!"}},null,null,null,null,null,null,null,null,null,null,null,null,"Bærum Roklubb",null,null,"09.02.1994\n31.08.1999","Ja\nJa","M090294HAL02\nM310899HER01","5993966\n7481735","13.04.2018\n","Bærum Roklubb,Christiania Roklub\nBærum Roklubb","Bente Dingen\n","45411863\n","bente.dingen@lundin-norway.no\n","21.08.2018\n21.08.2018"]
["",{"$f":"OFFSET(B718,-1,0)","v":1},null,null,null,null,null,null,null,null,null,null,null,6.3605832641989712E-2,null,null,null,null,null,null,{"$f":"IF(#REF!=1,IFERROR(VLOOKUP(#REF!,[1]Sheet1!$A:$N,U$2,FALSE),\"\"),\"\")","v":{"$error":"#REF!"}},null,null,null,null,null,null,null,null,null,null,null,null,"Moss Roklubb",null,null,"06.12.1999\n07.07.1998","Ja\nJa","M061299ALF01\nM070798VEG01","2747765\n2696077","22.03.2018\n","Moss Roklubb\nMoss Roklubb","Jon Børre Rekstad\n","92252667\n","rekstad0@gmail.com\n","22.08.2018\n22.08.2018"]
["",1,null,null,null,null,null,null,null,null,null,null,null,0.9839905828091885,null,null,null,null,null,null,{"$f":"IF(#REF!=1,IFERROR(VLOOKUP(#REF!,[1]Sheet1!$A:$N,U$2,FALSE),\"\"),\"\")","v":{"$error":"#REF!"}}]
["",{"$f":"OFFSET(B720,-1,0)","v":1},null,null,null,null,null,null,null,null,null,null,null,0.69231171729584062,null,null,null,null,null,null,{"$f":"IF(#REF!=1,IFERROR(VLOOKUP(#REF!,[1]Sheet1!$A:$N,U$2,FALSE),\"\"),\"\")","v":{"$error":"#REF!"}},null,null,null,null,null,null,null,null,null,null,null,null,"Bærum Roklubb",null,null,"03.06.2001\n19.07.2001\n23.08.2002\n07.09.2001","Nei\nNei\nNei\nNei","K030601CAI03\nK190701HAN12\nK230802SAR02\nK070901KAM03","7289717\n7882501\n7321246\n7348773","17.04.2018\n06.04.2018\n29.03.2018\n29.03.2018","Bærum Roklubb\nOrmsund Roklub\nNorske Studenters Roklub\nNorske Studenters Roklub","Bente Dingen\n","45411863\n","bente.dingen@lundin-norway.no\n","22.08.2018\n22.08.2018\n22.08.2018\n22.08.2018"]
["",{"$f":"OFFSET(B721,-1,0)","v":1},null,null,null,null,null,null,null,null,null,null,null,0.83992178007428686,null,null,null,null,null,null,{"$f":"IF(#REF!=1,IFERROR(VLOOKUP(#REF!,[1]Sheet1!$A:$N,U$2,FALSE),\"\"),\"\")","v":{"$error":"#REF!"}},null,null,null,null,null,null,null,null,null,null,null,null,"Christiania Roklub",null,null,"20.05.2000\n20.08.2001\n29.01.1989\n07.05.1991","Nei\nNei\nJa\nJa","K200500MAR04\nK200801ANN08\nK290189VIK03\nK070591HEL01","4488301\n8030448\n7787823\n8124580","31.07.2018\n14.05.2018\n30.05.2018\n03.04.2018","Christiania Roklub\nChristiania Roklub\nChristiania Roklub\nChristiania Roklub","Grete Isachsen Stokke\n","91338845\n","greteistokke@hotmail.com;grisach@gmail.com\n","22.08.2018\n22.08.2018\n22.08.2018\n22.08.2018"]
["",{"$f":"OFFSET(B722,-1,0)","v":1},null,null,null,null,null,null,null,null,null,null,null,0.35910183891632397,null,null,null,null,null,null,{"$f":"IF(#REF!=1,IFERROR(VLOOKUP(#REF!,[1]Sheet1!$A:$N,U$2,FALSE),\"\"),\"\")","v":{"$error":"#REF!"}},null,null,null,null,null,null,null,null,null,null,null,null,"OSI",null,null,null,null,null,null,null,null,"Halvor West \nNestleder i OSI: Roing \n95421616"]
["",1,null,null,null,null,null,null,null,null,null,null,null,0.51731398196168588,null,null,null,null,null,null,{"$f":"IF(#REF!=1,IFERROR(VLOOKUP(#REF!,[1]Sheet1!$A:$N,U$2,FALSE),\"\"),\"\")","v":{"$error":"#REF!"}}]
["",{"$f":"OFFSET(B724,-1,0)","v":1},null,null,null,null,null,null,null,null,null,null,null,0.35307214585047009,null,null,null,null,null,null,{"$f":"IF(#REF!=1,IFERROR(VLOOKUP(#REF!,[1]Sheet1!$A:$N,U$2,FALSE),\"\"),\"\")","v":{"$error":"#REF!"}},null,null,null,null,null,null,null,null,null,null,null,null,"Bærum Roklubb",null,null,"26.09.2000\n03.06.2001","Ja\nJa","K260900STI02\nK030601CAI03","6778019\n7289717","13.04.2018\n17.04.2018","Bærum Roklubb\nBærum Roklubb","Bente Dingen\n","45411863\n","bente.dingen@lundin-norway.no\n","22.08.2018\n22.08.2018"]
["",1,null,null,null,null,null,null,null,null,null,null,null,0.64260337847594928,null,null,null,null,null,null,{"$f":"IF(#REF!=1,IFERROR(VLOOKUP(#REF!,[1]Sheet1!$A:$N,U$2,FALSE),\"\"),\"\")","v":{"$error":"#REF!"}}]
["",{"$f":"OFFSET(B726,-1,0)","v":1},null,null,null,null,null,null,null,null,null,null,null,2.4921271805600442E-2,null,null,null,null,null,null,{"$f":"IF(#REF!=1,IFERROR(VLOOKUP(#REF!,[1]Sheet1!$A:$N,U$2,FALSE),\"\"),\"\")","v":{"$error":"#REF!"}},null,null,null,null,null,null,null,null,null,null,null,null,"Bærum Roklubb",null,null,"02.06.2000\n12.09.2000\n26.09.2000\n17.06.2000","Ja\nJa\nJa\nJa","M020600LAR02\nM120900BRA03\nM260900SIN02\nM170600PET01","4487587\n4908711\n6073987\n8020362","13.04.2018\n17.04.2018\n17.04.2018\n17.04.2018","Bærum Roklubb\nBærum Roklubb\nBærum Roklubb\nBærum Roklubb","Bente Dingen\n","45411863\n","bente.dingen@lundin-norway.no\n","21.08.2018\n21.08.2018\n21.08.2018\n21.08.2018"]
["",{"$f":"OFFSET(B727,-1,0)","v":1},null,null,null,null,null,null,null,null,null,null,null,0.40797594286006567,null,null,null,null,null,null,{"$f":"IF(#REF!=1,IFERROR(VLOOKUP(#REF!,[1]Sheet1!$A:$N,U$2,FALSE),\"\"),\"\")","v":{"$error":"#REF!"}},null,null,null,null,null,null,null,null,null,null,null,null,"Bærum Roklubb",null,null,"20.06.2000\n02.04.2000\n26.07.2001\n04.12.2000","Ja\nJa\nJa\nJa","M070600ØYS01\nM020400SAM01\nM260701FRE03\nM041200OSK04","5372192\n8136692\n7811197\n7369821","13.04.2018\n29.03.2018\n13.04.2018\n06.04.2018","Bærum Roklubb\nNorske Studenters Roklub\nAalesunds Roklub\nOrmsund Roklub","Bente Dingen\n","45411863\n","bente.dingen@lundin-norway.no\n","22.08.2018\n22.08.2018\n22.08.2018\n22.08.2018"]
["",{"$f":"OFFSET(B728,-1,0)","v":1},null,null,null,null,null,null,null,null,null,null,null,0.45942045196190995,null,null,null,null,null,null,{"$f":"IF(#REF!=1,IFERROR(VLOOKUP(#REF!,[1]Sheet1!$A:$N,U$2,FALSE),\"\"),\"\")","v":{"$error":"#REF!"}},null,null,null,null,null,null,null,null,null,null,null,null,"Drammen Roklubb ",null,null,"13.02.2001\n09.05.2004\n07.02.2003\n30.08.2003","Ja\nNei\nNei\nNei","M130201ELI01\nM090504ULR01\nM070203HAM03\nM300803JON01","6756069\n5057646\n6756072\n4879656","12.03.2018\n12.03.2018\n12.03.2018\n12.03.2018","Drammen Roklubb \nDrammen Roklubb \nDrammen Roklubb \nDrammen Roklubb ","Beate Pharo\n","90660478\n","beatepharo@gmail.com\n","21.08.2018\n21.08.2018\n21.08.2018\n21.08.2018"]
["",{"$f":"OFFSET(B729,-1,0)","v":1},null,null,null,null,null,null,null,null,null,null,null,0.3370536104568983,null,null,null,null,null,null,{"$f":"IF(#REF!=1,IFERROR(VLOOKUP(#REF!,[1]Sheet1!$A:$N,U$2,FALSE),\"\"),\"\")","v":{"$error":"#REF!"}},null,null,null,null,null,null,null,null,null,null,null,null,"Norske Studenters Roklub",null,null,"06.08.2001\n22.04.2003\n17.01.2002\n26.06.2001","Ja\nNei\nNei\nJa","M060801NIC02\nM220403TRY05\nM170102BRO01\nM260101VIT01","4916382\n8235153\n5003101\n5062270","29.03.2018\n29.03.2018\n\n29.03.2018","Norske Studenters Roklub\nNorske Studenters Roklub\nNorske Studenters Roklub\nNorske Studenters Roklub","Erik Juel\n","48039369\n","eri-juel@online.no\n","22.08.2018\n22.08.2018\n22.08.2018\n22.08.2018"]
["",{"$f":"OFFSET(B730,-1,0)","v":1},null,null,null,null,null,null,null,null,null,null,null,0.12626927559016476,null,null,null,null,null,null,{"$f":"IF(#REF!=1,IFERROR(VLOOKUP(#REF!,[1]Sheet1!$A:$N,U$2,FALSE),\"\"),\"\")","v":{"$error":"#REF!"}},null,null,null,null,null,null,null,null,null,null,null,null,"Sarpsborg Roklubb - Roing",null,null,"08.04.2001\n24.02.2002\n22.12.2002\n28.12.2000","Ja\nNei\nNei\nJa","M080401JAC01\nM240202OLI01\nM221202HÅK01\nM281200DID01","5584584\n7448632\n6848301\n5330116","22.03.2018\n\n22.03.2018\n22.03.2018","Sarpsborg Roklubb - Roing\nSarpsborg Roklubb - Roing\nSarpsborg Roklubb - Roing\nSarpsborg Roklubb - Roing","Thomas Gundersen\n","91874904\n","Thomas.gundersen@afgruppen.no;thomas.gundersen@afgruppen.no\n","22.08.2018\n22.08.2018\n22.08.2018\n22.08.2018"]
[null,null,null,null,null,null,null,null,null,null,null,null,null,0.93543399850712716,null,null,null,null,null,null,{"$f":"IF(#REF!=1,IFERROR(VLOOKUP(#REF!,[1]Sheet1!$A:$N,U$2,FALSE),\"\"),\"\")","v":{"$error":"#REF!"}}]
[{"$f":"D732&R732","v":""},0,null,null,null,null,null,null,null,null,null,null,null,0.86413856032429204,null,null,null,null,null,null,{"$f":"IF(#REF!=1,IFERROR(VLOOKUP(#REF!,[1]Sheet1!$A:$N,U$2,FALSE),\"\"),\"\")","v":{"$error":"#REF!"}}]
[{"$f":"D733&R733","v":""},{"$f":"OFFSET(B733,-1,0)","v":0},null,null,null,null,null,null,null,null,null,null,null,0.32055745682842818,null,null,null,null,null,null,{"$f":"IF(#REF!=1,IFERROR(VLOOKUP(#REF!,[1]Sheet1!$A:$N,U$2,FALSE),\"\"),\"\")","v":{"$error":"#REF!"}},null,null,null,null,null,null,null,null,null,null,null,null,"Christiania Roklub",null,null,"14.01.2004\n08.01.2004\n29.01.2004\n22.12.2002","Nei\nNei\nNei\nJa","M140104JAC01\nM080104JOS02\nM290104LOR01\nM221202ELI02","7522750\n6201834\n8138326\n4671202","\n06.03.2018\n06.03.2018\n","Christiania Roklub\nChristiania Roklub\nChristiania Roklub\nUkjent/ikke registrert klubb","Grete Isachsen Stokke\n","91338845\n","greteistokke@hotmail.com;grisach@gmail.com\n","22.08.2018\n22.08.2018\n22.08.2018\n22.08.2018"]
[{"$f":"D734&R734","v":""},1,null,null,null,null,null,null,null,null,null,null,null,0.33854515790622464,null,null,null,null,null,null,{"$f":"IF(#REF!=1,IFERROR(VLOOKUP(#REF!,[1]Sheet1!$A:$N,U$2,FALSE),\"\"),\"\")","v":{"$error":"#REF!"}}]
[{"$f":"D735&R735","v":""},{"$f":"OFFSET(B735,-1,0)","v":1},null,null,null,null,null,null,null,null,null,null,null,8.2174346100539752E-3,null,null,null,null,null,null,{"$f":"IF(#REF!=1,IFERROR(VLOOKUP(#REF!,[1]Sheet1!$A:$N,U$2,FALSE),\"\"),\"\")","v":{"$error":"#REF!"}},null,null,null,null,null,null,null,null,null,null,null,null,"Bærum Roklubb",null,null,"22.05.2002\n17.10.2002","Ja\nJa","M220502IDA01\nK171002TUV03","6806491\n6101180","\n","Bærum Roklubb\nBærum Roklubb","Bente Dingen\n","45411863\n","bente.dingen@lundin-norway.no\n","22.08.2018\n22.08.2018"]
["",1,null,null,null,null,null,null,null,null,null,null,null,0.96355372301480657,null,null,null,null,null,null,{"$f":"IF(#REF!=1,IFERROR(VLOOKUP(#REF!,[1]Sheet1!$A:$N,U$2,FALSE),\"\"),\"\")","v":{"$error":"#REF!"}},null,null,null,null,null,null,null,null,null,null,null,null,"Christiania Roklub",null,null,"01.01.2003\n31.03.2003","Ja\nJa","K010103VÅR01\nK310303MAR02","7755151\n7896615","06.03.2018\n06.03.2018","Christiania Roklub\nChristiania Roklub","Grete Isachsen Stokke\n","91338845\n","greteistokke@hotmail.com;grisach@gmail.com\n","22.08.2018\n22.08.2018"]
["",1,null,null,null,null,null,null,null,null,null,null,null,0.2665320395161489,null,null,null,null,null,null,{"$f":"IF(#REF!=1,IFERROR(VLOOKUP(#REF!,[1]Sheet1!$A:$N,U$2,FALSE),\"\"),\"\")","v":{"$error":"#REF!"}},null,null,null,null,null,null,null,null,null,null,null,null,"Drammen Roklubb ",null,null,"22.01.2002\n23.02.2004","Ja\nNei","K220102VIC04\nK230304TAL01","8199687\n7310638","12.03.2018\n12.03.2018","Drammen Roklubb \nDrammen Roklubb ","Beate Pharo\n","90660478\n","beatepharo@gmail.com\n","21.08.2018\n21.08.2018"]
["",1,null,null,null,null,null,null,null,null,null,null,null,0.60075949986435617,null,null,null,null,null,null,{"$f":"IF(#REF!=1,IFERROR(VLOOKUP(#REF!,[1]Sheet1!$A:$N,U$2,FALSE),\"\"),\"\")","v":{"$error":"#REF!"}},null,null,null,null,null,null,null,null,null,null,null,null,"Norske Studenters Roklub",null,null,"26.04.2003\n17.01.2003","Ja\nJa","K260403SAR01\nK170103ELL06","7679466\n8208728","07.06.2018\n07.06.2018","Norske Studenters Roklub\nNorske Studenters Roklub","Erik Juel\n","48039369\n","eri-juel@online.no\n","22.08.2018\n22.08.2018"]
["",1,null,null,null,null,null,null,null,null,null,null,null,0.34003803933217025,null,null,null,null,null,null,{"$f":"IF(#REF!=1,IFERROR(VLOOKUP(#REF!,[1]Sheet1!$A:$N,U$2,FALSE),\"\"),\"\")","v":{"$error":"#REF!"}},null,null,null,null,null,null,null,null,null,null,null,null,"Norske Studenters Roklub",null,null,"11.04.2003\n28.08.2003","Ja\nJa","K110403FAB02\nK280803NOR01","6318695\n7850270","29.03.2018\n07.06.2018","Norske Studenters Roklub\nNorske Studenters Roklub","Erik Juel\n","48039369\n","eri-juel@online.no\n","22.08.2018\n22.08.2018"]
["",1,null,null,null,null,null,null,null,null,null,null,null,0.47620225696055674,null,null,null,null,null,null,{"$f":"IF(#REF!=1,IFERROR(VLOOKUP(#REF!,[1]Sheet1!$A:$N,U$2,FALSE),\"\"),\"\")","v":{"$error":"#REF!"}},null,null,null,null,null,null,null,null,null,null,null,null,"Norske Studenters Roklub",null,null,"08.04.2003","Ja","K080403LIS01","5391349","29.03.2018","Norske Studenters Roklub","Erik Juel","48039369","eri-juel@online.no","22.08.2018"]
["",1,null,null,null,null,null,null,null,null,null,null,null,0.52480198629801122,null,null,null,null,null,null,{"$f":"IF(#REF!=1,IFERROR(VLOOKUP(#REF!,[1]Sheet1!$A:$N,U$2,FALSE),\"\"),\"\")","v":{"$error":"#REF!"}},null,null,null,null,null,null,null,null,null,null,null,null,"Norske Studenters Roklub",null,null,"18.05.2003\n25.07.2003","Ja\nJa","K180503ELL02\nK250703MAR04","5567226\n5247452","29.03.2018\n29.03.2018","Norske Studenters Roklub\nNorske Studenters Roklub","Erik Juel\n","48039369\n","eri-juel@online.no\n","22.08.2018\n22.08.2018"]
["",1,null,null,null,null,null,null,null,null,null,null,null,0.9264853471455774,null,null,null,null,null,null,{"$f":"IF(#REF!=1,IFERROR(VLOOKUP(#REF!,[1]Sheet1!$A:$N,U$2,FALSE),\"\"),\"\")","v":{"$error":"#REF!"}},null,null,null,null,null,null,null,null,null,null,null,null,"Aalesunds Roklub",null,null,"28.10.2003\n30.09.2004","Ja\nNei","K281003HEL05\nK300904MAR06","6860116\n7258646","30.05.2018\n30.05.2018","Aalesunds Roklub\nAalesunds Roklub","Johan Gerhard Myklebust\n","90894714\n","johan.myklebust@nordea.no\n","21.08.2018\n21.08.2018"]
[null,null,null,null,null,null,null,null,null,null,null,null,null,0.71284876031668298,null,null,null,null,null,null,{"$f":"IF(#REF!=1,IFERROR(VLOOKUP(#REF!,[1]Sheet1!$A:$N,U$2,FALSE),\"\"),\"\")","v":{"$error":"#REF!"}}]
[{"$f":"D744&R744","v":""},1,null,null,null,null,null,null,null,null,null,null,null,0.66748073251530016,null,null,null,null,null,null,{"$f":"IF(#REF!=1,IFERROR(VLOOKUP(#REF!,[1]Sheet1!$A:$N,U$2,FALSE),\"\"),\"\")","v":{"$error":"#REF!"}}]
["",{"$f":"OFFSET(B745,-1,0)","v":1},null,null,null,null,null,null,null,null,null,null,null,0.31958832213615007,null,null,null,null,null,null,{"$f":"IF(#REF!=1,IFERROR(VLOOKUP(#REF!,[1]Sheet1!$A:$N,U$2,FALSE),\"\"),\"\")","v":{"$error":"#REF!"}},null,null,null,null,null,null,null,null,null,null,null,null,"Drammen Roklubb ",null,null,"19.08.2004\n06.08.2004\n20.12.2005\n12.04.2004","Nei\nNei\nNei\nNei","K190804EMM03\nM060804PET02\nK201205AND01\nK120404MAR04","5532186\n7726990\n7310633\n4108903","12.03.2018\n10.04.2018\n\n08.08.2018","Drammen Roklubb \nDrammen Roklubb \nDrammen Roklubb \nTrondhjems Roklubb","Beate Pharo\n","90660478\n","beatepharo@gmail.com\n","21.08.2018\n21.08.2018\n21.08.2018\n21.08.2018"]
["",1,null,null,null,null,null,null,null,null,null,null,null,0.4471730628523255,null,null,null,null,null,null,{"$f":"IF(#REF!=1,IFERROR(VLOOKUP(#REF!,[1]Sheet1!$A:$N,U$2,FALSE),\"\"),\"\")","v":{"$error":"#REF!"}},null,null,null,null,null,null,null,null,null,null,null,null,"Aalesunds Roklub",null,null,"31.01.2004\n29.09.2006\n12.05.2004\n20.07.2005","Nei\nNei\nNei\nNei","K310104SEL01\nK290906SUS03\nM120504ERL04\nM200705AND02","6871648\n7619002\n8150106\n6228122","30.05.2018\n30.05.2018\n30.05.2018\n30.05.2018","Aalesunds Roklub\nAalesunds Roklub\nAalesunds Roklub\nAalesunds Roklub","Johan Gerhard Myklebust\n","90894714\n","johan.myklebust@nordea.no\n","21.08.2018\n21.08.2018\n21.08.2018\n21.08.2018"]
["",1,null,null,null,null,null,null,null,null,null,null,null,0.74594793805986548,null,null,null,null,null,null,{"$f":"IF(#REF!=1,IFERROR(VLOOKUP(#REF!,[1]Sheet1!$A:$N,U$2,FALSE),\"\"),\"\")","v":{"$error":"#REF!"}},null,null,null,null,null,null,null,null,null,null,null,null,"Ormsund Roklub",null,null,"07.07.2004\n17.01.2004\n05.03.2004\n22.06.2004","Nei\nNei\nNei\nNei","K070704MIL03\nK170104EMB01\nM050304MAR05\nM220604MAX04","5812808\n7697937\n8128450\n7259283","06.04.2018\n06.04.2018\n08.06.2018\n06.04.2018","Ormsund Roklub\nOrmsund Roklub\nOrmsund Roklub\nOrmsund Roklub","Eva Hansen\n","90799966\n","eva.hansen@wenaasnordic.com\n","22.08.2018\n22.08.2018\n22.08.2018\n22.08.2018"]
["",1,null,null,null,null,null,null,null,null,null,null,null,0.74618982696642089,null,null,null,null,null,null,{"$f":"IF(#REF!=1,IFERROR(VLOOKUP(#REF!,[1]Sheet1!$A:$N,U$2,FALSE),\"\"),\"\")","v":{"$error":"#REF!"}},null,null,null,null,null,null,null,null,null,null,null,null,"Christiania Roklub",null,null,"20.08.2004\n27.04.2005\n31.05.2005","Nei\nNei\nNei","M200804BRA04\nM270405KAS03\nM310505JOH03","7758069\n7758071\n8103116","06.03.2018\n06.03.2018\n30.05.2018","Christiania Roklub\nChristiania Roklub\nChristiania Roklub","Grete Isachsen Stokke\n","91338845\n","greteistokke@hotmail.com;grisach@gmail.com\n","22.08.2018\n22.08.2018\n22.08.2018"]
["",1,null,null,null,null,null,null,null,null,null,null,null,0.75407423549973318,null,null,null,null,null,null,{"$f":"IF(#REF!=1,IFERROR(VLOOKUP(#REF!,[1]Sheet1!$A:$N,U$2,FALSE),\"\"),\"\")","v":{"$error":"#REF!"}},null,null,null,null,null,null,null,null,null,null,null,null,"Bærum Roklubb",null,null,"24.10.2004\n29.06.2005\n27.12.2004\n25.02.2005","Nei\nNei\nNei\nNei","M241004NOA04\nM290605THO01\nM271204BRA01\nM250205FER01","8111044\n7328781\n5137898\n5587277","05.06.2018\n05.06.2018\n13.06.2018\n05.08.2018","Bærum Roklubb\nBærum Roklubb\nBærum Roklubb\nBærum Roklubb","Bente Dingen\n","45411863\n","bente.dingen@lundin-norway.no\n","21.08.2018\n21.08.2018\n21.08.2018\n21.08.2018"]
["",1,null,null,null,null,null,null,null,null,null,null,null,0.81578145075086395,null,null,null,null,null,null,{"$f":"IF(#REF!=1,IFERROR(VLOOKUP(#REF!,[1]Sheet1!$A:$N,U$2,FALSE),\"\"),\"\")","v":{"$error":"#REF!"}},null,null,null,null,null,null,null,null,null,null,null,null,"Norske Studenters Roklub",null,null,"16.07.2006\n22.10.2005\n24.06.2005","Nei\nNei\nNei","M160706MAT02\nM221005AKS02\nM240605HER09","5820353\n5564987\n8204299","22.06.2018\n07.06.2018\n07.06.2018","Norske Studenters Roklub\nNorske Studenters Roklub\nNorske Studenters Roklub","Erik Juel\n","48039369\n","eri-juel@online.no\n","22.08.2018\n22.08.2018\n22.08.2018"]
["",1,null,null,null,null,null,null,null,null,null,null,null,0.9054631890337973,null,null,null,null,null,null,{"$f":"IF(#REF!=1,IFERROR(VLOOKUP(#REF!,[1]Sheet1!$A:$N,U$2,FALSE),\"\"),\"\")","v":{"$error":"#REF!"}},null,null,null,null,null,null,null,null,null,null,null,null,"Aalesunds Roklub",null,null,"28.03.2006\n22.03.2005\n02.02.2005\n24.11.2004","Nei\nNei\nNei\nNei","K280306TUV01\nK220305IDA04\nM020205PHI01\nM241104GAB01","8081791\n7094408\n6948464\n7633038","14.06.2018\n30.05.2018\n30.05.2018\n30.05.2018","Aalesunds Roklub\nAalesunds Roklub\nAalesunds Roklub\nAalesunds Roklub","Johan Gerhard Myklebust\n","90894714\n","johan.myklebust@nordea.no\n","21.08.2018\n21.08.2018\n21.08.2018\n21.08.2018"]
["",1,null,null,null,null,null,null,null,null,null,null,null,0.96212129810539171,null,null,null,null,null,null,{"$f":"IF(#REF!=1,IFERROR(VLOOKUP(#REF!,[1]Sheet1!$A:$N,U$2,FALSE),\"\"),\"\")","v":{"$error":"#REF!"}},null,null,null,null,null,null,null,null,null,null,null,null,"Aalesunds Roklub",null,null,"31.07.2005\n29.07.2005\n19.05.2006\n28.08.2005","Nei\nNei\nNei\nNei","M310705HEI05\nK290705GUR05\nK190506JUL02\nM280805MAG03","6582360\n8157743\n6824678\n7096143","30.05.2018\n30.05.2018\n30.05.2018\n30.05.2018","Aalesunds Roklub\nAalesunds Roklub\nAalesunds Roklub\nAalesunds Roklub","Johan Gerhard Myklebust\n","90894714\n","johan.myklebust@nordea.no\n","21.08.2018\n21.08.2018\n21.08.2018\n21.08.2018"]
["",1,null,null,null,null,null,null,null,null,null,null,null,0.98477858079983782,null,null,null,null,null,null,{"$f":"IF(#REF!=1,IFERROR(VLOOKUP(#REF!,[1]Sheet1!$A:$N,U$2,FALSE),\"\"),\"\")","v":{"$error":"#REF!"}},null,null,null,null,null,null,null,null,null,null,null,null,"Bærum Roklubb",null,null,"09.02.2005\n28.08.2005\n30.04.2005\n19.02.2005","Nei\nNei\nNei\nNei","M090205EMI01\nM280805THO03\nM300405JAC02\nM190205BRA01","7947640\n6142424\n8085498\n4214459","11.05.2018\n05.06.2018\n13.06.2018\n05.08.2018","Bærum Roklubb\nBærum Roklubb\nBærum Roklubb\nBærum Roklubb","Bente Dingen\n","45411863\n","bente.dingen@lundin-norway.no\n","21.08.2018\n21.08.2018\n21.08.2018\n21.08.2018"]
[null,null,null,null,null,null,null,null,null,null,null,null,null,0.37486035411142615,null,null,null,null,null,null,{"$f":"IF(#REF!=1,IFERROR(VLOOKUP(#REF!,[1]Sheet1!$A:$N,U$2,FALSE),\"\"),\"\")","v":{"$error":"#REF!"}}]
[{"$f":"D755&R755","v":""},1,null,null,null,null,null,null,null,null,null,null,null,0.17844370434200008,null,null,null,null,null,null,{"$f":"IF(#REF!=1,IFERROR(VLOOKUP(#REF!,[1]Sheet1!$A:$N,U$2,FALSE),\"\"),\"\")","v":{"$error":"#REF!"}}]
[{"$f":"D756&R756","v":""},{"$f":"OFFSET(B756,-1,0)","v":1},null,null,null,null,null,null,null,null,null,null,null,0.55055411945956112,null,null,null,null,null,null,{"$f":"IF(#REF!=1,IFERROR(VLOOKUP(#REF!,[1]Sheet1!$A:$N,U$2,FALSE),\"\"),\"\")","v":{"$error":"#REF!"}},null,null,null,null,null,null,null,null,null,null,null,null,"Norske Studenters Roklub",null,null,"16.02.2001\n17.05.2001\n19.05.2002\n06.05.2001","Ja\nJa\nNei\nJa","M160201PET02\nM170501HUG04\nM190502KRI05\nM060501OSC01","4179438\n7685975\n4742469\n7315162","13.04.2018\n29.03.2018\n29.03.2018\n29.03.2018","Norske Studenters Roklub\nNorske Studenters Roklub\nNorske Studenters Roklub\nNorske Studenters Roklub","Erik Juel\n","48039369\n","eri-juel@online.no\n","22.08.2018\n22.08.2018\n22.08.2018\n22.08.2018"]
[{"$f":"D757&R757","v":""},{"$f":"OFFSET(B757,-1,0)","v":1},null,null,null,null,null,null,null,null,null,null,null,0.40797594286006567,null,null,null,null,null,null,{"$f":"IF(#REF!=1,IFERROR(VLOOKUP(#REF!,[1]Sheet1!$A:$N,U$2,FALSE),\"\"),\"\")","v":{"$error":"#REF!"}},null,null,null,null,null,null,null,null,null,null,null,null,"Bærum Roklubb",null,null,"20.06.2000\n02.04.2000\n26.07.2001\n04.12.2000","Ja\nJa\nJa\nJa","M070600ØYS01\nM020400SAM01\nM260701FRE03\nM041200OSK04","5372192\n8136692\n7811197\n7369821","13.04.2018\n29.03.2018\n13.04.2018\n06.04.2018","Bærum Roklubb\nNorske Studenters Roklub\nAalesunds Roklub\nOrmsund Roklub","Bente Dingen\n","45411863\n","bente.dingen@lundin-norway.no\n","22.08.2018\n22.08.2018\n22.08.2018\n22.08.2018"]
[null,null,null,null,null,null,null,null,null,null,null,null,null,0.25212137101459076,null,null,null,null,null,null,{"$f":"IF(#REF!=1,IFERROR(VLOOKUP(#REF!,[1]Sheet1!$A:$N,U$2,FALSE),\"\"),\"\")","v":{"$error":"#REF!"}}]
[{"$f":"D759&R759","v":""},0,null,null,null,null,null,null,null,null,null,null,null,0.98813303342970815,null,null,null,null,null,null,{"$f":"IF(#REF!=1,IFERROR(VLOOKUP(#REF!,[1]Sheet1!$A:$N,U$2,FALSE),\"\"),\"\")","v":{"$error":"#REF!"}}]
[{"$f":"D760&R760","v":""},null,null,null,null,null,null,null,null,null,null,null,null,0.77372137486260018,null,null,null,null,null,null,{"$f":"IF(#REF!=1,IFERROR(VLOOKUP(#REF!,[1]Sheet1!$A:$N,U$2,FALSE),\"\"),\"\")","v":{"$error":"#REF!"}},null,null,null,null,null,null,null,null,null,null,null,null,"Moss Roklubb","Nei",null,null,null,null,null,null,"Moss Roklubb","Jon Rekstad","92252667","rekstad0@gmail.com","22.08.2018"]
[null,null,null,null,null,null,null,null,null,null,null,null,null,0.60494610886615008,null,null,null,null,null,null,{"$f":"IF(#REF!=1,IFERROR(VLOOKUP(#REF!,[1]Sheet1!$A:$N,U$2,FALSE),\"\"),\"\")","v":{"$error":"#REF!"}}]
[{"$f":"D762&R762","v":""},1,null,null,null,null,null,null,null,null,null,null,null,0.84541745460312379,null,null,null,null,null,null,{"$f":"IF(#REF!=1,IFERROR(VLOOKUP(#REF!,[1]Sheet1!$A:$N,U$2,FALSE),\"\"),\"\")","v":{"$error":"#REF!"}}]
["",{"$f":"OFFSET(B763,-1,0)","v":1},null,null,null,null,null,null,null,null,null,null,null,7.608709178809081E-2,null,null,null,null,null,null,{"$f":"IF(#REF!=1,IFERROR(VLOOKUP(#REF!,[1]Sheet1!$A:$N,U$2,FALSE),\"\"),\"\")","v":{"$error":"#REF!"}},null,null,null,null,null,null,null,null,null,null,null,null,"Bærum Roklubb",null,null,"03.06.2001\n15.01.2001\n26.09.2000\n22.05.2002","Ja\nJa\nJa\nNei","K030601CAI03\nK150101THE02\nK260900STI02\nM220502IDA01","7289717\n6790513\n6778019\n6806491","17.04.2018\n17.04.2018\n13.04.2018\n","Bærum Roklubb\nBærum Roklubb\nBærum Roklubb\nBærum Roklubb","Bente Dingen\n","45411863\n","bente.dingen@lundin-norway.no\n","21.08.2018\n21.08.2018\n21.08.2018\n21.08.2018"]
["",{"$f":"OFFSET(B764,-1,0)","v":1},null,null,null,null,null,null,null,null,null,null,null,0.701239595465452,null,null,null,null,null,null,{"$f":"IF(#REF!=1,IFERROR(VLOOKUP(#REF!,[1]Sheet1!$A:$N,U$2,FALSE),\"\"),\"\")","v":{"$error":"#REF!"}},null,null,null,null,null,null,null,null,null,null,null,null,"Christiania Roklub",null,null,"20.05.2000\n20.08.2001\n25.09.2002","Ja\nJa\nNei","K200500MAR04\nK200801ANN08\nK250902NIC02","4488301\n8030448\n8247202","31.07.2018\n14.05.2018\n14.05.2018","Christiania Roklub\nChristiania Roklub\nChristiania Roklub","Grete Isachsen Stokke\n","91338845\n","greteistokke@hotmail.com;grisach@gmail.com\n","22.08.2018\n22.08.2018\n22.08.2018"]
["",0,null,null,null,null,null,null,null,null,null,null,null,0.78965241484630078,null,null,null,null,null,null,{"$f":"IF(#REF!=1,IFERROR(VLOOKUP(#REF!,[1]Sheet1!$A:$N,U$2,FALSE),\"\"),\"\")","v":{"$error":"#REF!"}}]
["",1,null,null,null,null,null,null,null,null,null,null,null,0.70532751570088026,null,null,null,null,null,null,{"$f":"IF(#REF!=1,IFERROR(VLOOKUP(#REF!,[1]Sheet1!$A:$N,U$2,FALSE),\"\"),\"\")","v":{"$error":"#REF!"}}]
["",{"$f":"OFFSET(B767,-1,0)","v":1},null,null,null,null,null,null,null,null,null,null,null,5.5981920043808531E-2,null,null,null,null,null,null,{"$f":"IF(#REF!=1,IFERROR(VLOOKUP(#REF!,[1]Sheet1!$A:$N,U$2,FALSE),\"\"),\"\")","v":{"$error":"#REF!"}},null,null,null,null,null,null,null,null,null,null,null,null,"Bærum Roklubb","Nei",null,"11.08.1999","Ja","K110899SYN06","8145400","13.04.2018","Bærum Roklubb","Bente Dingen","45411863","bente.dingen@lundin-norway.no","21.08.2018"]
["",{"$f":"OFFSET(B768,-1,0)","v":1},null,null,null,null,null,null,null,null,null,null,null,0.87751949530398965,null,null,null,null,null,null,{"$f":"IF(#REF!=1,IFERROR(VLOOKUP(#REF!,[1]Sheet1!$A:$N,U$2,FALSE),\"\"),\"\")","v":{"$error":"#REF!"}},null,null,null,null,null,null,null,null,null,null,null,null,"Christiania Roklub","Nei",null,"29.01.1989","Ja","K290189VIK03","7787823","30.05.2018","Christiania Roklub","Grete Isachsen Stokke","91338845","greteistokke@hotmail.com;grisach@gmail.com","22.08.2018"]
["",{"$f":"OFFSET(B769,-1,0)","v":1},null,null,null,null,null,null,null,null,null,null,null,0.96658871754714881,null,null,null,null,null,null,{"$f":"IF(#REF!=1,IFERROR(VLOOKUP(#REF!,[1]Sheet1!$A:$N,U$2,FALSE),\"\"),\"\")","v":{"$error":"#REF!"}},null,null,null,null,null,null,null,null,null,null,null,null,"Tønsberg Roklub","Nei",null,"30.11.2000","Nei","K301100LEN03","6134299","13.04.2018","Tønsberg Roklub",null,"92061715","svendandersen@me.com","21.08.2018"]
[null,null,null,null,null,null,null,null,null,null,null,null,null,0.55397964968153235,null,null,null,null,null,null,{"$f":"IF(#REF!=1,IFERROR(VLOOKUP(#REF!,[1]Sheet1!$A:$N,U$2,FALSE),\"\"),\"\")","v":{"$error":"#REF!"}}]
[{"$f":"D771&R771","v":""},0,null,null,null,null,null,null,null,null,null,null,null,0.26176170003251809,null,null,null,null,null,null,{"$f":"IF(#REF!=1,IFERROR(VLOOKUP(#REF!,[1]Sheet1!$A:$N,U$2,FALSE),\"\"),\"\")","v":{"$error":"#REF!"}}]
[{"$f":"D772&R772","v":""},{"$f":"OFFSET(B772,-1,0)","v":0},null,null,null,null,null,null,null,null,null,null,null,0.48773905227414349,null,null,null,null,null,null,{"$f":"IF(#REF!=1,IFERROR(VLOOKUP(#REF!,[1]Sheet1!$A:$N,U$2,FALSE),\"\"),\"\")","v":{"$error":"#REF!"}},null,null,null,null,null,null,null,null,null,null,null,null,"Bærum Roklubb",null,null,"17.10.1948\n16.10.1943\n01.03.1966\n14.04.1966","Ja\nJa\nJa\nJa","M171048KJE03\nM161043ALF01\nM010366JAN02\nM140466PET01","5950012\n8045966\n6761517\n8125484","\n\n\n","Bærum Roklubb\nBærum Roklubb\nBærum Roklubb\nBærum Roklubb","Bente Dingen\n","45411863\n","bente.dingen@lundin-norway.no\n","22.08.2018\n22.08.2018\n22.08.2018\n22.08.2018"]
[{"$f":"D773&R773","v":""},{"$f":"OFFSET(B773,-1,0)","v":0},null,null,null,null,null,null,null,null,null,null,null,8.0414447469281614E-2,null,null,null,null,null,null,{"$f":"IF(#REF!=1,IFERROR(VLOOKUP(#REF!,[1]Sheet1!$A:$N,U$2,FALSE),\"\"),\"\")","v":{"$error":"#REF!"}},null,null,null,null,null,null,null,null,null,null,null,null,"Norske Studenters Roklub",null,null,"04.10.1965\n27.02.1969\n02.11.1983\n02.08.1965","Ja\nJa\nJa\nJa","M041065HAL03\nM270269KRI06\nM021183EDU03\nM020865PHI01","6340602\n8099483\n8238773\n7500481","07.06.2018\n\n\n17.08.2018","Norske Studenters Roklub,Oslo Roklubb\nNorske Studenters Roklub,Oslo Roklubb\nNorske Studenters Roklub\nNorske Studenters Roklub","Erik Juel\n","48039369\n","eri-juel@online.no\n","22.08.2018\n22.08.2018\n22.08.2018\n22.08.2018"]
[{"$f":"D774&R774","v":""},{"$f":"OFFSET(B774,-1,0)","v":0},null,null,null,null,null,null,null,null,null,null,null,0.17151736571748299,null,null,null,null,null,null,{"$f":"IF(#REF!=1,IFERROR(VLOOKUP(#REF!,[1]Sheet1!$A:$N,U$2,FALSE),\"\"),\"\")","v":{"$error":"#REF!"}},null,null,null,null,null,null,null,null,null,null,null,null,"Ormsund Roklub",null,null,"28.02.1974\n10.02.1974\n25.03.1964\n20.03.1984","Nei\nNei\nJa\nJa","K280274ING02\nK100274LIN02\nM250364JEN02\nM200384ESP03","5414305\n2136071\n8030339\n7287045","\n06.04.2018\n06.04.2018\n06.04.2018","Ormsund Roklub,Skullerud Sportsklubb\nOrmsund Roklub,Skullerud Sportsklubb\nNøklevann Ro- og Padleklubb,Ormsund Roklub\nOrmsund Roklub,Skullerud Sportsklubb","Eva Hansen\n","90799966\n","eva.hansen@wenaasnordic.com\n","22.08.2018\n22.08.2018\n22.08.2018\n22.08.2018"]
[{"$f":"D775&R775","v":""},1,null,null,null,null,null,null,null,null,null,null,null,0.45267019722170854,null,null,null,null,null,null,{"$f":"IF(#REF!=1,IFERROR(VLOOKUP(#REF!,[1]Sheet1!$A:$N,U$2,FALSE),\"\"),\"\")","v":{"$error":"#REF!"}}]
[{"$f":"D776&R776","v":""},{"$f":"OFFSET(B776,-1,0)","v":1},null,null,null,null,null,null,null,null,null,null,null,0.13874615807976765,null,null,null,null,null,null,{"$f":"IF(#REF!=1,IFERROR(VLOOKUP(#REF!,[1]Sheet1!$A:$N,U$2,FALSE),\"\"),\"\")","v":{"$error":"#REF!"}},null,null,null,null,null,null,null,null,null,null,null,null,"Bærum Roklubb",null,null,"02.06.2000\n20.06.2000","Ja\nJa","M020600LAR04\nM070600ØYS01","6806488\n5372192","\n13.04.2018","Bærum Roklubb\nBærum Roklubb","Bente Dingen\n","45411863\n","bente.dingen@lundin-norway.no\n","22.08.2018\n22.08.2018"]
["",1,null,null,null,null,null,null,null,null,null,null,null,0.43474743105848956,null,null,null,null,null,null,{"$f":"IF(#REF!=1,IFERROR(VLOOKUP(#REF!,[1]Sheet1!$A:$N,U$2,FALSE),\"\"),\"\")","v":{"$error":"#REF!"}},null,null,null,null,null,null,null,null,null,null,null,null,"Bærum Roklubb",null,null,"26.09.2000\n17.06.2000","Ja\nJa","M260900SIN02\nM170600PET01","6073987\n8020362","17.04.2018\n17.04.2018","Bærum Roklubb\nBærum Roklubb","Bente Dingen\n","45411863\n","bente.dingen@lundin-norway.no\n","22.08.2018\n22.08.2018"]
["",1,null,null,null,null,null,null,null,null,null,null,null,0.38651915593018948,null,null,null,null,null,null,{"$f":"IF(#REF!=1,IFERROR(VLOOKUP(#REF!,[1]Sheet1!$A:$N,U$2,FALSE),\"\"),\"\")","v":{"$error":"#REF!"}},null,null,null,null,null,null,null,null,null,null,null,null,"Bærum Roklubb",null,null,"12.09.2000\n17.04.2000","Ja\nJa","M120900BRA03\nM170400EIR06","4908711\n5663596","17.04.2018\n","Bærum Roklubb\nBærum Roklubb","Bente Dingen\n","45411863\n","bente.dingen@lundin-norway.no\n","22.08.2018\n22.08.2018"]
["",1,null,null,null,null,null,null,null,null,null,null,null,0.84208750233525986,null,null,null,null,null,null,{"$f":"IF(#REF!=1,IFERROR(VLOOKUP(#REF!,[1]Sheet1!$A:$N,U$2,FALSE),\"\"),\"\")","v":{"$error":"#REF!"}},null,null,null,null,null,null,null,null,null,null,null,null,"Ormsund Roklub",null,null,"12.05.2001\n04.12.2000","Ja\nJa","M120501JON02\nM041200OSK04","8128878\n7369821","06.04.2018\n06.04.2018","Ormsund Roklub\nOrmsund Roklub","Eva Hansen\n","90799966\n","eva.hansen@wenaasnordic.com\n","22.08.2018\n22.08.2018"]
["",1,null,null,null,null,null,null,null,null,null,null,null,0.96788547879114073,null,null,null,null,null,null,{"$f":"IF(#REF!=1,IFERROR(VLOOKUP(#REF!,[1]Sheet1!$A:$N,U$2,FALSE),\"\"),\"\")","v":{"$error":"#REF!"}},null,null,null,null,null,null,null,null,null,null,null,null,"Sarpsborg Roklubb - Roing",null,null,"28.12.2000\n08.04.2001","Ja\nJa","M281200DID01\nM080401JAC01","5330116\n5584584","22.03.2018\n22.03.2018","Sarpsborg Roklubb - Roing\nSarpsborg Roklubb - Roing","Thomas Gundersen\n","91874904\n","Thomas.gundersen@afgruppen.no;thomas.gundersen@afgruppen.no\n","22.08.2018\n22.08.2018"]
["",1,null,null,null,null,null,null,null,null,null,null,null,0.70482813087923379,null,null,null,null,null,null,{"$f":"IF(#REF!=1,IFERROR(VLOOKUP(#REF!,[1]Sheet1!$A:$N,U$2,FALSE),\"\"),\"\")","v":{"$error":"#REF!"}},null,null,null,null,null,null,null,null,null,null,null,null,"Tønsberg Roklub",null,null,"30.05.2001\n24.12.2000","Ja\nJa","M300501LAR02\nM241200ISA03","4234298\n7173184","13.04.2018\n13.04.2018","Tønsberg Roklub\nTønsberg Roklub","Svend Andersen\n","92061715\n","svendandersen@me.com\n","21.08.2018\n21.08.2018"]
["",1,null,null,null,null,null,null,null,null,null,null,null,0.9054631890337973,null,null,null,null,null,null,{"$f":"IF(#REF!=1,IFERROR(VLOOKUP(#REF!,[1]Sheet1!$A:$N,U$2,FALSE),\"\"),\"\")","v":{"$error":"#REF!"}},null,null,null,null,null,null,null,null,null,null,null,null,"Aalesunds Roklub",null,null,null,"Nei\nNei",null,null,null,"Aalesunds Roklub\nAalesunds Roklub","Johan Gerhard Myklebust\n","90894714\n","johan.myklebust@nordea.no\n","21.08.2018\n21.08.2018"]
[null,null,null,null,null,null,null,null,null,null,null,null,null,0.13862542521311694,null,null,null,null,null,null,{"$f":"IF(#REF!=1,IFERROR(VLOOKUP(#REF!,[1]Sheet1!$A:$N,U$2,FALSE),\"\"),\"\")","v":{"$error":"#REF!"}}]
[{"$f":"D784&R784","v":""},1,null,null,null,null,null,null,null,null,null,null,null,0.69562647780687747,null,null,null,null,null,null,{"$f":"IF(#REF!=1,IFERROR(VLOOKUP(#REF!,[1]Sheet1!$A:$N,U$2,FALSE),\"\"),\"\")","v":{"$error":"#REF!"}}]
[{"$f":"D785&R785","v":""},{"$f":"OFFSET(B785,-1,0)","v":1},null,null,null,null,null,null,null,null,null,null,null,0.27609996185592289,null,null,null,null,null,null,{"$f":"IF(#REF!=1,IFERROR(VLOOKUP(#REF!,[1]Sheet1!$A:$N,U$2,FALSE),\"\"),\"\")","v":{"$error":"#REF!"}},null,null,null,null,null,null,null,null,null,null,null,null,"Moss Roklubb",null,null,"29.01.2003\n17.05.2002\n01.04.2003","Ja\nJa\nJa","M290103VIK01\nM170502SIM07\nM010403SIM03","5993278\n7189809\n7261136","22.03.2018\n22.03.2018\n22.03.2018","Moss Roklubb\nMoss Roklubb\nMoss Roklubb","Jon Børre Rekstad\n","92252667\n","rekstad0@gmail.com\n","22.08.2018\n22.08.2018\n22.08.2018"]
[{"$f":"D786&R786","v":""},{"$f":"OFFSET(B786,-1,0)","v":1},null,null,null,null,null,null,null,null,null,null,null,9.3249153282045638E-3,null,null,null,null,null,null,{"$f":"IF(#REF!=1,IFERROR(VLOOKUP(#REF!,[1]Sheet1!$A:$N,U$2,FALSE),\"\"),\"\")","v":{"$error":"#REF!"}},null,null,null,null,null,null,null,null,null,null,null,null,"Norske Studenters Roklub",null,null,"29.06.2002\n01.01.2003\n16.12.2003","Ja\nJa\nJa","M290602KNU03\nM010103JAC04\nM161203AXE03","8137181\n8247213\n8133394","29.03.2018\n07.06.2018\n","Norske Studenters Roklub\nNorske Studenters Roklub\nNorske Studenters Roklub","Erik Juel\n","48039369\n","eri-juel@online.no\n","22.08.2018\n22.08.2018\n22.08.2018"]
[{"$f":"D787&R787","v":""},{"$f":"OFFSET(B787,-1,0)","v":1},null,null,null,null,null,null,null,null,null,null,null,0.75014250123045456,null,null,null,null,null,null,{"$f":"IF(#REF!=1,IFERROR(VLOOKUP(#REF!,[1]Sheet1!$A:$N,U$2,FALSE),\"\"),\"\")","v":{"$error":"#REF!"}},null,null,null,null,null,null,null,null,null,null,null,null,"Sarpsborg Roklubb - Roing",null,null,"30.04.2002\n22.10.2004\n07.06.2004\n22.07.2004","Ja\nNei\nNei\nNei","M300402MAJ01\nM221004NOR01\nM070604MAR06\nM220704TRU01","6977105\n6917184\n6707662\n7203412","22.03.2018\n22.03.2018\n22.03.2018\n06.04.2018","Sarpsborg Roklubb - Roing\nSarpsborg Roklubb - Roing\nSarpsborg Roklubb - Roing\nOrmsund Roklub","Thomas Gundersen\n","91874904\n","Thomas.gundersen@afgruppen.no;thomas.gundersen@afgruppen.no\n","22.08.2018\n22.08.2018\n22.08.2018\n22.08.2018"]
[null,null,null,null,null,null,null,null,null,null,null,null,null,0.4613031902418141,null,null,null,null,null,null,{"$f":"IF(#REF!=1,IFERROR(VLOOKUP(#REF!,[1]Sheet1!$A:$N,U$2,FALSE),\"\"),\"\")","v":{"$error":"#REF!"}}]
[{"$f":"D789&R789","v":""},1,null,null,null,null,null,null,null,null,null,null,null,9.6388528133666052E-2,null,null,null,null,null,null,{"$f":"IF(#REF!=1,IFERROR(VLOOKUP(#REF!,[1]Sheet1!$A:$N,U$2,FALSE),\"\"),\"\")","v":{"$error":"#REF!"}}]
[{"$f":"D790&R790","v":""},{"$f":"OFFSET(B790,-1,0)","v":1},null,null,null,null,null,null,null,null,null,null,null,0.24599159467871756,null,null,null,null,null,null,{"$f":"IF(#REF!=1,IFERROR(VLOOKUP(#REF!,[1]Sheet1!$A:$N,U$2,FALSE),\"\"),\"\")","v":{"$error":"#REF!"}},null,null,null,null,null,null,null,null,null,null,null,null,"Norske Studenters Roklub","Nei",null,"03.06.1964","Ja","M030664JEN03","8198377",null,"Norske Studenters Roklub","Erik Juel","48039369","eri-juel@online.no","22.08.2018"]
[{"$f":"D791&R791","v":""},{"$f":"OFFSET(B791,-1,0)","v":1},null,null,null,null,null,null,null,null,null,null,null,0.91770838389742404,null,null,null,null,null,null,{"$f":"IF(#REF!=1,IFERROR(VLOOKUP(#REF!,[1]Sheet1!$A:$N,U$2,FALSE),\"\"),\"\")","v":{"$error":"#REF!"}},null,null,null,null,null,null,null,null,null,null,null,null,"Christiania Roklub","Nei",null,"24.08.1970","Ja","M240870KJE01","573717","22.08.2018","Christiania Roklub","Grete Isachsen Stokke","91338845","greteistokke@hotmail.com;grisach@gmail.com","22.08.2018"]
[{"$f":"D792&R792","v":""},{"$f":"OFFSET(B792,-1,0)","v":1},null,null,null,null,null,null,null,null,null,null,null,0.67441793502856462,null,null,null,null,null,null,{"$f":"IF(#REF!=1,IFERROR(VLOOKUP(#REF!,[1]Sheet1!$A:$N,U$2,FALSE),\"\"),\"\")","v":{"$error":"#REF!"}},null,null,null,null,null,null,null,null,null,null,null,null,"Oslo Roklubb","Nei",null,"22.04.1959","Ja","M220459AND01","5795061","06.05.2018","Oslo Roklubb","Peter Ellingsen","97505494","peter.ellingsen@vikenfiber.no","22.08.2018"]
[{"$f":"D793&R793","v":""},{"$f":"OFFSET(B793,-1,0)","v":1},null,null,null,null,null,null,null,null,null,null,null,0.35985733819528909,null,null,null,null,null,null,{"$f":"IF(#REF!=1,IFERROR(VLOOKUP(#REF!,[1]Sheet1!$A:$N,U$2,FALSE),\"\"),\"\")","v":{"$error":"#REF!"}},null,null,null,null,null,null,null,null,null,null,null,null,"Norske Studenters Roklub","Nei",null,"20.05.1952","Ja","M200552TOR02","5781431","07.06.2018","Norske Studenters Roklub","Erik Juel","48039369","eri-juel@online.no","22.08.2018"]
[null,null,null,null,null,null,null,null,null,null,null,null,null,0.19782003836208761,null,null,null,null,null,null,{"$f":"IF(#REF!=1,IFERROR(VLOOKUP(#REF!,[1]Sheet1!$A:$N,U$2,FALSE),\"\"),\"\")","v":{"$error":"#REF!"}}]
[{"$f":"D795&R795","v":""},1,null,null,null,null,null,null,null,null,null,null,null,0.47783147209778642,null,null,null,null,null,null,{"$f":"IF(#REF!=1,IFERROR(VLOOKUP(#REF!,[1]Sheet1!$A:$N,U$2,FALSE),\"\"),\"\")","v":{"$error":"#REF!"}}]
[{"$f":"D796&R796","v":""},{"$f":"OFFSET(B796,-1,0)","v":1},null,null,null,null,null,null,null,null,null,null,null,0.79642648403348237,null,null,null,null,null,null,{"$f":"IF(#REF!=1,IFERROR(VLOOKUP(#REF!,[1]Sheet1!$A:$N,U$2,FALSE),\"\"),\"\")","v":{"$error":"#REF!"}},null,null,null,null,null,null,null,null,null,null,null,null,"Norske Studenters Roklub","Nei",null,"03.03.1966","Ja","K030366ULL01","7500752",null,"Norske Studenters Roklub","Erik Juel","48039369","eri-juel@online.no","22.08.2018"]
[{"$f":"D797&R797","v":""},1,null,null,null,null,null,null,null,null,null,null,null,0.32190778078209259,null,null,null,null,null,null,{"$f":"IF(#REF!=1,IFERROR(VLOOKUP(#REF!,[1]Sheet1!$A:$N,U$2,FALSE),\"\"),\"\")","v":{"$error":"#REF!"}}]
[{"$f":"D798&R798","v":""},{"$f":"OFFSET(B798,-1,0)","v":1},null,null,null,null,null,null,null,null,null,null,null,0.25005271987271172,null,null,null,null,null,null,{"$f":"IF(#REF!=1,IFERROR(VLOOKUP(#REF!,[1]Sheet1!$A:$N,U$2,FALSE),\"\"),\"\")","v":{"$error":"#REF!"}},null,null,null,null,null,null,null,null,null,null,null,null,"Bærum Roklubb",null,null,"03.06.2001\n15.01.2001\n12.09.2000\n17.06.2000\n20.06.2000\n26.09.2000\n17.10.2002\n26.09.2000\n02.06.2000","Nei\nNei\nNei\nNei\nNei\nNei\nNei\nNei\nNei","K030601CAI03\nK150101THE02\nM120900BRA02\nM170600PET01\nM070600ØYS01\nM260900SIN02\nK171002TUV03\nK260900STI02\nM020600LAR02","7289717\n6790513\n8203074\n8020362\n5372192\n6073987\n6101180\n6778019\n4487587","17.04.2018\n17.04.2018\n\n17.04.2018\n13.04.2018\n17.04.2018\n\n13.04.2018\n13.04.2018","Bærum Roklubb\nBærum Roklubb\nBærum Roklubb\nBærum Roklubb\nBærum Roklubb\nBærum Roklubb\nBærum Roklubb\nBærum Roklubb\nBærum Roklubb","Bente Dingen\n","45411863\n","bente.dingen@lundin-norway.no\n","22.08.2018\n22.08.2018\n22.08.2018\n22.08.2018\n22.08.2018\n22.08.2018\n22.08.2018\n22.08.2018\n22.08.2018"]
[{"$f":"D799&R799","v":""},null,null,null,null,null,null,null,null,null,null,null,null,0.99058692856444908,null,null,null,null,null,null,{"$f":"IF(#REF!=1,IFERROR(VLOOKUP(#REF!,[1]Sheet1!$A:$N,U$2,FALSE),\"\"),\"\")","v":{"$error":"#REF!"}},null,null,null,null,null,null,null,null,null,null,null,null,"Norske Studenters Roklub"]
["OSI",null,null,null,null,null,null,null,null,null,null,null,null,0.45486133994490152,null,null,null,null,null,null,{"$f":"IF(#REF!=1,IFERROR(VLOOKUP(#REF!,[1]Sheet1!$A:$N,U$2,FALSE),\"\"),\"\")","v":{"$error":"#REF!"}},null,null,null,null,null,null,null,null,null,null,null,null,"OSI"]
[null,null,null,null,null,null,null,null,null,null,null,null,null,null,null,null,null,null,null,null,{"$f":"IF(#REF!=1,IFERROR(VLOOKUP(#REF!,[1]Sheet1!$A:$N,U$2,FALSE),\"\"),\"\")","v":{"$error":"#REF!"}}]

{"sheet":"Søndag trekning","index":4,"n_rows":408,"n_cols":55,"rows_kept":408,"cut":false,"hidden":false,"merged":[]}
[{"$f":"COLUMNS($A1:A1)","v":1},{"$f":"COLUMNS($A1:B1)","v":2},{"$f":"COLUMNS($A1:C1)","v":3},{"$f":"COLUMNS($A1:D1)","v":4},{"$f":"COLUMNS($A1:E1)","v":5},{"$f":"COLUMNS($A1:F1)","v":6},{"$f":"COLUMNS($A1:G1)","v":7},{"$f":"COLUMNS($A1:H1)","v":8},{"$f":"COLUMNS($A1:I1)","v":9},{"$f":"COLUMNS($A1:J1)","v":10},{"$f":"COLUMNS($A1:K1)","v":11},{"$f":"COLUMNS($A1:L1)","v":12},{"$f":"COLUMNS($A1:M1)","v":13},{"$f":"COLUMNS($A1:N1)","v":14},{"$f":"COLUMNS($A1:O1)","v":15},{"$f":"COLUMNS($A1:P1)","v":16},{"$f":"COLUMNS($A1:Q1)","v":17},18,19,20,21,{"$f":"COLUMNS($A1:V1)","v":22},{"$f":"COLUMNS($A1:W1)","v":23},{"$f":"COLUMNS($A1:X1)","v":24},{"$f":"COLUMNS($A1:Y1)","v":25},{"$f":"COLUMNS($A1:Z1)","v":26},null,{"$f":"COLUMNS($A1:AB1)","v":28},{"$f":"COLUMNS($A1:AC1)","v":29},{"$f":"COLUMNS($A1:AD1)","v":30},{"$f":"COLUMNS($A1:AE1)","v":31},{"$f":"COLUMNS($A1:AF1)","v":32},{"$f":"COLUMNS($A1:AG1)","v":33},{"$f":"COLUMNS($A1:AH1)","v":34},{"$f":"COLUMNS($A1:AI1)","v":35},{"$f":"COLUMNS($A1:AJ1)","v":36},{"$f":"COLUMNS($A1:AK1)","v":37},{"$f":"COLUMNS($A1:AL1)","v":38},{"$f":"COLUMNS($A1:AM1)","v":39},{"$f":"COLUMNS($A1:AN1)","v":40},{"$f":"COLUMNS($A1:AO1)","v":41},{"$f":"COLUMNS($A1:AP1)","v":42},{"$f":"COLUMNS($A1:AQ1)","v":43},{"$f":"COLUMNS($A1:AR1)","v":44},{"$f":"COLUMNS($A1:AS1)","v":45},{"$f":"COLUMNS($A1:AT1)","v":46},null,null,null,null,null,18]
[null,null,null,null,null,null,null,null,null,null,null,null,null,null,null,null,null,null,3,5,6]
[null,null,null,null,null,null,null,null,null,null,null,null,null,null,null,null,null,621,null,null,null,null,null,null,null,null,{"$f":"SUBTOTAL(9,AA4:AA405)-1","v":-1},null,{"$f":"SUBTOTAL(3,AC4:AC405)-1","v":48}]
["ID","Oppslag","LØPSDAG","LØP NR","Plassering","Start Finale","Start Forsøk","Veiing","Forsøk","Slått ut","Semifinale","Start Forsøk","Rendom 1","random","Sprintmesterskap (S)","Kretsmesterslap (K)","Heat","Startnr","Heat actual","Plassering","Tid","Plass x Heat","Poeng","Kjønn","Klasse","Båttype","Deltakere (seter)","Distanse","Roklubb","ROERE","NC Kvalifisering Nordisk/Baltic","START-KONTIGENT","Etteranmeldt/Strøket","Påmeldene/Betalende klubb","Betaling registrert","Betalingstransaksjon","Fødselsdato","Påmelding innenfor klasse (ja/nei)","Idrettsnummer","Person ID","Betalt lisens","\"Hjemme-klubb\"","Påmeldt av (person)","Mobil","E-post","Påmeldt dato"]
[null,null,"Lør 27.8",null,null,null,null,null,null,null,null,null,null,0.5281639512985985,null,null,null,5,null,null,{"$f":"IF(#REF!=1,IFERROR(VLOOKUP(#REF!,[1]Sheet1!$A:$N,U$2,FALSE),\"\"),\"\")","v":{"$error":"#REF!"}},null,null,null,null,null,{"$f":"IF(R5<>0,LEFT(Z5,1),0)*1","v":{"$error":"#VALUE!"}},null,null,null,null,null,null,null,null,null,null,null,null,null,null,null,null,null,null,null,null,null,null,null,null,11]
[{"$f":"D6&R6","v":"3"},{"$f":"OFFSET(B6,-1,0)","v":0},"Lør 27.8",null,null,null,null,null,null,null,null,null,null,0.76056741572250985,null,null,null,3,0,0,{"$f":"IF(#REF!=1,IFERROR(VLOOKUP(#REF!,[1]Sheet1!$A:$N,U$2,FALSE),\"\"),\"\")","v":{"$error":"#REF!"}},null,null,null,null,null,{"$f":"IF(R6<>0,LEFT(Z6,1),0)*1","v":{"$error":"#VALUE!"}},null,null,null,null,null,null,null,null,null,null,null,null,null,null,null,null,null,null,null,null,null,null,null,null,0]
[{"$f":"D7&R7","v":"6"},{"$f":"OFFSET(B7,-1,0)","v":0},"Lør 22.8",null,null,null,null,null,null,null,null,null,null,0.59955859619469221,null,null,null,6,0,0,{"$f":"IF(#REF!=1,IFERROR(VLOOKUP(#REF!,[1]Sheet1!$A:$N,U$2,FALSE),\"\"),\"\")","v":{"$error":"#REF!"}},null,null,null,null,null,{"$f":"IF(R7<>0,LEFT(Z7,1),0)*1","v":{"$error":"#VALUE!"}}]
[{"$f":"D8&R8","v":"240F0"},1,"Søn 02.09","240F",null,{"$f":"VLOOKUP($D8,Tidsplan!$B:$D,3,FALSE)","v":"1555"},{"$f":"VLOOKUP($D8,Tidsplan!$B:$D,2,FALSE)","v":"0900"},null,null,null,null,null,null,0.45267019722170854,"S",null,null,0,null,null,{"$f":"IF(#REF!=1,IFERROR(VLOOKUP(#REF!,[1]Sheet1!$A:$N,U$2,FALSE),\"\"),\"\")","v":{"$error":"#REF!"}},null,null,"H","H J A","2x",{"$f":"IF(R8<>0,LEFT(Z8,1),0)*1","v":0},"500 m "]
["240F1",{"$f":"OFFSET(B9,-1,0)","v":1},"Søn 02.09","240F",null,{"$f":"OFFSET(F9,-1,0)","v":"1555"},"0900",null,null,null,null,null,null,0.13874615807976765,null,null,null,1,null,null,{"$f":"IF(#REF!=1,IFERROR(VLOOKUP(#REF!,[1]Sheet1!$A:$N,U$2,FALSE),\"\"),\"\")","v":{"$error":"#REF!"}},null,null,"H","H J A","2x",null,"500 m ","Bærum Roklubb 1","Lars Moberg Værnes\nØystein Dingen Endresen","09:00",325,null,"Bærum Roklubb",null,null,"02.06.2000\n20.06.2000","Ja\nJa","M020600LAR04\nM070600ØYS01","6806488\n5372192","\n13.04.2018","Bærum Roklubb\nBærum Roklubb","Bente Dingen\n","45411863\n","bente.dingen@lundin-norway.no\n","22.08.2018\n22.08.2018"]
["240F2",1,"Søn 02.09","240F",null,"1555","0900",null,null,null,null,null,null,0.43474743105848956,null,null,null,2,null,null,{"$f":"IF(#REF!=1,IFERROR(VLOOKUP(#REF!,[1]Sheet1!$A:$N,U$2,FALSE),\"\"),\"\")","v":{"$error":"#REF!"}},null,null,"H","H J A","2x",null,"500 m ","Bærum Roklubb 2","Sindre Fuglseth\nEirik Hauge","09:00",325,null,"Bærum Roklubb",null,null,"26.09.2000\n17.06.2000","Ja\nJa","M260900SIN02\nM170600PET01","6073987\n8020362","17.04.2018\n17.04.2018","Bærum Roklubb\nBærum Roklubb","Bente Dingen\n","45411863\n","bente.dingen@lundin-norway.no\n","22.08.2018\n22.08.2018"]
["240F3",1,"Søn 02.09","240F",null,"1555","0900",null,null,null,null,null,null,0.38651915593018948,null,null,null,3,null,null,{"$f":"IF(#REF!=1,IFERROR(VLOOKUP(#REF!,[1]Sheet1!$A:$N,U$2,FALSE),\"\"),\"\")","v":{"$error":"#REF!"}},null,null,"H","H J A","2x",null,"500 m ","Bærum Roklubb 3","Brage Kristian Bragstad\nEirik Myreng Hauge","09:00",325,null,"Bærum Roklubb",null,null,"12.09.2000\n17.04.2000","Ja\nJa","M120900BRA03\nM170400EIR06","4908711\n5663596","17.04.2018\n","Bærum Roklubb\nBærum Roklubb","Bente Dingen\n","45411863\n","bente.dingen@lundin-norway.no\n","22.08.2018\n22.08.2018"]
["240F4",1,"Søn 02.09","240F",null,"1555","0900",null,null,null,null,null,null,0.84208750233525986,null,null,null,4,null,null,{"$f":"IF(#REF!=1,IFERROR(VLOOKUP(#REF!,[1]Sheet1!$A:$N,U$2,FALSE),\"\"),\"\")","v":{"$error":"#REF!"}},null,null,"H","H J A","2x",null,"500 m ","Ormsund Roklub 1","Jonathan Kvalvaag Dysvik\nOskar Martinius Gjerland","09:00",325,null,"Ormsund Roklub",null,null,"12.05.2001\n04.12.2000","Ja\nJa","M120501JON02\nM041200OSK04","8128878\n7369821","06.04.2018\n06.04.2018","Ormsund Roklub\nOrmsund Roklub","Eva Hansen\n","90799966\n","eva.hansen@wenaasnordic.com\n","22.08.2018\n22.08.2018"]
["240F5",1,"Søn 02.09","240F",null,"1555","0900",null,null,null,null,null,null,0.96788547879114073,null,null,null,5,null,null,{"$f":"IF(#REF!=1,IFERROR(VLOOKUP(#REF!,[1]Sheet1!$A:$N,U$2,FALSE),\"\"),\"\")","v":{"$error":"#REF!"}},null,null,"H","H J A","2x",null,"500 m ","Sarpsborg Roklubb ","Diderik Fabian Sørby Skjønhaug\nJacob Gundersen","09:00",325,null,"Sarpsborg Roklubb - Roing",null,null,"28.12.2000\n08.04.2001","Ja\nJa","M281200DID01\nM080401JAC01","5330116\n5584584","22.03.2018\n22.03.2018","Sarpsborg Roklubb - Roing\nSarpsborg Roklubb - Roing","Thomas Gundersen\n","91874904\n","Thomas.gundersen@afgruppen.no;thomas.gundersen@afgruppen.no\n","22.08.2018\n22.08.2018"]
["240F6",1,"Søn 02.09","240F",null,"1555","0900",null,null,null,null,null,null,0.70482813087923379,null,null,null,6,null,null,{"$f":"IF(#REF!=1,IFERROR(VLOOKUP(#REF!,[1]Sheet1!$A:$N,U$2,FALSE),\"\"),\"\")","v":{"$error":"#REF!"}},null,null,"H","H J A","2x",null,"500 m ","Tønsberg Roklub 1","Lars Jørann Lindgren\nIsak Vartal-Gjerde","09:00",325,null,"Tønsberg Roklub",null,null,"30.05.2001\n24.12.2000","Ja\nJa","M300501LAR02\nM241200ISA03","4234298\n7173184","13.04.2018\n13.04.2018","Tønsberg Roklub\nTønsberg Roklub","Svend Andersen\n","92061715\n","svendandersen@me.com\n","21.08.2018\n21.08.2018"]
["240F7",1,"Søn 02.09","240F",null,"1555","0900",null,null,null,null,null,null,0.9054631890337973,null,null,null,7,null,null,{"$f":"IF(#REF!=1,IFERROR(VLOOKUP(#REF!,[1]Sheet1!$A:$N,U$2,FALSE),\"\"),\"\")","v":{"$error":"#REF!"}},null,null,"H","H J A","2x",null,"500 m","Aalesunds Roklub","Fredrik Reite\n Arild Lykkebø Johnsen","09:00",325,null,"Aalesunds Roklub",null,null,null,"Nei\nNei",null,null,null,"Aalesunds Roklub\nAalesunds Roklub","Johan Gerhard Myklebust\n","90894714\n","johan.myklebust@nordea.no\n","21.08.2018\n21.08.2018"]
["232F0",1,"Søn 02.09","232F",null,{"$f":"VLOOKUP($D16,Tidsplan!$B:$D,3,FALSE)","v":"1520"},{"$f":"VLOOKUP($D16,Tidsplan!$B:$D,2,FALSE)","v":"0935"},null,null,null,null,null,null,null,null,null,null,0,null,null,{"$f":"IF(#REF!=1,IFERROR(VLOOKUP(#REF!,[1]Sheet1!$A:$N,U$2,FALSE),\"\"),\"\")","v":{"$error":"#REF!"}},null,null,"D","DJB","2x",{"$f":"IF(R16<>0,LEFT(Z16,1),0)*1","v":0},"500 m "]
[{"$f":"D17&R17","v":"232F1"},{"$f":"OFFSET(B17,-1,0)","v":1},"Søn 02.09","232F",null,{"$f":"OFFSET(F17,-1,0)","v":"1520"},"0935",null,null,null,null,null,null,0.29593090670988709,null,null,1,1,null,null,{"$f":"IF(#REF!=1,IFERROR(VLOOKUP(#REF!,[1]Sheet1!$A:$N,U$2,FALSE),\"\"),\"\")","v":{"$error":"#REF!"}},null,null,"D","D J B","2x",null,"500 m ","Norske Studenters Roklub 4","Ella Marie Hegge\nMarie Glomnes Rudi","09:00",325,null,"Norske Studenters Roklub",null,null,"18.05.2003\n25.07.2003","Ja\nJa","K180503ELL02\nK250703MAR04","5567226\n5247452","29.03.2018\n29.03.2018","Norske Studenters Roklub\nNorske Studenters Roklub","Erik Juel\n","48039369\n","eri-juel@online.no\n","22.08.2018\n22.08.2018"]
["232F2",1,"Søn 02.09","232F",null,"1520","0935",null,null,null,null,null,null,0.14392271455512362,null,null,1,2,null,null,{"$f":"IF(#REF!=1,IFERROR(VLOOKUP(#REF!,[1]Sheet1!$A:$N,U$2,FALSE),\"\"),\"\")","v":{"$error":"#REF!"}},null,null,"D","D J B","2x",null,"500 m ","Christiania Roklub 1","Vårin Fagerbakke\nMartine Nesse","09:00",325,null,"Christiania Roklub",null,null,"01.01.2003\n31.03.2003","Ja\nJa","K010103VÅR01\nK310303MAR02","7755151\n7896615","06.03.2018\n06.03.2018","Christiania Roklub\nChristiania Roklub","Grete Isachsen Stokke\n","91338845\n","greteistokke@hotmail.com;grisach@gmail.com\n","22.08.2018\n22.08.2018"]
["232F3",1,"Søn 02.09","232F",null,"1520","0935",null,null,null,null,null,null,0.19560825857061326,null,null,1,3,null,null,{"$f":"IF(#REF!=1,IFERROR(VLOOKUP(#REF!,[1]Sheet1!$A:$N,U$2,FALSE),\"\"),\"\")","v":{"$error":"#REF!"}},null,null,"D","D J B","2x",null,"500 m ","Drammen Roklubb  1","Victoria Linnéa Wikheim Lang\nTale Tollefsen Seip","09:00",325,null,"Drammen Roklubb ",null,null,"22.01.2002\n23.02.2004","Ja\nNei","K220102VIC04\nK230304TAL01","8199687\n7310638","12.03.2018\n12.03.2018","Drammen Roklubb \nDrammen Roklubb ","Beate Pharo\n","90660478\n","beatepharo@gmail.com\n","21.08.2018\n21.08.2018"]
["232F4",1,"Søn 02.09","232F",null,"1520","0935",null,null,null,null,null,null,0.5087716742607723,null,null,1,4,null,null,{"$f":"IF(#REF!=1,IFERROR(VLOOKUP(#REF!,[1]Sheet1!$A:$N,U$2,FALSE),\"\"),\"\")","v":{"$error":"#REF!"}},null,null,"D","D J B","2x",null,"500 m ","Norske Studenters Roklub 2","Fabia Dybwad Emblem\nNora Vikesland Skou","09:00",325,null,"Norske Studenters Roklub",null,null,"11.04.2003\n28.08.2003","Ja\nJa","K110403FAB02\nK280803NOR01","6318695\n7850270","29.03.2018\n07.06.2018","Norske Studenters Roklub\nNorske Studenters Roklub","Erik Juel\n","48039369\n","eri-juel@online.no\n","22.08.2018\n22.08.2018"]
["232F5",1,"Søn 02.09","232F",null,"1520","0935",null,null,null,null,null,null,0.52280510993627449,null,null,2,5,null,null,{"$f":"IF(#REF!=1,IFERROR(VLOOKUP(#REF!,[1]Sheet1!$A:$N,U$2,FALSE),\"\"),\"\")","v":{"$error":"#REF!"}},null,null,"D","D J B","2x",null,"500 m ","Norske Studenters Roklub 1","Sara Sigurdsen\nElla Irgens Standley","09:00",325,null,"Norske Studenters Roklub",null,null,"26.04.2003\n17.01.2003","Ja\nJa","K260403SAR01\nK170103ELL06","7679466\n8208728","07.06.2018\n07.06.2018","Norske Studenters Roklub\nNorske Studenters Roklub","Erik Juel\n","48039369\n","eri-juel@online.no\n","22.08.2018\n22.08.2018"]
["232F6",1,"Søn 02.09","232F",null,"1520","0935",null,null,null,null,null,null,0.52797230863496714,null,null,2,6,null,null,{"$f":"IF(#REF!=1,IFERROR(VLOOKUP(#REF!,[1]Sheet1!$A:$N,U$2,FALSE),\"\"),\"\")","v":{"$error":"#REF!"}},null,null,"D","D J B","2x",null,"500 m ","Bærum Roklubb 1","Ida Aurora Moberg Værnes\nTuva Skatt Gillebo","09:00",325,null,"Bærum Roklubb",null,null,"22.05.2002\n17.10.2002","Ja\nJa","M220502IDA01\nK171002TUV03","6806491\n6101180","\n","Bærum Roklubb\nBærum Roklubb","Bente Dingen\n","45411863\n","bente.dingen@lundin-norway.no\n","22.08.2018\n22.08.2018"]
["232F7",1,"Søn 02.09","232F",null,"1520","0935",null,null,null,null,null,null,0.82858356075338702,null,null,2,7,null,null,{"$f":"IF(#REF!=1,IFERROR(VLOOKUP(#REF!,[1]Sheet1!$A:$N,U$2,FALSE),\"\"),\"\")","v":{"$error":"#REF!"}},null,null,"D","D J B","2x",null,"500 m ","Aalesunds Roklub 1","Helle Andreassen\nMartine Nakken Henriksen","09:00",325,null,"Aalesunds Roklub",null,null,"28.10.2003\n30.09.2004","Ja\nNei","K281003HEL05\nK300904MAR06","6860116\n7258646","30.05.2018\n30.05.2018","Aalesunds Roklub\nAalesunds Roklub","Johan Gerhard Myklebust\n","90894714\n","johan.myklebust@nordea.no\n","21.08.2018\n21.08.2018"]
["232F8",1,"Søn 02.09","232F",null,"1520","0935",null,null,null,null,null,null,0.95641741725601415,null,null,2,8,null,null,{"$f":"IF(#REF!=1,IFERROR(VLOOKUP(#REF!,[1]Sheet1!$A:$N,U$2,FALSE),\"\"),\"\")","v":{"$error":"#REF!"}},null,null,"D","D J B","2x",null,"500 m ","Norske Studenters Roklub 3","Lisa Nakamoto Byberg","09:00",325,null,"Norske Studenters Roklub",null,null,"08.04.2003","Ja","K080403LIS01","5391349","29.03.2018","Norske Studenters Roklub","Erik Juel","48039369","eri-juel@online.no","22.08.2018"]
[null,null,null,null,null,null,null,null,null,null,null,null,null,0.105426496836868,null,null,null," ",null,null,{"$f":"IF(#REF!=1,IFERROR(VLOOKUP(#REF!,[1]Sheet1!$A:$N,U$2,FALSE),\"\"),\"\")","v":{"$error":"#REF!"}}]
[{"$f":"D26&R26","v":"221F0"},1,"Søn 02.09","221F",null,{"$f":"VLOOKUP($D26,Tidsplan!$B:$D,3,FALSE)","v":"1420"},{"$f":"VLOOKUP($D26,Tidsplan!$B:$D,2,FALSE)","v":"0925"},null,null,null,null,null,null,0.98205281853846504,null,null,null,0,null,null,{"$f":"IF(#REF!=1,IFERROR(VLOOKUP(#REF!,[1]Sheet1!$A:$N,U$2,FALSE),\"\"),\"\")","v":{"$error":"#REF!"}},null,null,"H","H J B","2x",{"$f":"IF(R26<>0,LEFT(Z26,1),0)*1","v":0},"500 m"]
["221F1",{"$f":"OFFSET(B27,-1,0)","v":1},"Søn 02.09","221F",null,{"$f":"OFFSET(F27,-1,0)","v":"1420"},"0925",null,null,null,null,null,null,3.0866039933456935E-2,null,null,1,1,null,null,{"$f":"IF(#REF!=1,IFERROR(VLOOKUP(#REF!,[1]Sheet1!$A:$N,U$2,FALSE),\"\"),\"\")","v":{"$error":"#REF!"}},null,null,"H","H J B","2x",null,"500 m ","Drammen Roklubb  4","Christian Juven Brandt\nHåkon Villum Hansen","09:00",325,null,"Drammen Roklubb ",null,null,"16.09.2003\n04.05.2004","Ja\nNei","M160903CHR01\nM040504HÅK13","4573154\n8104025","10.04.2018\n30.05.2018","Drammen Roklubb \nDrammen Roklubb ","Beate Pharo\n","90660478\n","beatepharo@gmail.com\n","21.08.2018\n21.08.2018"]
["221F2",1,"Søn 02.09","221F",null,"1420","0925",null,null,null,null,null,null,0.16584837118422846,null,null,1,2,null,null,{"$f":"IF(#REF!=1,IFERROR(VLOOKUP(#REF!,[1]Sheet1!$A:$N,U$2,FALSE),\"\"),\"\")","v":{"$error":"#REF!"}},null,null,"H","H J B","2x",null,"500 m ","Moss Roklubb 1","Viktor Emanuel Vatterdal Rekstad\nSimen Meinike Dørre","09:00",325,null,"Moss Roklubb",null,null,"29.01.2003\n01.04.2003","Ja\nJa","M290103VIK01\nM010403SIM03","5993278\n7261136","22.03.2018\n22.03.2018","Moss Roklubb\nMoss Roklubb","Jon Børre Rekstad\n","92252667\n","rekstad0@gmail.com\n","22.08.2018\n22.08.2018"]
["221F3",1,"Søn 02.09","221F",null,"1420","0925",null,null,null,null,null,null,0.2217949591738485,null,null,1,3,null,null,{"$f":"IF(#REF!=1,IFERROR(VLOOKUP(#REF!,[1]Sheet1!$A:$N,U$2,FALSE),\"\"),\"\")","v":{"$error":"#REF!"}},null,null,"H","H J B","2x",null,"500 m ","Sarpsborg Roklubb","Håkon Grønberg Møller\nPhilp Draget","09:00",325,null,"Sarpsborg Roklubb - Roing",null,null,"22.12.2002\n24.02.2002","Ja\nJa","M221202HÅK01\nM240202OLI01","6848301\n7448632","22.03.2018\n","Sarpsborg Roklubb - Roing\nSarpsborg Roklubb - Roing","Thomas Gundersen\n","91874904\n","Thomas.gundersen@afgruppen.no;thomas.gundersen@afgruppen.no\n","22.08.2018\n22.08.2018"]
["221F4",1,"Søn 02.09","221F",null,"1420","0925",null,null,null,null,null,null,0.2429080625150809,null,null,1,4,null,null,{"$f":"IF(#REF!=1,IFERROR(VLOOKUP(#REF!,[1]Sheet1!$A:$N,U$2,FALSE),\"\"),\"\")","v":{"$error":"#REF!"}},null,null,"H","H J B","2x",null,"500 m ","Drammen Roklubb  1","Ulrik Pharo Lohne\nHampus Erik Vesterberg-Heltne","09:00",325,null,"Drammen Roklubb ",null,null,"09.05.2004\n07.02.2003","Nei\nJa","M090504ULR01\nM070203HAM03","5057646\n6756072","12.03.2018\n12.03.2018","Drammen Roklubb \nDrammen Roklubb ","Beate Pharo\n","90660478\n","beatepharo@gmail.com\n","21.08.2018\n21.08.2018"]
["221F5",1,"Søn 02.09","221F",null,"1420","0925",null,null,null,null,null,null,0.31506879516740416,null,null,1,5,null,null,{"$f":"IF(#REF!=1,IFERROR(VLOOKUP(#REF!,[1]Sheet1!$A:$N,U$2,FALSE),\"\"),\"\")","v":{"$error":"#REF!"}},null,null,"H","H J B","2x",null,"500 m ","Norske Studenters Roklub 2","Trygve Bye Løken\nBror Henrik Flyen Storsten","09:00",325,null,"Norske Studenters Roklub",null,null,"22.04.2003\n17.01.2002","Ja\nJa","M220403TRY05\nM170102BRO01","8235153\n5003101","29.03.2018\n","Norske Studenters Roklub\nNorske Studenters Roklub","Erik Juel\n","48039369\n","eri-juel@online.no\n","22.08.2018\n22.08.2018"]
["221F6",1,"Søn 02.09","221F",null,"1420","0925",null,null,null,null,null,null,0.26384686282535386,null,null,1,6,null,null,{"$f":"IF(#REF!=1,IFERROR(VLOOKUP(#REF!,[1]Sheet1!$A:$N,U$2,FALSE),\"\"),\"\")","v":{"$error":"#REF!"}},null,null,"H","H J B","2x",null,"500 m ","Drammen Roklubb  2","Anders Grøgård\nJonas Willand-Evensen","09:00",325,null,"Drammen Roklubb ",null,null,"20.06.2003\n30.08.2003","Ja\nJa","M200603AND02\nM300803JON01","8075279\n4879656","02.05.2018\n12.03.2018","Bærum Roklubb\nDrammen Roklubb ","Beate Pharo\n","90660478\n","beatepharo@gmail.com\n","21.08.2018\n21.08.2018"]
["221F7",1,"Søn 02.09","221F",null,"1420","0925",null,null,null,null,null,null,0.31856816270408461,null,null,2,7,null,null,{"$f":"IF(#REF!=1,IFERROR(VLOOKUP(#REF!,[1]Sheet1!$A:$N,U$2,FALSE),\"\"),\"\")","v":{"$error":"#REF!"}},null,null,"H","H J B","2x",null,"500 m ","Ormsund Roklub 1","Marius Antonsen Thime\nTruls Oskar Hansen","09:00",325,null,"Ormsund Roklub",null,null,"07.06.2004\n22.07.2004","Nei\nNei","M070604MAR06\nM220704TRU01","6707662\n7203412","22.03.2018\n06.04.2018","Sarpsborg Roklubb - Roing\nOrmsund Roklub","Eva Hansen\n","90799966\n","eva.hansen@wenaasnordic.com\n","22.08.2018\n22.08.2018"]
["221F8",1,"Søn 02.09","221F",null,"1420","0925",null,null,null,null,null,null,0.4205343227014684,null,null,2,8,null,null,{"$f":"IF(#REF!=1,IFERROR(VLOOKUP(#REF!,[1]Sheet1!$A:$N,U$2,FALSE),\"\"),\"\")","v":{"$error":"#REF!"}},null,null,"H","H J B","2x",null,"500 m ","Tønsberg Roklub 1","Tobias Kjersem Larsen\nTobias Solvang","09:00",325,null,"Tønsberg Roklub",null,null,"15.09.2003\n30.05.2003","Ja\nJa","M150903TOB06\nM300503TOB07","7936549\n7014841","\n13.04.2018","Tønsberg Roklub\nTønsberg Roklub","Svend Andersen\n","92061715\n","svendandersen@me.com\n","21.08.2018\n21.08.2018"]
["221F9",1,"Søn 02.09","221F",null,"1420","0925",null,null,null,null,null,null,0.65025193020106276,null,null,2,9,null,null,{"$f":"IF(#REF!=1,IFERROR(VLOOKUP(#REF!,[1]Sheet1!$A:$N,U$2,FALSE),\"\"),\"\")","v":{"$error":"#REF!"}},null,null,"H","H J B","2x",null,"500 m ","Norske Studenters Roklub 1","Jack Schønberg\nAxel Woxen","09:00",325,null,"Norske Studenters Roklub",null,null,"01.01.2003\n16.12.2003","Ja\nJa","M010103JAC04\nM161203AXE03","8247213\n8133394","07.06.2018\n","Norske Studenters Roklub\nNorske Studenters Roklub","Erik Juel\n","48039369\n","eri-juel@online.no\n","22.08.2018\n22.08.2018"]
["221F10",1,"Søn 02.09","221F",null,"1420","0925",null,null,null,null,null,null,0.65792802927283633,null,null,2,10,null,null,{"$f":"IF(#REF!=1,IFERROR(VLOOKUP(#REF!,[1]Sheet1!$A:$N,U$2,FALSE),\"\"),\"\")","v":{"$error":"#REF!"}},null,null,"H","H J B","2x",null,"500 m ","Drammen Roklubb  3","Sebastian Meier Rasmussen\nJohan Sebastian Remmen","09:00",325,null,"Drammen Roklubb ",null,null,"14.04.2003\n14.07.2003","Ja\nJa","M140403SEB04\nM140703JOH03","7710737\n6131539","\n12.03.2018","Drammen Roklubb \nDrammen Roklubb ","Beate Pharo\n","90660478\n","beatepharo@gmail.com\n","21.08.2018\n21.08.2018"]
["221F11",1,"Søn 02.09","221F",null,"1420","0925",null,null,null,null,null,null,0.78082788875976317,null,null,2,11,null," ",{"$f":"IF(#REF!=1,IFERROR(VLOOKUP(#REF!,[1]Sheet1!$A:$N,U$2,FALSE),\"\"),\"\")","v":{"$error":"#REF!"}},null,null,"H","H J B","2x",null,"500 m ","Haldens Roklub 1","Haakon Elias Solli Borge\nOliver Andreas Melnes","09:00",325,null,"Haldens Roklub",null,null,"21.02.2002\n24.02.2002","Ja\nJa","M210202HAA02\nM240202OLI02","5006685\n6398349","13.04.2018\n22.03.2018","Haldens Roklub\nSarpsborg Roklubb - Roing","Oskar Van Etten Jarem\n","91725846\n","oskarvanetten@gmail.com\n","22.08.2018\n22.08.2018"]
["221F12",1,"Søn 02.09","221F",null,"1420","0925",null,null,null,null,null,null,0.99749035880467773,null,null,2,12,null,null,{"$f":"IF(#REF!=1,IFERROR(VLOOKUP(#REF!,[1]Sheet1!$A:$N,U$2,FALSE),\"\"),\"\")","v":{"$error":"#REF!"}},null,null,"H","H J B","2x",null,"500 m ","Moss Roklubb 2","Simen Solbakken Thømt\nMajlind Begaj","09:00",325,null,"Moss Roklubb",null,null,"17.05.2002\n30.04.2002","Ja\nJa","M170502SIM07\nM300402MAJ01","7189809\n6977105","22.03.2018\n22.03.2018","Moss Roklubb\nSarpsborg Roklubb - Roing","Jon Børre Rekstad\n","92252667\n","rekstad0@gmail.com\n","22.08.2018\n22.08.2018"]
["221F ",1,"Søn 02.09","221F",null,"1420","0925",null,null,null,null,null,null,3,null,null,null," ",null,null,{"$f":"IF(#REF!=1,IFERROR(VLOOKUP(#REF!,[1]Sheet1!$A:$N,U$2,FALSE),\"\"),\"\")","v":{"$error":"#REF!"}},null,null,"H","H J B","2x",null,"500 m ","Christiania Roklub 1","Elias Mahler\nÅsmund Olai Sand-Larsen","09:00",325,null,"Christiania Roklub",null,null,"22.12.2002\n15.10.2002","Ja\nJa","M221202ELI02\nM151002ÅSM01","4671202\n4513284","\n06.03.2018","Ukjent/ikke registrert klubb\nChristiania Roklub","Grete Isachsen Stokke\n","91338845\n","greteistokke@hotmail.com;grisach@gmail.com\n","22.08.2018\n22.08.2018"]
[null,null," ",null,null,null,null,null,null,null,null,null,null,0.22000075906522332,null,null,null,null,null,null,{"$f":"IF(#REF!=1,IFERROR(VLOOKUP(#REF!,[1]Sheet1!$A:$N,U$2,FALSE),\"\"),\"\")","v":{"$error":"#REF!"}}]
[{"$f":"D41&#REF!","v":{"$error":"#REF!"}},1,"Søn 02.09","211F",null,{"$f":"VLOOKUP($D41,Tidsplan!$B:$D,3,FALSE)","v":"1305"},{"$f":"VLOOKUP($D41,Tidsplan!$B:$D,2,FALSE)","v":"0945"},null,null,null,null,null,null,2.0280759316264607E-2,null,null,null,0,null,null,{"$f":"IF(#REF!=1,IFERROR(VLOOKUP(#REF!,[1]Sheet1!$A:$N,U$2,FALSE),\"\"),\"\")","v":{"$error":"#REF!"}},null,null,"H","H J A","1x",{"$f":"IF(#REF!<>0,LEFT(Z41,1),0)*1","v":{"$error":"#REF!"}},"500 m"]
[{"$f":"D42&R41","v":"211F0"},{"$f":"OFFSET(B42,-1,0)","v":1},"Søn 02.09","211F",null,{"$f":"OFFSET(F42,-1,0)","v":"1305"},"0945",null,null,null,null,null,null,0.14575844501452451,null,null,1,1,null,null,{"$f":"IF(#REF!=1,IFERROR(VLOOKUP(#REF!,[1]Sheet1!$A:$N,U$2,FALSE),\"\"),\"\")","v":{"$error":"#REF!"}},null,null,"H","H J A","1x",null,"500 m","Tønsberg Roklub","Martin Asheim","09:00",275,null,"Tønsberg Roklub","Nei",null,"05.05.2001","Ja","M050501MAR07","7153998","13.04.2018","Tønsberg Roklub",null,"92061715","svendandersen@me.com","22.08.2018"]
["211F1",1,"Søn 02.09","211F",null,"1305","0945",null,null,null,null,null,null,0.16470072584455087,null,null,1,2,null,null,{"$f":"IF(#REF!=1,IFERROR(VLOOKUP(#REF!,[1]Sheet1!$A:$N,U$2,FALSE),\"\"),\"\")","v":{"$error":"#REF!"}},null,null,"H","H J A","1x",null,"500 m","Aalesunds Roklub","Arild Lykkebø Johnsen","09:00",275,null,"Aalesunds Roklub","Nei",null,"27.10.2001","Ja","M271001ARI02","5661384","30.05.2018","Aalesunds Roklub","Johan Myklebust","90894714","johan.myklebust@nordea.no","21.08.2018"]
["211F2",1,"Søn 02.09","211F",null,"1305","0945",null,null,null,null,null,null,0.19821698005845456,null,null,1,3,null,null,{"$f":"IF(#REF!=1,IFERROR(VLOOKUP(#REF!,[1]Sheet1!$A:$N,U$2,FALSE),\"\"),\"\")","v":{"$error":"#REF!"}},null,null,"H","H J A","1x",null,"500 m","Tønsberg Roklub","Sander Benden Nilsen","09:00",275,null,"Tønsberg Roklub","Nei",null,"05.05.2001","Ja","M050501MAR07","7153998","13.04.2018","Tønsberg Roklub",null,"92061715","svendandersen@me.com","22.08.2018"]
["211F3",1,"Søn 02.09","211F",null,"1305","0945",null,null,null,null,null,null,0.22926340105094689,null,null,1,4,null,null,{"$f":"IF(#REF!=1,IFERROR(VLOOKUP(#REF!,[1]Sheet1!$A:$N,U$2,FALSE),\"\"),\"\")","v":{"$error":"#REF!"}},null,null,"H","H J A","1x",null,"500 m","Bærum Roklubb","Lars Moberg Værnes","09:00",275,null,"Bærum Roklubb","Nei",null,"02.06.2000","Ja","M020600LAR02","4487587","13.04.2018","Bærum Roklubb","Bente Dingen","45411863","bente.dingen@lundin-norway.no","21.08.2018"]
["211F4",1,"Søn 02.09","211F",null,"1305","0945",null,null,null,null,null,null,0.31243508854930857,null,null,1,5,null,null,{"$f":"IF(#REF!=1,IFERROR(VLOOKUP(#REF!,[1]Sheet1!$A:$N,U$2,FALSE),\"\"),\"\")","v":{"$error":"#REF!"}},null,null,"H","H J A","1x",null,"500 m","Norske Studenters Roklub","Vitus Aparicio Tjøm","09:00",275,null,"Norske Studenters Roklub","Nei",null,"26.06.2001","Ja","M260101VIT01","5062270","29.03.2018","Norske Studenters Roklub","Erik Juel","48039369","eri-juel@online.no","22.08.2018"]
["211F5",1,"Søn 02.09","211F",null,"1305","0945",null,null,null,null,null,null,0.36933983733293951,null,null,2,6,null,null,{"$f":"IF(#REF!=1,IFERROR(VLOOKUP(#REF!,[1]Sheet1!$A:$N,U$2,FALSE),\"\"),\"\")","v":{"$error":"#REF!"}},null,null,"H","H J A","1x",null,"500 m","Sarpsborg Roklubb - Roing","Diderik Skjønhaug","09:00",275,null,"Sarpsborg Roklubb - Roing","Nei",null,"28.12.2000","Ja","M281200DID01","5330116","22.03.2018","Sarpsborg Roklubb - Roing","Thomas Gundersen","91874904","Thomas.gundersen@afgruppen.no;thomas.gundersen@afgruppen.no","22.08.2018"]
["211F6",1,"Søn 02.09","211F",null,"1305","0945",null,null,null,null,null,null,0.47013092485143382,null,null,2,7,null,null,{"$f":"IF(#REF!=1,IFERROR(VLOOKUP(#REF!,[1]Sheet1!$A:$N,U$2,FALSE),\"\"),\"\")","v":{"$error":"#REF!"}},null,null,"H","H J A","1x",null,"500 m","Bærum Roklubb","Øystein Dingen Endresen","09:00",275,null,"Bærum Roklubb","Nei",null,"20.06.2000","Ja","M070600ØYS01","5372192","13.04.2018","Bærum Roklubb","Bente Dingen","45411863","bente.dingen@lundin-norway.no","21.08.2018"]
["211F7",1,"Søn 02.09","211F",null,"1305","0945",null,null,null,null,null,null,0.53205541277780866,null,null,2,8,null,null,{"$f":"IF(#REF!=1,IFERROR(VLOOKUP(#REF!,[1]Sheet1!$A:$N,U$2,FALSE),\"\"),\"\")","v":{"$error":"#REF!"}},null,null,"H","H J A","1x",null,"500 m","Moss Roklubb","Jarle Hjortkjær Sæby","09:00",275,null,"Moss Roklubb","Nei",null,"17.08.2000","Ja","M170800JAR02","2794789","22.03.2018","Moss Roklubb","Jon Rekstad","92252667","rekstad0@gmail.com","22.08.2018"]
["211F8",1,"Søn 02.09","211F",null,"1305","0945",null,null,null,null,null,null,0.62850767393949158,null,null,2,9,null,null,{"$f":"IF(#REF!=1,IFERROR(VLOOKUP(#REF!,[1]Sheet1!$A:$N,U$2,FALSE),\"\"),\"\")","v":{"$error":"#REF!"}},null,null,"H","H J A","1x",null,"500 m","Bærum Roklubb",null,"09:00",275,null,"Bærum Roklubb","Nei",null,"12.09.2000","Ja","M120900BRA02","8203074",null,"Bærum Roklubb","Bente Dingen","45411863","bente.dingen@lundin-norway.no","22.08.2018"]
["211F9",1,"Søn 02.09","211F",null,"1305","0945",null,null,null,null,null,null,0.64719003202974279,null,null,2,10,null,null,{"$f":"IF(#REF!=1,IFERROR(VLOOKUP(#REF!,[1]Sheet1!$A:$N,U$2,FALSE),\"\"),\"\")","v":{"$error":"#REF!"}},null,null,"H","H J A","1x",null,"500 m","Sarpsborg Roklubb - Roing","Jacob Gundersen","09:00",275,null,"Sarpsborg Roklubb - Roing","Nei",null,"08.04.2001","Ja","M080401JAC01","5584584","22.03.2018","Sarpsborg Roklubb - Roing","Thomas Gundersen","91874904","Thomas.gundersen@afgruppen.no;thomas.gundersen@afgruppen.no","22.08.2018"]
["211F10",1,"Søn 02.09","211F",null,"1305","0945",null,null,null,null,null,null,0.76281506914546082,null,null,3,11,null,null,{"$f":"IF(#REF!=1,IFERROR(VLOOKUP(#REF!,[1]Sheet1!$A:$N,U$2,FALSE),\"\"),\"\")","v":{"$error":"#REF!"}},null,null,"H","H J A","1x",null,"500 m","Bærum Roklubb","Eirik Myreng Hauge","09:00",275,null,"Bærum Roklubb","Nei",null,"17.04.2000","Ja","M170400EIR02","5005277",null,"Bærum Roklubb","Bente Dingen","45411863","bente.dingen@lundin-norway.no","22.08.2018"]
["211F11",1,"Søn 02.09","211F",null,"1305","0945",null,null,null,null,null,null,0.78004762369757052,null,null,3,12,null,null,{"$f":"IF(#REF!=1,IFERROR(VLOOKUP(#REF!,[1]Sheet1!$A:$N,U$2,FALSE),\"\"),\"\")","v":{"$error":"#REF!"}},null,null,"H","H J A","1x",null,"500 m","Horten Roklubb","Benjamin Nærsnes","09:00",275,null,"Horten Roklubb","Nei",null,"13.09.2001","Ja","M130901BEN04","6102843","12.04.2018","Horten Roklubb","Bjørn-Inge Pettersen","93280397","pettersen.bjorn.inge@gmail.com","22.08.2018"]
["211F12",1,"Søn 02.09","211F",null,"1305","0945",null,null,null,null,null,null,0.83417047377298059,null,null,3,13,null,null,{"$f":"IF(#REF!=1,IFERROR(VLOOKUP(#REF!,[1]Sheet1!$A:$N,U$2,FALSE),\"\"),\"\")","v":{"$error":"#REF!"}},null,null,"H","H J A","1x",null,"500 m","Drammen Roklubb ","Elias Loe Eritsland","09:00",275,null,"Drammen Roklubb ","Nei",null,"13.02.2001","Ja","M130201ELI03","7554836",null,"Drammen Roklubb ",null,"90660478","beatepharo@gmail.com","21.08.2018"]
["211F13",1,"Søn 02.09","211F",null,"1305","0945",null,null,null,null,null,null,0.87102869756678469,null,null,3,14,null,null,{"$f":"IF(#REF!=1,IFERROR(VLOOKUP(#REF!,[1]Sheet1!$A:$N,U$2,FALSE),\"\"),\"\")","v":{"$error":"#REF!"}},null,null,"H","H J A","1x",null,"500 m","Aalesunds Roklub",null,"09:00",275,null,"Aalesunds Roklub","Nei",null,"26.07.2001","Ja","M260701FRE03","7811197","13.04.2018","Aalesunds Roklub","Johan Myklebust","90894714","johan.myklebust@nordea.no","21.08.2018"]
[{"$f":"D56&R56","v":"211F15"},1,"Søn 02.09","211F",null,"1305","0945",null,null,null,null,null,null,0.89705128464813977,null,null,3,15,null,null,{"$f":"IF(#REF!=1,IFERROR(VLOOKUP(#REF!,[1]Sheet1!$A:$N,U$2,FALSE),\"\"),\"\")","v":{"$error":"#REF!"}},null,null,"H","H J A","1x",null,"500 m","Norske Studenters Roklub","Nicolai Fongaard","09:00",275,null,"Norske Studenters Roklub","Nei",null,"06.08.2001","Ja","M060801NIC02","4916382","29.03.2018","Norske Studenters Roklub","Erik Juel","48039369","eri-juel@online.no","22.08.2018"]
[null,null,null,null,null,null,null,null,null,null,null,null,null,0.86530633342365659,null,null,null,null,null,null,{"$f":"IF(#REF!=1,IFERROR(VLOOKUP(#REF!,[1]Sheet1!$A:$N,U$2,FALSE),\"\"),\"\")","v":{"$error":"#REF!"}}]
[{"$f":"D58&R59","v":"222F1"},1,"Søn 02.09","222F",null,{"$f":"VLOOKUP($D58,Tidsplan!$B:$D,3,FALSE)","v":"1430"},{"$f":"VLOOKUP($D58,Tidsplan!$B:$D,2,FALSE)","v":"0910"},null,null,null,null,null,null,0.88251861717001989,null,null,null,0,null,null,{"$f":"IF(#REF!=1,IFERROR(VLOOKUP(#REF!,[1]Sheet1!$A:$N,U$2,FALSE),\"\"),\"\")","v":{"$error":"#REF!"}},null,null,"D","D J A","1x",{"$f":"IF(R59<>0,LEFT(Z58,1),0)*1","v":1},"500 m "]
["222F2",{"$f":"OFFSET(B59,-1,0)","v":1},"Søn 02.09","222F",null,{"$f":"OFFSET(F59,-1,0)","v":"1430"},"0910",null,null,null,null,null,null,5.1341165301822533E-2,null,null,1,1,null,null,{"$f":"IF(#REF!=1,IFERROR(VLOOKUP(#REF!,[1]Sheet1!$A:$N,U$2,FALSE),\"\"),\"\")","v":{"$error":"#REF!"}},null,null,"D","D J A","1x",null,"500 m","Christiania Roklub","Nicoline Lovise Lindstrøm","09:00",275,null,"Christiania Roklub","Nei",null,"25.09.2002","Nei","K250902NIC02","8247202","14.05.2018","Christiania Roklub","Grete Isachsen Stokke","91338845","greteistokke@hotmail.com;grisach@gmail.com","22.08.2018"]
["222F3",1,"Søn 02.09","222F",null,"1430","0910",null,null,null,null,null,null,6.486078075146462E-2,null,null,1,2,null,null,{"$f":"IF(#REF!=1,IFERROR(VLOOKUP(#REF!,[1]Sheet1!$A:$N,U$2,FALSE),\"\"),\"\")","v":{"$error":"#REF!"}},null,null,"D","D J A","1x",null,"500 m","Aalesunds Roklub","Hedda Roth","09:00",275,null,"Aalesunds Roklub","Nei",null,"01.08.2001","Ja","K010801HED01","5213239","30.05.2018","Aalesunds Roklub","Johan Myklebust","90894714","johan.myklebust@nordea.no","21.08.2018"]
["222F4",1,"Søn 02.09","222F",null,"1430","0910",null,null,null,null,null,null,0.25206641206246072,null,null,1,3,null,null,{"$f":"IF(#REF!=1,IFERROR(VLOOKUP(#REF!,[1]Sheet1!$A:$N,U$2,FALSE),\"\"),\"\")","v":{"$error":"#REF!"}},null,null,"D","D J A","1x",null,"500 m","Tønsberg Roklub","Ida kyvik Sandvik","09:00",275,null,"Tønsberg Roklub","Nei",null,"24.07.2002","Nei","K240702IDA05","7173655","13.04.2018","Tønsberg Roklub",null,"92061715","svendandersen@me.com","21.08.2018"]
["222F5",1,"Søn 02.09","222F",null,"1430","0910",null,null,null,null,null,null,0.13796739298170402,null,null,1,4,null,null,{"$f":"IF(#REF!=1,IFERROR(VLOOKUP(#REF!,[1]Sheet1!$A:$N,U$2,FALSE),\"\"),\"\")","v":{"$error":"#REF!"}},null,null,"D","D J A","1x",null,"500 m","Christiania Roklub","Marte Morgenlie Skei","09:00",275,null,"Christiania Roklub","Nei",null,"20.05.2000","Ja","K200500MAR04","4488301","31.07.2018","Christiania Roklub","Grete Isachsen Stokke","91338845","greteistokke@hotmail.com;grisach@gmail.com","22.08.2018"]
["222F6",1,"Søn 02.09","222F",null,"1430","0910",null,null,null,null,null,null,0.18014535746285743,null,null,1,5,null,null,{"$f":"IF(#REF!=1,IFERROR(VLOOKUP(#REF!,[1]Sheet1!$A:$N,U$2,FALSE),\"\"),\"\")","v":{"$error":"#REF!"}},null,null,"D","D J A","1x",null,"500 m","Bærum Roklubb","Caitlin Aalders","09:00",275,null,"Bærum Roklubb","Nei",null,"03.06.2001","Ja","K030601CAI03","7289717","17.04.2018","Bærum Roklubb","Bente Dingen","45411863","bente.dingen@lundin-norway.no","21.08.2018"]
["222F7",1,"Søn 02.09","222F",null,"1430","0910",null,null,null,null,null,null,0.26327962064762689,null,null,2,6,null,null,{"$f":"IF(#REF!=1,IFERROR(VLOOKUP(#REF!,[1]Sheet1!$A:$N,U$2,FALSE),\"\"),\"\")","v":{"$error":"#REF!"}},null,null,"D","D J A","1x",null,"500 m","Tønsberg Roklub","Marie Andrup-Næss","09:00",275,null,"Tønsberg Roklub","Nei",null,"09.05.2002","Nei","K090502MAR15","8036277","13.04.2018","Tønsberg Roklub",null,"92061715","svendandersen@me.com","21.08.2018"]
["222F8",1,"Søn 02.09","222F",null,"1430","0910",null,null,null,null,null,null,0.33470608284271408,null,null,2,7,null,null,{"$f":"IF(#REF!=1,IFERROR(VLOOKUP(#REF!,[1]Sheet1!$A:$N,U$2,FALSE),\"\"),\"\")","v":{"$error":"#REF!"}},null,null,"D","D J A","1x",null,"500 m","Moss Roklubb","Lise Meinike Dørre","09:00",275,null,"Moss Roklubb","Nei",null,"13.02.2000","Ja","K130200LIS02","6059397",null,"Ukjent/ikke registrert klubb","Jon Rekstad","92252667","rekstad0@gmail.com","22.08.2018"]
["222F9",1,"Søn 02.09","222F",null,"1430","0910",null,null,null,null,null,null,0.46132392770558672,null,null,2,8,null,null,{"$f":"IF(#REF!=1,IFERROR(VLOOKUP(#REF!,[1]Sheet1!$A:$N,U$2,FALSE),\"\"),\"\")","v":{"$error":"#REF!"}},null,null,"D","D J A","1x",null,"500 m","Horten Roklubb","Mia Helene Falch","09:00",275,null,"Horten Roklubb","Nei",null,"25.12.2000","Ja","K251200MIA01","4997049","12.04.2018","Horten Roklubb","Bjørn-Inge Pettersen","93280397","pettersen.bjorn.inge@gmail.com","22.08.2018"]
["222F10",1,"Søn 02.09","222F",null,"1430","0910",null,null,null,null,null,null,0.48367012543825094,null,null,2,9,null,null,{"$f":"IF(#REF!=1,IFERROR(VLOOKUP(#REF!,[1]Sheet1!$A:$N,U$2,FALSE),\"\"),\"\")","v":{"$error":"#REF!"}},null,null,"D","D J A","1x",null,"500 m","Drammen Roklubb ","Elisabeth Maria Stenberg","09:00",275,null,"Drammen Roklubb ","Nei",null,"27.02.2001","Ja","K270201ELI03","7334407","10.04.2018","Drammen Roklubb ",null,"90660478","beatepharo@gmail.com","21.08.2018"]
["222F11",1,"Søn 02.09","222F",null,"1430","0910",null,null,null,null,null,null,0.64980955658833806,null,null,3,10,null,null,{"$f":"IF(#REF!=1,IFERROR(VLOOKUP(#REF!,[1]Sheet1!$A:$N,U$2,FALSE),\"\"),\"\")","v":{"$error":"#REF!"}},null,null,"D","D J A","1x",null,"500 m","Drammen Roklubb ","Karoline Rydland Masch","09:00",275,null,"Drammen Roklubb ","Nei",null,"14.04.2001","Ja","K140401KAR10","7214275",null,"Drammen Roklubb ",null,"90660478","beatepharo@gmail.com","21.08.2018"]
["222F12",1,"Søn 02.09","222F",null,"1430","0910",null,null,null,null,null,null,0.67409578129948222,null,null,3,11,null,null,{"$f":"IF(#REF!=1,IFERROR(VLOOKUP(#REF!,[1]Sheet1!$A:$N,U$2,FALSE),\"\"),\"\")","v":{"$error":"#REF!"}},null,null,"D","D J A","1x",null,"500 m","Tønsberg Roklub","Lene Samland","09:00",275,null,"Tønsberg Roklub","Nei",null,"30.11.2000","Ja","K301100LEN03","6134299","13.04.2018","Tønsberg Roklub",null,"92061715","svendandersen@me.com","21.08.2018"]
["222F13",1,"Søn 02.09","222F",null,"1430","0910",null,null,null,null,null,null,0.7796852014555139,null,null,3,12,null,null,{"$f":"IF(#REF!=1,IFERROR(VLOOKUP(#REF!,[1]Sheet1!$A:$N,U$2,FALSE),\"\"),\"\")","v":{"$error":"#REF!"}},null,null,"D","D J A","1x",null,"500 m","Ormsund Roklub","Hannah Elisabeth Grude","09:00",275,null,"Ormsund Roklub","Nei",null,"19.07.2001","Ja","K190701HAN12","7882501","06.04.2018","Ormsund Roklub","Eva Hansen","90799966","eva.hansen@wenaasnordic.com","22.08.2018"]
[{"$f":"D71&#REF!","v":{"$error":"#REF!"}},1,"Søn 02.09","222F",null,"1430","0910",null,null,null,null,null,null,0.78171205212004613,null,null,3,13,null,null,{"$f":"IF(#REF!=1,IFERROR(VLOOKUP(#REF!,[1]Sheet1!$A:$N,U$2,FALSE),\"\"),\"\")","v":{"$error":"#REF!"}},null,null,"D","D J A","1x",null,"500 m","Bærum Roklubb","Stina Vad","09:00",275,null,"Bærum Roklubb","Nei",null,"26.09.2000","Ja","K260900STI02","6778019","13.04.2018","Bærum Roklubb","Bente Dingen","45411863","bente.dingen@lundin-norway.no","21.08.2018"]
[null,null," ",null,null,null,null,null,null,null,null,null,null,null,null,null,null," ",null,null,{"$f":"IF(#REF!=1,IFERROR(VLOOKUP(#REF!,[1]Sheet1!$A:$N,U$2,FALSE),\"\"),\"\")","v":{"$error":"#REF!"}}]
[{"$f":"D73&R73","v":"2020"},1,"Søn 02.09",202,null,{"$f":"VLOOKUP($D73,Tidsplan!$B:$D,3,FALSE)","v":"1020"},{"$f":"VLOOKUP($D73,Tidsplan!$B:$D,2,FALSE)","v":""},null,null,null,null,null,null,null," ",null,null,0,null,null,{"$f":"IF(#REF!=1,IFERROR(VLOOKUP(#REF!,[1]Sheet1!$A:$N,U$2,FALSE),\"\"),\"\")","v":{"$error":"#REF!"}},null,null,"D","D J B","1x",{"$f":"IF(R73<>0,LEFT(Z73,1),0)*1","v":0},"500 m"]
[{"$f":"D74&#REF!","v":{"$error":"#REF!"}},{"$f":"OFFSET(B74,-1,0)","v":1},"Søn 02.09",202,null,{"$f":"OFFSET(F74,-1,0)","v":"1020"},null,null,null,null,null,null,null,60,3,null,null,1,null,null,{"$f":"IF(#REF!=1,IFERROR(VLOOKUP(#REF!,[1]Sheet1!$A:$N,U$2,FALSE),\"\"),\"\")","v":{"$error":"#REF!"}},null,null,"D","D J B","1x",null,"500 m","Bærum Roklubb","Tuva Skatt Gillebo","09:00",275,null,"Bærum Roklubb","Nei",null,"17.10.2002","Ja","K171002TUV03","6101180",null,"Bærum Roklubb","Bente Dingen","45411863","bente.dingen@lundin-norway.no","22.08.2018"]
[{"$f":"D75&#REF!","v":{"$error":"#REF!"}},1,"Søn 02.09",202,null,"1020",null,null,null,null,null,null,null,60,3,null,null,2,null,null,{"$f":"IF(#REF!=1,IFERROR(VLOOKUP(#REF!,[1]Sheet1!$A:$N,U$2,FALSE),\"\"),\"\")","v":{"$error":"#REF!"}},null,null,"D","D J B","1x",null,"500 m","Christiania Roklub","Martine Nesse","09:00",275,null,"Christiania Roklub","Nei",null,"31.03.2003","Ja","K310303MAR02","7896615","06.03.2018","Christiania Roklub","Grete Isachsen Stokke","91338845","greteistokke@hotmail.com;grisach@gmail.com","22.08.2018"]
[{"$f":"D76&R74","v":"2021"},1,"Søn 02.09",202,null,"1020",null,null,null,null,null,null,null,60,3,null,null,3,null,null,{"$f":"IF(#REF!=1,IFERROR(VLOOKUP(#REF!,[1]Sheet1!$A:$N,U$2,FALSE),\"\"),\"\")","v":{"$error":"#REF!"}},null,null,"D","D J B","1x",null,"500 m","Drammen Roklubb ","Victoria Linnéa Wikheim Lang","09:00",275,null,"Drammen Roklubb ","Nei",null,"22.01.2002","Ja","K220102VIC04","8199687","12.03.2018","Drammen Roklubb ",null,"90660478","beatepharo@gmail.com","21.08.2018"]
["2022",1,"Søn 02.09",202,null,"1020",null,null,null,null,null,null,null,60,3,null,null,4,null,null,{"$f":"IF(#REF!=1,IFERROR(VLOOKUP(#REF!,[1]Sheet1!$A:$N,U$2,FALSE),\"\"),\"\")","v":{"$error":"#REF!"}},null,null,"D","D J B","1x",null,"500 m","Norske Studenters Roklub","Marie Glomnes Rudi","09:00",275,null,"Norske Studenters Roklub","Nei",null,"25.07.2003","Ja","K250703MAR04","5247452","29.03.2018","Norske Studenters Roklub","Erik Juel","48039369","eri-juel@online.no","22.08.2018"]
["2023",1,"Søn 02.09",202,null,"1020",null,null,null,null,null,null,null,60,3,null,null,5,null,null,{"$f":"IF(#REF!=1,IFERROR(VLOOKUP(#REF!,[1]Sheet1!$A:$N,U$2,FALSE),\"\"),\"\")","v":{"$error":"#REF!"}},null,null,"D","D J B","1x",null,"500 m","Christiania Roklub","Vårin Fagerbakke","09:00",275,null,"Christiania Roklub","Nei",null,"01.01.2003","Ja","K010103VÅR01","7755151","06.03.2018","Christiania Roklub","Grete Isachsen Stokke","91338845","greteistokke@hotmail.com;grisach@gmail.com","22.08.2018"]
["2024",1,"Søn 02.09",202,null,"1020",null,null,null,null,null,null,null,21,2,null,null,6,null,null,{"$f":"IF(#REF!=1,IFERROR(VLOOKUP(#REF!,[1]Sheet1!$A:$N,U$2,FALSE),\"\"),\"\")","v":{"$error":"#REF!"}},null,null,"D","D J B","1x",null,"500 m","Norske Studenters Roklub","Fabia Dybwad Emblem","09:00",275,null,"Norske Studenters Roklub","Nei",null,"11.04.2003","Ja","K110403FAB02","6318695","29.03.2018","Norske Studenters Roklub","Erik Juel","48039369","eri-juel@online.no","22.08.2018"]
["2025",1,"Søn 02.09",202,null,"1020",null,null,null,null,null,null,null,29,2,null,null,7,null,null,{"$f":"IF(#REF!=1,IFERROR(VLOOKUP(#REF!,[1]Sheet1!$A:$N,U$2,FALSE),\"\"),\"\")","v":{"$error":"#REF!"}},null,null,"D","D J B","1x",null,"500 m","Sarpsborg Roklubb - Roing","Fatima Vakili","09:00",275,null,"Sarpsborg Roklubb - Roing","Nei",null,"20.10.2002","Ja","K201002FAT01","6772620","22.03.2018","Sarpsborg Roklubb - Roing","Thomas Gundersen","91874904","Thomas.gundersen@afgruppen.no;thomas.gundersen@afgruppen.no","22.08.2018"]
["2026",1,"Søn 02.09",202,null,"1020",null,null,null,null,null,null,null,31,2,null,null,8,null,null,{"$f":"IF(#REF!=1,IFERROR(VLOOKUP(#REF!,[1]Sheet1!$A:$N,U$2,FALSE),\"\"),\"\")","v":{"$error":"#REF!"}},null,null,"D","D J B","1x",null,"500 m","Norske Studenters Roklub","Nora Vikesland Skou","09:00",275,null,"Norske Studenters Roklub","Nei",null,"28.08.2003","Ja","K280803NOR01","7850270","07.06.2018","Norske Studenters Roklub","Erik Juel","48039369","eri-juel@online.no","22.08.2018"]
["2027",1,"Søn 02.09",202,null,"1020",null,null,null,null,null,null,null,60,2,null,null,9,null,null,{"$f":"IF(#REF!=1,IFERROR(VLOOKUP(#REF!,[1]Sheet1!$A:$N,U$2,FALSE),\"\"),\"\")","v":{"$error":"#REF!"}},null,null,"D","D J B","1x",null,"500 m","Aalesunds Roklub","Karoline Berset","09:00",275,null,"Aalesunds Roklub","Nei",null,"01.11.2002","Ja","K011102KAR02",7811195,"13.04.2018","Aalesunds Roklub","Johan Myklebust","90894714","johan.myklebust@nordea.no","21.08.2018"]
["2028",1,"Søn 02.09",202,null,"1020",null,null,null,null,null,null,null,26,2,null,null,10,null,null,{"$f":"IF(#REF!=1,IFERROR(VLOOKUP(#REF!,[1]Sheet1!$A:$N,U$2,FALSE),\"\"),\"\")","v":{"$error":"#REF!"}},null,null,"D","D J B","1x",null,"500 m","Norske Studenters Roklub","Ella Irgens Standley","09:00",275,null,"Norske Studenters Roklub","Nei",null,"17.01.2003","Ja","K170103ELL06","8208728","07.06.2018","Norske Studenters Roklub","Erik Juel","48039369","eri-juel@online.no","22.08.2018"]
["2029",1,"Søn 02.09",202,null,"1020",null,null,null,null,null,null,null,8,1,null,null,11,null,null,{"$f":"IF(#REF!=1,IFERROR(VLOOKUP(#REF!,[1]Sheet1!$A:$N,U$2,FALSE),\"\"),\"\")","v":{"$error":"#REF!"}},null,null,"D","D J B","1x",null,"500 m","Aalesunds Roklub","Olida Nesset","09:00",275,null,"Aalesunds Roklub","Nei",null,"05.02.2002","Ja","K050202OLI01","5934237","30.05.2018","Aalesunds Roklub","Johan Myklebust","90894714","johan.myklebust@nordea.no","21.08.2018"]
["20210",1,"Søn 02.09",202,null,"1020",null,null,null,null,null,null,null,6,1,null,null,12,null,null,{"$f":"IF(#REF!=1,IFERROR(VLOOKUP(#REF!,[1]Sheet1!$A:$N,U$2,FALSE),\"\"),\"\")","v":{"$error":"#REF!"}},null,null,"D","D J B","1x",null,"500 m","Christiania Roklub","Nicoline Lovise Lindstrøm","09:00",275,null,"Christiania Roklub","Nei",null,"25.09.2002","Ja","K250902NIC02","8247202","14.05.2018","Christiania Roklub","Grete Isachsen Stokke","91338845","greteistokke@hotmail.com;grisach@gmail.com","22.08.2018"]
["20211",1,"Søn 02.09",202,null,"1020",null,null,null,null,null,null,null,4,1,null,null,13,null,null,{"$f":"IF(#REF!=1,IFERROR(VLOOKUP(#REF!,[1]Sheet1!$A:$N,U$2,FALSE),\"\"),\"\")","v":{"$error":"#REF!"}},null,null,"D","D J B","1x",null,"500 m","Norske Studenters Roklub","Sara Sverdrup-Thygeson","09:00",275,null,"Norske Studenters Roklub","Nei",null,"23.08.2002","Ja","K230802SAR02","7321246","29.03.2018","Norske Studenters Roklub","Erik Juel","48039369","eri-juel@online.no","22.08.2018"]
["20212",1,"Søn 02.09",202,null,"1020",null,null,null,null,null,null,null,1,1,null,null,14,null,null,{"$f":"IF(#REF!=1,IFERROR(VLOOKUP(#REF!,[1]Sheet1!$A:$N,U$2,FALSE),\"\"),\"\")","v":{"$error":"#REF!"}},null,null,"D","D J B","1x",null,"500 m","Horten Roklubb","Henrikke Enstad Haraldseth","09:00",275,null,"Horten Roklubb","Nei",null,"01.04.2003","Ja","K010403HEN02","4996831","12.04.2018","Horten Roklubb","Bjørn-Inge Pettersen","93280397","pettersen.bjorn.inge@gmail.com","22.08.2018"]
["20213",1,"Søn 02.09",202,null,"1020",null,null,null,null,null,null,null,15,1,null,null,15,null,null,{"$f":"IF(#REF!=1,IFERROR(VLOOKUP(#REF!,[1]Sheet1!$A:$N,U$2,FALSE),\"\"),\"\")","v":{"$error":"#REF!"}},null,null,"D","D J B","1x",null,"500 m","Aalesunds Roklub","Helle Andreassen","09:00",275,null,"Aalesunds Roklub","Nei",null,"28.10.2003","Ja","K281003HEL05","6860116","30.05.2018","Aalesunds Roklub","Johan Myklebust","90894714","johan.myklebust@nordea.no","21.08.2018"]
["20214",1,"Søn 02.09",202,null,"1020",null,null,null,null,null,null,null,13,1,null,null,16,null,null,{"$f":"IF(#REF!=1,IFERROR(VLOOKUP(#REF!,[1]Sheet1!$A:$N,U$2,FALSE),\"\"),\"\")","v":{"$error":"#REF!"}},null,null,"D","D J B","1x",null,"500 m","Bærum Roklubb","Ida Moberg Værnes","09:00",275,null,"Bærum Roklubb","Nei",null,"22.05.2002","Ja","M220502IDA01","6806491",null,"Bærum Roklubb","Bente Dingen","45411863","bente.dingen@lundin-norway.no","21.08.2018"]
["20115",1,"Søn 02.09",201,null,{"$f":"VLOOKUP($D90,Tidsplan!$B:$D,3,FALSE)","v":"1000"},{"$f":"VLOOKUP($D90,Tidsplan!$B:$D,2,FALSE)","v":""},null,null,null,null,null,null,null,null,"K",null,0,".",".",{"$f":"IF(#REF!=1,IFERROR(VLOOKUP(#REF!,[1]Sheet1!$A:$N,U$2,FALSE),\"\"),\"\")","v":{"$error":"#REF!"}},null,null,"H","H J B","1x",{"$f":"IF(R88<>0,LEFT(Z90,1),0)*1","v":1},"500 m"]
["20116",{"$f":"OFFSET(B91,-1,0)","v":1},"Søn 02.09",201,null,{"$f":"OFFSET(F91,-1,0)","v":"1000"},null,null,null,null,null,null,null,60,null,null," "," ",null,null,{"$f":"IF(#REF!=1,IFERROR(VLOOKUP(#REF!,[1]Sheet1!$A:$N,U$2,FALSE),\"\"),\"\")","v":{"$error":"#REF!"}},null,null,"H","H J B","1x",null,"500 m","Christiania Roklub","Elias Mahler","09:00",275,null,"Christiania Roklub","Nei",null,"22.12.2002","Ja","M221202ELI02","4671202",null,"Ukjent/ikke registrert klubb","Grete Isachsen Stokke","91338845","greteistokke@hotmail.com;grisach@gmail.com","22.08.2018"]
["2010",1,"Søn 02.09",201,null,"1000",null,null,null,null,null,null,null,60,null,null,4,1,null,null,{"$f":"IF(#REF!=1,IFERROR(VLOOKUP(#REF!,[1]Sheet1!$A:$N,U$2,FALSE),\"\"),\"\")","v":{"$error":"#REF!"}},null,null,"H","H J B","1x",null,"500 m","Norske Studenters Roklub","Axel Woxen","09:00",275,null,"Norske Studenters Roklub","Nei",null,"16.12.2003","Ja","M161203AXE03","8133394",null,"Norske Studenters Roklub","Erik Juel","48039369","eri-juel@online.no","22.08.2018"]
["201 ",1,"Søn 02.09",201,null,"1000",null,null,null,null,null,null,null,60,null,null,4,2,null,null,{"$f":"IF(#REF!=1,IFERROR(VLOOKUP(#REF!,[1]Sheet1!$A:$N,U$2,FALSE),\"\"),\"\")","v":{"$error":"#REF!"}},null,null,"H","H J B","1x",null,"500 m","Drammen Roklubb ","Christian Juven Brandt","09:00",275,null,"Drammen Roklubb ","Nei",null,"16.09.2003","Ja","M160903CHR01","4573154","10.04.2018","Drammen Roklubb ",null,"90660478","beatepharo@gmail.com","21.08.2018"]
["2013",1,"Søn 02.09",201,null,"1000",null,null,null,null,null,null,null,54,null,null,4,3,null,null,{"$f":"IF(#REF!=1,IFERROR(VLOOKUP(#REF!,[1]Sheet1!$A:$N,U$2,FALSE),\"\"),\"\")","v":{"$error":"#REF!"}},null,null,"H","H J B","1x",null,"500 m","Norske Studenters Roklub","Jack Schønberg","09:00",275,null,"Norske Studenters Roklub","Nei",null,"01.01.2003","Ja","M010103JAC04","8247213","07.06.2018","Norske Studenters Roklub","Erik Juel","48039369","eri-juel@online.no","22.08.2018"]
["2014",1,"Søn 02.09",201,null,"1000",null,null,null,null,null,null,null,60,null,null,4,4,null,null,{"$f":"IF(#REF!=1,IFERROR(VLOOKUP(#REF!,[1]Sheet1!$A:$N,U$2,FALSE),\"\"),\"\")","v":{"$error":"#REF!"}},null,null,"H","H J B","1x",null,"500 m","Drammen Roklubb ","Johan Sebastian Remmen","09:00",275,null,"Drammen Roklubb ","Nei",null,"14.07.2003","Ja","M140703JOH03","6131539","12.03.2018","Drammen Roklubb ",null,"90660478","beatepharo@gmail.com","21.08.2018"]
["2015",1,"Søn 02.09",201,null,"1000",null,null,null,null,null,null,null,55,null,null,4,5,null,null,{"$f":"IF(#REF!=1,IFERROR(VLOOKUP(#REF!,[1]Sheet1!$A:$N,U$2,FALSE),\"\"),\"\")","v":{"$error":"#REF!"}},null,null,"H","H J B","1x",null,"500 m","Norske Studenters Roklub","Knut Wang Melbye","09:00",275,null,"Norske Studenters Roklub","Nei",null,"29.06.2002","Ja","M290602KNU03","8137181","29.03.2018","Norske Studenters Roklub","Erik Juel","48039369","eri-juel@online.no","22.08.2018"]
["2016",1,"Søn 02.09",201,null,"1000",null,null,null,null,null,null,null,60,null,null,4,6,null,null,{"$f":"IF(#REF!=1,IFERROR(VLOOKUP(#REF!,[1]Sheet1!$A:$N,U$2,FALSE),\"\"),\"\")","v":{"$error":"#REF!"}},null,null,"H","H J B","1x",null,"500 m","Drammen Roklubb ","Christian Juven Brandt","09:00",275,null,"Drammen Roklubb ","Nei",null,"16.09.2003","Ja","M160903CHR01","4573154","10.04.2018","Drammen Roklubb ",null,"90660478","beatepharo@gmail.com","21.08.2018"]
["2017",1,"Søn 02.09",201,null,"1000",null,null,null,null,null,null,null,39,null,null,3,7,null,null,{"$f":"IF(#REF!=1,IFERROR(VLOOKUP(#REF!,[1]Sheet1!$A:$N,U$2,FALSE),\"\"),\"\")","v":{"$error":"#REF!"}},null,null,"H","H J B","1x",null,"500 m","Tønsberg Roklub","Tobias Solvang","09:00",275,null,"Tønsberg Roklub","Nei",null,"30.05.2003","Ja","M300503TOB07","7014841","13.04.2018","Tønsberg Roklub",null,"92061715","svendandersen@me.com","21.08.2018"]
["2018",1,"Søn 02.09",201,null,"1000",null,null,null,null,null,null,null,33,null,null,3,8,null,null,{"$f":"IF(#REF!=1,IFERROR(VLOOKUP(#REF!,[1]Sheet1!$A:$N,U$2,FALSE),\"\"),\"\")","v":{"$error":"#REF!"}},null,null,"H","H J B","1x",null,"500 m","Drammen Roklubb ","Sebastian Mejer Rasmussen","09:00",275,null,"Drammen Roklubb ","Nei",null,"14.04.2003","Ja","M140403SEB06","7310627","12.03.2018","Drammen Roklubb ",null,"90660478","beatepharo@gmail.com","21.08.2018"]
["2019",1,"Søn 02.09",201,null,"1000",null,null,null,null,null,null,null,31,null,null,3,9,null,null,{"$f":"IF(#REF!=1,IFERROR(VLOOKUP(#REF!,[1]Sheet1!$A:$N,U$2,FALSE),\"\"),\"\")","v":{"$error":"#REF!"}},null,null,"H","H J B","1x",null,"500 m","Tønsberg Roklub","Tobias Kjersem Larsen","09:00",275,null,"Tønsberg Roklub","Nei",null,"15.09.2003","Ja","M150903TOB06","7936549",null,"Tønsberg Roklub",null,"92061715","svendandersen@me.com","21.08.2018"]
["20110",1,"Søn 02.09",201,null,"1000",null,null,null,null,null,null,null,35,null,null,3,10,null,null,{"$f":"IF(#REF!=1,IFERROR(VLOOKUP(#REF!,[1]Sheet1!$A:$N,U$2,FALSE),\"\"),\"\")","v":{"$error":"#REF!"}},null,null,"H","H J B","1x",null,"500 m","Moss Roklubb","Viktor Rekstad","09:00",275,null,"Moss Roklubb","Nei",null,"29.01.2003","Ja","M290103VIK01","5993278","22.03.2018","Moss Roklubb","Jon Rekstad","92252667","rekstad0@gmail.com","22.08.2018"]
["20111",1,"Søn 02.09",201,null,"1000",null,null,null,null,null,null,null,41,null,null,3,11,null,null,{"$f":"IF(#REF!=1,IFERROR(VLOOKUP(#REF!,[1]Sheet1!$A:$N,U$2,FALSE),\"\"),\"\")","v":{"$error":"#REF!"}},null,null,"H","H J B","1x",null,"500 m","Bærum Roklubb","Anders Grøgård","09:00",275,null,"Bærum Roklubb","Nei",null,"20.06.2003","Ja","M200603AND02","8075279","02.05.2018","Bærum Roklubb","Bente Dingen","45411863","bente.dingen@lundin-norway.no","21.08.2018"]
["20112",1,"Søn 02.09",201,null,"1000",null,null,null,null,null,null,null,27,null,null,2,12,null,null,{"$f":"IF(#REF!=1,IFERROR(VLOOKUP(#REF!,[1]Sheet1!$A:$N,U$2,FALSE),\"\"),\"\")","v":{"$error":"#REF!"}},null,null,"H","H J B","1x",null,"500 m","Christiania Roklub","Åsmund Sand-Larsen","09:00",275,null,"Christiania Roklub","Nei",null,"15.10.2002","Ja","M151002ÅSM01","4513284","06.03.2018","Christiania Roklub","Grete Isachsen Stokke","91338845","greteistokke@hotmail.com;grisach@gmail.com","22.08.2018"]
["20113",1,"Søn 02.09",201,null,"1000",null,null,null,null,null,null,null,25,null,null,2,13,null,null,{"$f":"IF(#REF!=1,IFERROR(VLOOKUP(#REF!,[1]Sheet1!$A:$N,U$2,FALSE),\"\"),\"\")","v":{"$error":"#REF!"}},null,null,"H","H J B","1x",null,"500 m","Sarpsborg Roklubb - Roing","Philip Draget","09:00",275,null,"Sarpsborg Roklubb - Roing","Nei",null,"17.04.2002","Ja","M170402PHI02","6387522","22.03.2018","Sarpsborg Roklubb - Roing","Thomas Gundersen","91874904","Thomas.gundersen@afgruppen.no;thomas.gundersen@afgruppen.no","22.08.2018"]
["20114",1,"Søn 02.09",201,null,"1000",null,null,null,null,null,null,null,24,null,null,2,14,null,null,{"$f":"IF(#REF!=1,IFERROR(VLOOKUP(#REF!,[1]Sheet1!$A:$N,U$2,FALSE),\"\"),\"\")","v":{"$error":"#REF!"}},null,null,"H","H J B","1x",null,"500 m","Moss Roklubb","Simen Solbakken-Thømt","09:00",275,null,"Moss Roklubb","Nei",null,"17.05.2002","Ja","M170502SIM07","7189809","22.03.2018","Moss Roklubb","Jon Rekstad","92252667","rekstad0@gmail.com","22.08.2018"]
["20115",1,"Søn 02.09",201,null,"1000",null,null,null,null,null,null,null,23,null,null,2,15,null,null,{"$f":"IF(#REF!=1,IFERROR(VLOOKUP(#REF!,[1]Sheet1!$A:$N,U$2,FALSE),\"\"),\"\")","v":{"$error":"#REF!"}},null,null,"H","H J B","1x",null,"500 m","Horten Roklubb","Kasper Bruun Frantzen","09:00",275,null,"Horten Roklubb","Nei",null,"03.02.2003","Ja","M030203KAS03","6159104","12.04.2018","Horten Roklubb","Bjørn-Inge Pettersen","93280397","pettersen.bjorn.inge@gmail.com","22.08.2018"]
["20116",1,"Søn 02.09",201,null,"1000",null,null,null,null,null,null,null,26,null,null,2,16,null,null,{"$f":"IF(#REF!=1,IFERROR(VLOOKUP(#REF!,[1]Sheet1!$A:$N,U$2,FALSE),\"\"),\"\")","v":{"$error":"#REF!"}},null,null,"H","H J B","1x",null,"500 m","Moss Roklubb","Simen Dørre","09:00",275,null,"Moss Roklubb","Nei",null,"01.04.2003","Ja","M010403SIM03","7261136","22.03.2018","Moss Roklubb","Jon Rekstad","92252667","rekstad0@gmail.com","22.08.2018"]
["20117",1,"Søn 02.09",201,null,"1000",null,null,null,null,null,null,null,29,null,null,2,17,null,null,{"$f":"IF(#REF!=1,IFERROR(VLOOKUP(#REF!,[1]Sheet1!$A:$N,U$2,FALSE),\"\"),\"\")","v":{"$error":"#REF!"}},null,null,"H","H J B","1x",null,"500 m","Drammen Roklubb ","Ulrik Pharo Lohne","09:00",275,null,"Drammen Roklubb ","Nei",null,"09.05.2004","Nei","M090504ULR01","5057646","12.03.2018","Drammen Roklubb ",null,"90660478","beatepharo@gmail.com","21.08.2018"]
["20118",1,"Søn 02.09",201,null,"1000",null,null,null,null,null,null,null,18,null,null,1,18,null,null,{"$f":"IF(#REF!=1,IFERROR(VLOOKUP(#REF!,[1]Sheet1!$A:$N,U$2,FALSE),\"\"),\"\")","v":{"$error":"#REF!"}},null,null,"H","H J B","1x",null,"500 m","Drammen Roklubb ","Jonas Willand-Evensen","09:00",275,null,"Drammen Roklubb ","Nei",null,"30.08.2003","Ja","M300803JON01","4879656","12.03.2018","Drammen Roklubb ",null,"90660478","beatepharo@gmail.com","21.08.2018"]
["20119",1,"Søn 02.09",201,null,"1000",null,null,null,null,null,null,null,9,null,null,1,19,null,null,{"$f":"IF(#REF!=1,IFERROR(VLOOKUP(#REF!,[1]Sheet1!$A:$N,U$2,FALSE),\"\"),\"\")","v":{"$error":"#REF!"}},null,null,"H","H J B","1x",null,"500 m","Sarpsborg Roklubb - Roing","Oliver Andreas Melnes","09:00",275,null,"Sarpsborg Roklubb - Roing","Nei",null,"24.02.2002","Ja","M240202OLI01","7448632",null,"Sarpsborg Roklubb - Roing","Thomas Gundersen","91874904","Thomas.gundersen@afgruppen.no;thomas.gundersen@afgruppen.no","22.08.2018"]
["20120",1,"Søn 02.09",201,null,"1000",null,null,null,null,null,null,null,1,null,null,1,20,null,null,{"$f":"IF(#REF!=1,IFERROR(VLOOKUP(#REF!,[1]Sheet1!$A:$N,U$2,FALSE),\"\"),\"\")","v":{"$error":"#REF!"}},null,null,"H","H J B","1x",null,"500 m","Haldens Roklub","Haakon Elias Solli Borge","09:00",275,null,"Haldens Roklub","Nei",null,"21.02.2002","Ja","M210202HAA02","5006685","13.04.2018","Haldens Roklub",null,"91725846","oskarvanetten@gmail.com","22.08.2018"]
["20121",1,"Søn 02.09",201,null,"1000",null,null,null,null,null,null,null,4,null,null,1,21,null,null,{"$f":"IF(#REF!=1,IFERROR(VLOOKUP(#REF!,[1]Sheet1!$A:$N,U$2,FALSE),\"\"),\"\")","v":{"$error":"#REF!"}},null,null,"H","H J B","1x",null,"500 m","Sarpsborg Roklubb - Roing","Håkon Grønberg Møller","09:00",275,null,"Sarpsborg Roklubb - Roing","Nei",null,"22.12.2002","Ja","M221202HÅK01","6848301","22.03.2018","Sarpsborg Roklubb - Roing","Thomas Gundersen","91874904","Thomas.gundersen@afgruppen.no;thomas.gundersen@afgruppen.no","22.08.2018"]
["20122",1,"Søn 02.09",201,null,"1000",null,null,null,null,null,null,null,14,null,null,1,22,null,null,{"$f":"IF(#REF!=1,IFERROR(VLOOKUP(#REF!,[1]Sheet1!$A:$N,U$2,FALSE),\"\"),\"\")","v":{"$error":"#REF!"}},null,null,"H","H J B","1x",null,"500 m","Drammen Roklubb ","Hampus Westerberg-Heltne","09:00",275,null,"Drammen Roklubb ","Nei",null,"07.02.2003","Ja","M070203HAM03","6756072","12.03.2018","Drammen Roklubb ",null,"90660478","beatepharo@gmail.com","21.08.2018"]
["20123",1,"Søn 02.09",201,null,"1000",null,null,null,null,null,null,null,20,null,null,1,23,null,null,{"$f":"IF(#REF!=1,IFERROR(VLOOKUP(#REF!,[1]Sheet1!$A:$N,U$2,FALSE),\"\"),\"\")","v":{"$error":"#REF!"}},null,null,"H","H J B","1x",null,"500 m","Sarpsborg Roklubb - Roing","Majlind Begaj","09:00",275,null,"Sarpsborg Roklubb - Roing","Nei",null,"30.04.2002","Ja","M300402MAJ01","6977105","22.03.2018","Sarpsborg Roklubb - Roing","Thomas Gundersen","91874904","Thomas.gundersen@afgruppen.no;thomas.gundersen@afgruppen.no","22.08.2018"]
[null,null,null,null,null,null,null,null,null,null,null,null,null,null,null,null,null," ",null,null,{"$f":"IF(#REF!=1,IFERROR(VLOOKUP(#REF!,[1]Sheet1!$A:$N,U$2,FALSE),\"\"),\"\")","v":{"$error":"#REF!"}}]
[{"$f":"D116&R116","v":"8"},{"$f":"OFFSET(B116,-1,0)","v":0},"Søn 28.8",null,null,null,null,null,null,null,null,null,null,null,null,null,null,8,null,null,{"$f":"IF(#REF!=1,IFERROR(VLOOKUP(#REF!,[1]Sheet1!$A:$N,U$2,FALSE),\"\"),\"\")","v":{"$error":"#REF!"}},null,null,null,null,null,{"$f":"IF(R116<>0,LEFT(Z116,1),0)*1","v":{"$error":"#VALUE!"}},null,null,null,null,null,null,null,null,null,null,null,null,null,null,null,null,null,null,null,null,null,null,null,null,10]
[null,null,"Søn 28.8",null,null,null,null,null,null,null,null,null,null,null,null,null,null,9,null,null,{"$f":"IF(#REF!=1,IFERROR(VLOOKUP(#REF!,[1]Sheet1!$A:$N,U$2,FALSE),\"\"),\"\")","v":{"$error":"#REF!"}},null,null,null,null,null,{"$f":"IF(R117<>0,LEFT(Z117,1),0)*1","v":{"$error":"#VALUE!"}},null,null,null,null,null,null,null,null,null,null,null,null,null,null,null,null,null,null,null,null,null,null,null,null,11]
[null,null,null,null,null,null,null,null,null,null,null,null,null,null,null,null,null,null,null,null,{"$f":"IF(#REF!=1,IFERROR(VLOOKUP(#REF!,[1]Sheet1!$A:$N,U$2,FALSE),\"\"),\"\")","v":{"$error":"#REF!"}}]
["2030",1,"Søn 02.09",203,null,"1200","",null,null,null,null,null,null,null," ",null,null,0,null,null,{"$f":"IF(#REF!=1,IFERROR(VLOOKUP(#REF!,[1]Sheet1!$A:$N,U$2,FALSE),\"\"),\"\")","v":{"$error":"#REF!"}},null,null,"D/H","Nybeg","Åpen",0,500]
[{"$f":"D120&R121","v":"2032"},{"$f":"OFFSET(B120,-1,0)","v":1},"Søn 02.09",203,null,{"$f":"OFFSET(F120,-1,0)","v":"1200"},null,null,null,null,null,null,null,4.6391413801592174E-2,null,null,1,1,null,null,{"$f":"IF(#REF!=1,IFERROR(VLOOKUP(#REF!,[1]Sheet1!$A:$N,U$2,FALSE),\"\"),\"\")","v":{"$error":"#REF!"}},null,null,"Åpen","Åpen nybegynner","1x",null,"500 m","Sarpsborg Roklubb - Roing","Aurora Begaj","09:00",150,null,"Sarpsborg Roklubb - Roing","Nei",null,"24.09.2006",null,"K240906AUR03","6895451","22.03.2018","Sarpsborg Roklubb - Roing","Thomas Gundersen","91874904","Thomas.gundersen@afgruppen.no;thomas.gundersen@afgruppen.no","22.08.2018"]
["2033",null,"Lør 01.09",203,null,"1200",null,null,null,null,null,null,null,5.9212554943524287E-2,null,null,1,2,null,null,{"$f":"IF(#REF!=1,IFERROR(VLOOKUP(#REF!,[1]Sheet1!$A:$N,U$2,FALSE),\"\"),\"\")","v":{"$error":"#REF!"}},null,null,"Åpen","Åpen nybegynner","1x",null,"500 m","Bærum Roklubb","Oliver Nilsen","09:00",150,null,"Bærum Roklubb","Nei",null,null,null,null,null,null,"Bærum Roklubb","Bente Dingen","45411863","bente.dingen@lundin-norway.no","20.08.2018"]
["2034",{"$f":"OFFSET(B122,-1,0)","v":0},"Søn 02.09",203,null,"1200",null,null,null,null,null,null,null,7.2381131876410265E-2,null,null,1,3,null,null,{"$f":"IF(#REF!=1,IFERROR(VLOOKUP(#REF!,[1]Sheet1!$A:$N,U$2,FALSE),\"\"),\"\")","v":{"$error":"#REF!"}},null,null,"Åpen","Åpen nybegynner","1x",null,"500 m","Sarpsborg Roklubb - Roing","Sondre Walen Jørgensen","09:00",150,null,"Sarpsborg Roklubb - Roing","Nei",null,"30.08.2002",null,"M300802SON04","6270267",null,"Sarpsborg Roklubb - Roing","Thomas Gundersen","91874904","Thomas.gundersen@afgruppen.no;thomas.gundersen@afgruppen.no","22.08.2018"]
["2035",0,"Søn 02.09",203,null,"1200",null,null,null,null,null,null,null,0.24636861842114033,null,null,1,4,null,null,{"$f":"IF(#REF!=1,IFERROR(VLOOKUP(#REF!,[1]Sheet1!$A:$N,U$2,FALSE),\"\"),\"\")","v":{"$error":"#REF!"}},null,null,"Åpen","Åpen nybegynner","2x",null,"500 m","Aalesunds Roklub","Tuva-Josefine Bjørkedal-Engeset\nNatalie Grønnevik","09:00",150,null,"Aalesunds Roklub","Nei",null,null,null,null,null,null,"Aalesunds Roklub","Johan Myklebust","90894714","johan.myklebust@nordea.no","21.08.2018"]
["2036",0,"Søn 02.09",203,null,"1200",null,null,null,null,null,null,null,0.22565003840671227,null,null,1,5,null,null,{"$f":"IF(#REF!=1,IFERROR(VLOOKUP(#REF!,[1]Sheet1!$A:$N,U$2,FALSE),\"\"),\"\")","v":{"$error":"#REF!"}},null,null,"Åpen","Åpen nybegynner","1x",null,"500 m","Bærum Roklubb","Våle Koss-Russar","09:00",150,null,"Bærum Roklubb","Nei",null,"28.09.2004",null,"M280904VÅL03","8162101",null,"Bærum Roklubb","Bente Dingen","45411863","bente.dingen@lundin-norway.no","20.08.2018"]
["2037",0,"Søn 02.09",203,null,"1200",null,null,null,null,null,null,null,0.18999208899589748,null,null,2,6,null,null,{"$f":"IF(#REF!=1,IFERROR(VLOOKUP(#REF!,[1]Sheet1!$A:$N,U$2,FALSE),\"\"),\"\")","v":{"$error":"#REF!"}},null,null,"Åpen","Åpen nybegynner","1x",null,"500 m","Sarpsborg Roklubb - Roing","Pia Antonsen Thime","09:00",150,null,"Sarpsborg Roklubb - Roing","Nei",null,"14.09.2007",null,"K140907PIA01","7920500","22.03.2018","Sarpsborg Roklubb - Roing","Thomas Gundersen","91874904","Thomas.gundersen@afgruppen.no;thomas.gundersen@afgruppen.no","22.08.2018"]
["2038",0,"Søn 02.09",203,null,"1200",null,null,null,null,null,null,null,0.55370695428865546,null,null,2,7,null,null,{"$f":"IF(#REF!=1,IFERROR(VLOOKUP(#REF!,[1]Sheet1!$A:$N,U$2,FALSE),\"\"),\"\")","v":{"$error":"#REF!"}},null,null,"Åpen","Åpen nybegynner","2x",null,"500 m","Haldens Roklub","Kari Midtuen Lie\nSara Holm Pettersen",null,null,null,"Haldens Roklub","Nei"]
["2039",0,"Søn 02.09",203,null,"1200",null,null,null,null,null,null,null,0.98633957322027588,null,null,2,8,null,null,{"$f":"IF(#REF!=1,IFERROR(VLOOKUP(#REF!,[1]Sheet1!$A:$N,U$2,FALSE),\"\"),\"\")","v":{"$error":"#REF!"}},null,null,"Åpen","Åpen nybegynner","2x",null,"500 m","Ormsund Roklub","Alva Reykdal\nArthur Kaltenborn","09:00",150,null,"Ormsund Roklub","Nei",null,"22.07.2006",null,"K220706ALV01","5812861","06.04.2018","Ormsund Roklub","Eva Hansen","90799966","eva.hansen@wenaasnordic.com","22.08.2018"]
["203 ",0,"Søn 02.09",203,null,"1200",null,null,null,null,null,null,null,0.14512480602456235,null,null,2,9,null,null,{"$f":"IF(#REF!=1,IFERROR(VLOOKUP(#REF!,[1]Sheet1!$A:$N,U$2,FALSE),\"\"),\"\")","v":{"$error":"#REF!"}},null,null,"Åpen","Åpen nybegynner","1x",null,"500 m","Sarpsborg Roklubb - Roing","Naberd Bakir Mustafa","09:00",150,null,"Sarpsborg Roklubb - Roing","Nei",null,"21.07.2006",null,"M210706NAB01","7920489","22.03.2018","Sarpsborg Roklubb - Roing","Thomas Gundersen","91874904","Thomas.gundersen@afgruppen.no;thomas.gundersen@afgruppen.no","22.08.2018"]
[null,null,null,null,null,null,null,null,null,null,null,null,null,0.45910899172739794,null,null,null," ",null,null,{"$f":"IF(#REF!=1,IFERROR(VLOOKUP(#REF!,[1]Sheet1!$A:$N,U$2,FALSE),\"\"),\"\")","v":{"$error":"#REF!"}}]
["2040",1,"Søn 02.09",204,null,"1205","",null,null,null,null,null,null,0.15573042640460821,"",null,null,0,null,null,{"$f":"IF(#REF!=1,IFERROR(VLOOKUP(#REF!,[1]Sheet1!$A:$N,U$2,FALSE),\"\"),\"\")","v":{"$error":"#REF!"}},null,null,"D/H","D J D","1x",0,"500 m"]
[{"$f":"D131&#REF!","v":{"$error":"#REF!"}},{"$f":"OFFSET(B131,-1,0)","v":1},"Søn 02.09",204,null,{"$f":"OFFSET(F131,-1,0)","v":"1205"},null,null,null,null,null,null,null,1.9857456934876061E-2,null,null,1,1,null,null,{"$f":"IF(#REF!=1,IFERROR(VLOOKUP(#REF!,[1]Sheet1!$A:$N,U$2,FALSE),\"\"),\"\")","v":{"$error":"#REF!"}},null,null,"D/H","H J D","1x",null,"500 m","Aalesunds Roklub","Mads Reite","09:00",150,null,"Aalesunds Roklub","Nei",null,null,null,null,null,null,"Aalesunds Roklub","Johan Myklebust","90894714","johan.myklebust@nordea.no","21.08.2018"]
[{"$f":"D132&R132","v":"2042"},1,"Søn 02.09",204,null,"1205",null,null,null,null,null,null,null,2.4655299265473052E-2,null,null,1,2,null,null,{"$f":"IF(#REF!=1,IFERROR(VLOOKUP(#REF!,[1]Sheet1!$A:$N,U$2,FALSE),\"\"),\"\")","v":{"$error":"#REF!"}},null,null,"D/H","H J D","1x",null,"500 m","Tønsberg Roklub","Erik Kyvik Sandvik","09:00",275,null,"Tønsberg Roklub","Nei",null,"07.09.2007",null,"M070907ERI02","6452187","01.05.2018","Tønsberg Roklub",null,"92061715","svendandersen@me.com","21.08.2018"]
["2043",1,"Søn 02.09",204,null,"1205",null,null,null,null,null,null,null,0.10998661866872861,null,null,1,3,null,null,{"$f":"IF(#REF!=1,IFERROR(VLOOKUP(#REF!,[1]Sheet1!$A:$N,U$2,FALSE),\"\"),\"\")","v":{"$error":"#REF!"}},null,null,"D/H","H J D","1x",null,"500 m","Aalesunds Roklub","Julie Nørve","09:00",150,null,"Aalesunds Roklub","Nei",null,null,null,null,null,null,"Aalesunds Roklub","Johan Myklebust","90894714","johan.myklebust@nordea.no","21.08.2018"]
["2064",1,"Søn 02.09",206,null,"1205",null,null,null,null,null,null,null,0.15383482608549537,null,null,1,4,null,null,{"$f":"IF(#REF!=1,IFERROR(VLOOKUP(#REF!,[1]Sheet1!$A:$N,U$2,FALSE),\"\"),\"\")","v":{"$error":"#REF!"}},null,null,"H","H J C","1x",null,"500 m","Norske Studenters Roklub","Mathis Grimstad","09:00",275,null,"Norske Studenters Roklub","Nei",null,"16.07.2006","Nei","M160706MAT02","5820353","22.06.2018","Norske Studenters Roklub","Erik Juel","48039369","eri-juel@online.no","22.08.2018"]
["2045",1,"Søn 02.09",204,null,"1205",null,null,null,null,null,null,null,0.16684788639941084,null,null,1,5,null,null,{"$f":"IF(#REF!=1,IFERROR(VLOOKUP(#REF!,[1]Sheet1!$A:$N,U$2,FALSE),\"\"),\"\")","v":{"$error":"#REF!"}},null,null,"D/H","H J D","1x",null,"500 m","Ormsund Roklub","Gabriel Lund","09:00",275,null,"Ormsund Roklub","Nei",null,"01.05.2006",null,"M010506GAB03","8030335","06.04.2018","Ormsund Roklub","Eva Hansen","90799966","eva.hansen@wenaasnordic.com","22.08.2018"]
["2066",1,"Søn 02.09",206,null,"1205",null,null,null,null,null,null,null,0.19198282751868312,null,null,1,6,null,null,{"$f":"IF(#REF!=1,IFERROR(VLOOKUP(#REF!,[1]Sheet1!$A:$N,U$2,FALSE),\"\"),\"\")","v":{"$error":"#REF!"}},null,null,"H","H J C","1x",null,"500 m","Norske Studenters Roklub","Sander Bjerke","09:00",275,null,"Norske Studenters Roklub","Nei",null,"20.01.2006","Nei","M010306SAN01","7266956","07.06.2018","Norske Studenters Roklub","Erik Juel","48039369","eri-juel@online.no","22.08.2018"]
["2047",1,"Søn 02.09",204,null,"1205",null,null,null,null,null,null,null,0.33467815775016119,null,null,2,7,null,null,{"$f":"IF(#REF!=1,IFERROR(VLOOKUP(#REF!,[1]Sheet1!$A:$N,U$2,FALSE),\"\"),\"\")","v":{"$error":"#REF!"}},null,null,"D/H","H J D","1x",null,"500 m","Moss Roklubb","Vincent Georg Erik Brooke","09:00",275,null,"Moss Roklubb","Nei",null,"20.06.2006",null,"M200606VIN03","5373415","22.03.2018","Moss Roklubb","Jon Rekstad","92252667","rekstad0@gmail.com","22.08.2018"]
["2048",1,"Søn 02.09",204,null,"1205",null,null,null,null,null,null,null,0.42603753467252925,null,null,2,8,null,null,{"$f":"IF(#REF!=1,IFERROR(VLOOKUP(#REF!,[1]Sheet1!$A:$N,U$2,FALSE),\"\"),\"\")","v":{"$error":"#REF!"}},null,null,"D/H","H J D","1x",null,"500 m","Sarpsborg Roklubb - Roing",null,"09:00",275,null,"Sarpsborg Roklubb - Roing","Nei",null,"13.04.2006",null,"K130406MAR07","8128455","22.03.2018","Sarpsborg Roklubb - Roing","Thomas Gundersen","91874904","Thomas.gundersen@afgruppen.no;thomas.gundersen@afgruppen.no","22.08.2018"]
["2049",1,"Søn 02.09",204,null,"1205",null,null,null,null,null,null,null,0.49811360984773689,null,null,2,9,null,null,{"$f":"IF(#REF!=1,IFERROR(VLOOKUP(#REF!,[1]Sheet1!$A:$N,U$2,FALSE),\"\"),\"\")","v":{"$error":"#REF!"}},null,null,"D/H","H J D","1x",null,"500 m","Haldens Roklub","Kari Midtuen Lie",null,null,null,"Haldens Roklub","Nei"]
["20410",1,"Søn 02.09",204,null,"1205",null,null,null,null,null,null,null,0.65808725491705133,null,null,2,10,null,null,{"$f":"IF(#REF!=1,IFERROR(VLOOKUP(#REF!,[1]Sheet1!$A:$N,U$2,FALSE),\"\"),\"\")","v":{"$error":"#REF!"}},null,null,"D/H","H J D","1x",null,"500 m","Moss Roklubb","Odin Frøisland","09:00",275,null,"Moss Roklubb","Nei",null,"11.08.2006",null,"M110806ODI02","5615654","12.05.2018","Moss Roklubb","Jon Rekstad","92252667","rekstad0@gmail.com","22.08.2018"]
["20411",1,"Søn 02.09",204,null,"1205",null,null,null,null,null,null,null,0.75175472234514484,null,null,2,11,null,null,{"$f":"IF(#REF!=1,IFERROR(VLOOKUP(#REF!,[1]Sheet1!$A:$N,U$2,FALSE),\"\"),\"\")","v":{"$error":"#REF!"}},null,null,"D/H","H J D","1x",null,"500 m","Aalesunds Roklub","Susanne Steffenssen Myklebust\n","09:00",150,null,"Aalesunds Roklub","Nei",null,null,null,null,null,null,"Aalesunds Roklub","Johan Myklebust","90894714","johan.myklebust@nordea.no","21.08.2018"]
["2060",1,"Søn 02.09",206,null,"1215","",null,null,null,null,null,null,0.8952091103733526," ",null,null,0," "," ",{"$f":"IF(#REF!=1,IFERROR(VLOOKUP(#REF!,[1]Sheet1!$A:$N,U$2,FALSE),\"\"),\"\")","v":{"$error":"#REF!"}},null,null,"H","H J C","1x",0,"500 m"]
[{"$f":"D143&R143","v":"2061"},{"$f":"OFFSET(B143,-1,0)","v":1},"Søn 02.09",206,null,{"$f":"OFFSET(F143,-1,0)","v":"1215"},null,null,null,null,null,null,null,1.6662427441193062E-3,null,null,1,1,null,null,{"$f":"IF(#REF!=1,IFERROR(VLOOKUP(#REF!,[1]Sheet1!$A:$N,U$2,FALSE),\"\"),\"\")","v":{"$error":"#REF!"}},null,null,"H","H J C","1x",null,"500 m","Bærum Roklubb","Ferdinand Tenden","09:00",275,null,"Bærum Roklubb","Nei",null,"25.02.2005","Ja","M250205FER01","5587277","05.08.2018","Bærum Roklubb","Bente Dingen","45411863","bente.dingen@lundin-norway.no","20.08.2018"]
["2062",1,"Søn 02.09",206,null,"1215",null,null,null,null,null,null,null,5.5879603551527768E-2,null,null,1,2,null,null,{"$f":"IF(#REF!=1,IFERROR(VLOOKUP(#REF!,[1]Sheet1!$A:$N,U$2,FALSE),\"\"),\"\")","v":{"$error":"#REF!"}},null,null,"H","H J C","1x",null,"500 m","Drammen Roklubb ","Peter Anker Hassel","09:00",275,null,"Drammen Roklubb ","Nei",null,"06.08.2004","Ja","M060804PET02","7726990","10.04.2018","Drammen Roklubb ",null,"90660478","beatepharo@gmail.com","21.08.2018"]
["2063",1,"Søn 02.09",206,null,"1215",null,null,null,null,null,null,null,0.17141273347122543,null,null,1,3,null,null,{"$f":"IF(#REF!=1,IFERROR(VLOOKUP(#REF!,[1]Sheet1!$A:$N,U$2,FALSE),\"\"),\"\")","v":{"$error":"#REF!"}},null,null,"H","H J C","1x",null,"500 m","Sarpsborg Roklubb - Roing","Nor Mustaf","09:00",275,null,"Sarpsborg Roklubb - Roing","Nei",null,"22.10.2004","Ja","M221004NOR01","6917184","22.03.2018","Sarpsborg Roklubb - Roing","Thomas Gundersen","91874904","Thomas.gundersen@afgruppen.no;thomas.gundersen@afgruppen.no","22.08.2018"]
["2064",1,"Søn 02.09",206,null,"1215",null,null,null,null,null,null,null,6.3981610469180383E-3,null,null,1,4,null,null,{"$f":"IF(#REF!=1,IFERROR(VLOOKUP(#REF!,[1]Sheet1!$A:$N,U$2,FALSE),\"\"),\"\")","v":{"$error":"#REF!"}},null,null,"H","H J C","1x",null,"500 m","Bærum Roklubb","Thov Espeseth","09:00",275,null,"Bærum Roklubb","Nei",null,"29.06.2005","Ja","M290605THO01","7328781","05.06.2018","Bærum Roklubb","Bente Dingen","45411863","bente.dingen@lundin-norway.no","20.08.2018"]
["2065",1,"Søn 02.09",206,null,"1215",null,null,null,null,null,null,null,0.20489905236441419,null,null,1,5,null,null,{"$f":"IF(#REF!=1,IFERROR(VLOOKUP(#REF!,[1]Sheet1!$A:$N,U$2,FALSE),\"\"),\"\")","v":{"$error":"#REF!"}},null,null,"H","H J C","1x",null,"500 m","Norske Studenters Roklub","Aksel Glomnes Rudi","09:00",275,null,"Norske Studenters Roklub","Nei",null,"22.10.2005","Ja","M221005AKS02","5564987","07.06.2018","Norske Studenters Roklub","Erik Juel","48039369","eri-juel@online.no","22.08.2018"]
["2066",1,"Søn 02.09",206,null,"1215",null,null,null,null,null,null,null,0.21202621168690372,null,null,1,6,null,null,{"$f":"IF(#REF!=1,IFERROR(VLOOKUP(#REF!,[1]Sheet1!$A:$N,U$2,FALSE),\"\"),\"\")","v":{"$error":"#REF!"}},null,null,"H","H J C","1x",null,"500 m","Bærum Roklubb","Jacob Philip Munthe","09:00",275,null,"Bærum Roklubb","Nei",null,"30.04.2005","Ja","M300405JAC02","8085498","13.06.2018","Bærum Roklubb","Bente Dingen","45411863","bente.dingen@lundin-norway.no","20.08.2018"]
["2067",1,"Søn 02.09",206,null,"1215",null,null,null,null,null,null,null,0.24848020120182857,null,null,2,7,null,null,{"$f":"IF(#REF!=1,IFERROR(VLOOKUP(#REF!,[1]Sheet1!$A:$N,U$2,FALSE),\"\"),\"\")","v":{"$error":"#REF!"}},null,null,"H","H J C","1x",null,"500 m","Bærum Roklubb","Brage Skaar","09:00",275,null,"Bærum Roklubb","Nei",null,"27.12.2004","Ja","M271204BRA01","5137898","13.06.2018","Bærum Roklubb","Bente Dingen","45411863","bente.dingen@lundin-norway.no","20.08.2018"]
["2068",1,"Søn 02.09",206,null,"1215",null,null,null,null,null,null,null,0.26565175837031085,null,null,2,8,null,null,{"$f":"IF(#REF!=1,IFERROR(VLOOKUP(#REF!,[1]Sheet1!$A:$N,U$2,FALSE),\"\"),\"\")","v":{"$error":"#REF!"}},null,null,"H","H J C","1x",null,"500 m","Moss Roklubb","Kim-Daniel K. Munoz","09:00",275,null,"Moss Roklubb","Nei",null,"30.12.2005","Ja","M301205KIM02","5477783","22.03.2018","Moss Roklubb","Jon Rekstad","92252667","rekstad0@gmail.com","22.08.2018"]
["2069",1,"Søn 02.09",206,null,"1215",null,null,null,null,null,null,null,0.27847504963627245,null,null,2,9,null,null,{"$f":"IF(#REF!=1,IFERROR(VLOOKUP(#REF!,[1]Sheet1!$A:$N,U$2,FALSE),\"\"),\"\")","v":{"$error":"#REF!"}},null,null,"H","H J C","1x",null,"500 m","Christiania Roklub",null,"09:00",275,null,"Christiania Roklub","Nei",null,"31.05.2005","Ja","M310505JOH04","8208422","06.03.2018","Christiania Roklub","Grete Isachsen Stokke","91338845","greteistokke@hotmail.com;grisach@gmail.com","22.08.2018"]
["20610",1,"Søn 02.09",206,null,"1215",null,null,null,null,null,null,null,0.35495668211796738,null,null,2,10,null,null,{"$f":"IF(#REF!=1,IFERROR(VLOOKUP(#REF!,[1]Sheet1!$A:$N,U$2,FALSE),\"\"),\"\")","v":{"$error":"#REF!"}},null,null,"H","H J C","1x",null,"500 m","Bærum Roklubb","Brage Alexander Rognli","09:00",275,null,"Bærum Roklubb","Nei",null,"19.02.2005","Ja","M190205BRA01","4214459","05.08.2018","Bærum Roklubb","Bente Dingen","45411863","bente.dingen@lundin-norway.no","20.08.2018"]
["20611",1,"Søn 02.09",206,null,"1215",null,null,null,null,null,null,null,0.37893614450907975,null,null,2,11,null,null,{"$f":"IF(#REF!=1,IFERROR(VLOOKUP(#REF!,[1]Sheet1!$A:$N,U$2,FALSE),\"\"),\"\")","v":{"$error":"#REF!"}},null,null,"H","H J C","1x",null,"500 m","Christiania Roklub","Balder Haug Hagen","09:00",275,null,"Christiania Roklub","Nei",null,"14.01.2004","Ja","M140104JAC01","7522750",null,"Christiania Roklub","Grete Isachsen Stokke","91338845","greteistokke@hotmail.com;grisach@gmail.com","22.08.2018"]
["20612",1,"Søn 02.09",206,null,"1215",null,null,null,null,null,null,null,0.433831597853644,null,null,2,12,null,null,{"$f":"IF(#REF!=1,IFERROR(VLOOKUP(#REF!,[1]Sheet1!$A:$N,U$2,FALSE),\"\"),\"\")","v":{"$error":"#REF!"}},null,null,"H","H J C","1x",null,"500 m","Aalesunds Roklub","Gabriel Pedersen","09:00",275,null,"Aalesunds Roklub","Nei",null,"24.11.2004","Ja","M241104GAB01","7633038","30.05.2018","Aalesunds Roklub","Johan Myklebust","90894714","johan.myklebust@nordea.no","21.08.2018"]
["20613",1,"Søn 02.09",206,null,"1215",null,null,null,null,null,null,null,0.45078768728168217,null,null,3,13,null,null,{"$f":"IF(#REF!=1,IFERROR(VLOOKUP(#REF!,[1]Sheet1!$A:$N,U$2,FALSE),\"\"),\"\")","v":{"$error":"#REF!"}},null,null,"H","H J C","1x",null,"500 m","Christiania Roklub",null,"09:00",275,null,"Christiania Roklub","Nei",null,"20.08.2004","Ja","M200804BRA04","7758069","06.03.2018","Christiania Roklub","Grete Isachsen Stokke","91338845","greteistokke@hotmail.com;grisach@gmail.com","22.08.2018"]
["20614",1,"Søn 02.09",206,null,"1215",null,null,null,null,null,null,null,0.50781581434365353,null,null,3,14,null,null,{"$f":"IF(#REF!=1,IFERROR(VLOOKUP(#REF!,[1]Sheet1!$A:$N,U$2,FALSE),\"\"),\"\")","v":{"$error":"#REF!"}},null,null,"H","H J C","1x",null,"500 m","Bærum Roklubb","Emil Svanes","09:00",275,null,"Bærum Roklubb","Nei",null,"09.02.2005","Ja","M090205EMI01","7947640","11.05.2018","Bærum Roklubb","Bente Dingen","45411863","bente.dingen@lundin-norway.no","20.08.2018"]
["20615",1,"Søn 02.09",206,null,"1215",null,null,null,null,null,null,null,0.5377642454352819,null,null,3,15,null,null,{"$f":"IF(#REF!=1,IFERROR(VLOOKUP(#REF!,[1]Sheet1!$A:$N,U$2,FALSE),\"\"),\"\")","v":{"$error":"#REF!"}},null,null,"H","H J C","1x",null,"500 m","Sarpsborg Roklubb - Roing","Tormod Simonsen","09:00",275,null,"Sarpsborg Roklubb - Roing","Nei",null,"01.04.2004","Ja","M010404TOR02","7786944","22.03.2018","Sarpsborg Roklubb - Roing","Thomas Gundersen","91874904","Thomas.gundersen@afgruppen.no;thomas.gundersen@afgruppen.no","22.08.2018"]
["20616",1,"Søn 02.09",206,null,"1215",null,null,null,null,null,null,null,0.54867756657135747,null,null,3,16,null,null,{"$f":"IF(#REF!=1,IFERROR(VLOOKUP(#REF!,[1]Sheet1!$A:$N,U$2,FALSE),\"\"),\"\")","v":{"$error":"#REF!"}},null,null,"H","H J C","1x",null,"500 m","Ormsund Roklub","Truls Oskar Hansen","09:00",275,null,"Ormsund Roklub","Nei",null,"22.07.2004","Ja","M220704TRU01","7203412","06.04.2018","Ormsund Roklub","Eva Hansen","90799966","eva.hansen@wenaasnordic.com","22.08.2018"]
["20617",1,"Søn 02.09",206,null,"1215",null,null,null,null,null,null,null,0.56387751195760349,null,null,3,17,null,null,{"$f":"IF(#REF!=1,IFERROR(VLOOKUP(#REF!,[1]Sheet1!$A:$N,U$2,FALSE),\"\"),\"\")","v":{"$error":"#REF!"}},null,null,"H","H J C","1x",null,"500 m","Aalesunds Roklub","Peter Prytz Berset","09:00",275,null,"Aalesunds Roklub","Nei",null,"22.12.2005","Ja","M221205PET02","7619015","30.05.2018","Aalesunds Roklub","Johan Myklebust","90894714","johan.myklebust@nordea.no","21.08.2018"]
["20618",1,"Søn 02.09",206,null,"1215",null,null,null,null,null,null,null,0.57621893843286076,null,null,4,18,null,null,{"$f":"IF(#REF!=1,IFERROR(VLOOKUP(#REF!,[1]Sheet1!$A:$N,U$2,FALSE),\"\"),\"\")","v":{"$error":"#REF!"}},null,null,"H","H J C","1x",null,"500 m","Christiania Roklub","Christoffer Widding","09:00",275,null,"Christiania Roklub","Nei",null,"25.04.2004","Ja","M250404CHR01","5051812","06.03.2018","Christiania Roklub","Grete Isachsen Stokke","91338845","greteistokke@hotmail.com;grisach@gmail.com","22.08.2018"]
["20619",1,"Søn 02.09",206,null,"1215",null,null,null,null,null,null,null,0.58161646859816152,null,null,4,19,null,null,{"$f":"IF(#REF!=1,IFERROR(VLOOKUP(#REF!,[1]Sheet1!$A:$N,U$2,FALSE),\"\"),\"\")","v":{"$error":"#REF!"}},null,null,"H","H J C","1x",null,"500 m","Ormsund Roklub","Max Andresen","09:00",275,null,"Ormsund Roklub","Nei",null,"22.06.2004","Ja","M220604MAX04","7259283","06.04.2018","Ormsund Roklub","Eva Hansen","90799966","eva.hansen@wenaasnordic.com","22.08.2018"]
["20620",1,"Søn 02.09",206,null,"1215",null,null,null,null,null,null,null,0.61870893889398948,null,null,4,20,null,null,{"$f":"IF(#REF!=1,IFERROR(VLOOKUP(#REF!,[1]Sheet1!$A:$N,U$2,FALSE),\"\"),\"\")","v":{"$error":"#REF!"}},null,null,"H","H J C","1x",null,"500 m","Sarpsborg Roklubb - Roing","Marius Antonsen Thime","09:00",275,null,"Sarpsborg Roklubb - Roing","Nei",null,"07.06.2004","Ja","M070604MAR06","6707662","22.03.2018","Sarpsborg Roklubb - Roing","Thomas Gundersen","91874904","Thomas.gundersen@afgruppen.no;thomas.gundersen@afgruppen.no","22.08.2018"]
["20621",1,"Søn 02.09",206,null,"1215",null,null,null,null,null,null,null,0.6478621723823822,null,null,4,21,null,null,{"$f":"IF(#REF!=1,IFERROR(VLOOKUP(#REF!,[1]Sheet1!$A:$N,U$2,FALSE),\"\"),\"\")","v":{"$error":"#REF!"}},null,null,"H","H J C","1x",null,"500 m","Christiania Roklub",null,"09:00",275,null,"Christiania Roklub","Nei",null,"29.01.2004","Ja","M290104LOR01","8138326","06.03.2018","Christiania Roklub","Grete Isachsen Stokke","91338845","greteistokke@hotmail.com;grisach@gmail.com","22.08.2018"]
["20622",1,"Søn 02.09",206,null,"1215",null,null,null,null,null,null,null,0.65465476005986378,null,null,4,22,null,null,{"$f":"IF(#REF!=1,IFERROR(VLOOKUP(#REF!,[1]Sheet1!$A:$N,U$2,FALSE),\"\"),\"\")","v":{"$error":"#REF!"}},null,null,"H","H J C","1x",null,"500 m","Norske Studenters Roklub",null,"09:00",275,null,"Norske Studenters Roklub","Nei",null,"24.06.2005","Ja","M240605HER09","8204299","07.06.2018","Norske Studenters Roklub","Erik Juel","48039369","eri-juel@online.no","22.08.2018"]
["20623",1,"Søn 02.09",206,null,"1215",null,null,null,null,null,null,null,0.69013755925541098,null,null,5,23,null,null,{"$f":"IF(#REF!=1,IFERROR(VLOOKUP(#REF!,[1]Sheet1!$A:$N,U$2,FALSE),\"\"),\"\")","v":{"$error":"#REF!"}},null,null,"H","H J C","1x",null,"500 m","Moss Roklubb","Sigurd Brevold","09:00",275,null,"Moss Roklubb","Nei",null,"30.08.2004","Ja","M300804SIG03","7678533","22.03.2018","Moss Roklubb","Jon Rekstad","92252667","rekstad0@gmail.com","22.08.2018"]
["20624",1,"Søn 02.09",206,null,"1215",null,null,null,null,null,null,null,0.72456086224483629,null,null,5,24,null,null,{"$f":"IF(#REF!=1,IFERROR(VLOOKUP(#REF!,[1]Sheet1!$A:$N,U$2,FALSE),\"\"),\"\")","v":{"$error":"#REF!"}},null,null,"H","H J C","1x",null,"500 m","Christiania Roklub",null,"09:00",275,null,"Christiania Roklub","Nei",null,"27.04.2005","Ja","M270405KAS03","7758071","06.03.2018","Christiania Roklub","Grete Isachsen Stokke","91338845","greteistokke@hotmail.com;grisach@gmail.com","22.08.2018"]
["20625",1,"Søn 02.09",206,null,"1215",null,null,null,null,null,null,null,0.72935779558845149,null,null,5,25,null,null,{"$f":"IF(#REF!=1,IFERROR(VLOOKUP(#REF!,[1]Sheet1!$A:$N,U$2,FALSE),\"\"),\"\")","v":{"$error":"#REF!"}},null,null,"H","H J C","1x",null,"500 m","Aalesunds Roklub",null,"09:00",275,null,"Aalesunds Roklub","Nei",null,"12.05.2004","Ja","M120504ERL04","8150106","30.05.2018","Aalesunds Roklub","Johan Myklebust","90894714","johan.myklebust@nordea.no","21.08.2018"]
["20626",1,"Søn 02.09",206,null,"1215",null,null,null,null,null,null,null,0.73280096062990241,null,null,5,26,null,null,{"$f":"IF(#REF!=1,IFERROR(VLOOKUP(#REF!,[1]Sheet1!$A:$N,U$2,FALSE),\"\"),\"\")","v":{"$error":"#REF!"}},null,null,"H","H J C","1x",null,"500 m","Bærum Roklubb","Noah Holger Johnsen Fangel","09:00",275,null,"Bærum Roklubb","Nei",null,"24.10.2004","Ja","M241004NOA04","8111044","05.06.2018","Bærum Roklubb","Bente Dingen","45411863","bente.dingen@lundin-norway.no","20.08.2018"]
["20627",1,"Søn 02.09",206,null,"1215",null,null,null,null,null,null,null,0.76086321493881026,null,null,5,27,null,null,{"$f":"IF(#REF!=1,IFERROR(VLOOKUP(#REF!,[1]Sheet1!$A:$N,U$2,FALSE),\"\"),\"\")","v":{"$error":"#REF!"}},null,null,"H","H J C","1x",null,"500 m","Moss Roklubb",null,"09:00",275,null,"Moss Roklubb","Nei",null,"17.05.2004","Ja","M170504ERI04","8200596","22.03.2018","Moss Roklubb","Jon Rekstad","92252667","rekstad0@gmail.com","22.08.2018"]
["20628",1,"Søn 02.09",206,null,"1215",null,null,null,null,null,null,null,0.81011054748120437,null,null,6,28,null,null,{"$f":"IF(#REF!=1,IFERROR(VLOOKUP(#REF!,[1]Sheet1!$A:$N,U$2,FALSE),\"\"),\"\")","v":{"$error":"#REF!"}},null,null,"H","H J C","1x",null,"500 m","Bærum Roklubb","Thor Saga","09:00",275,null,"Bærum Roklubb","Nei",null,"28.08.2005","Ja","M280805THO03","6142424","05.06.2018","Bærum Roklubb","Bente Dingen","45411863","bente.dingen@lundin-norway.no","20.08.2018"]
["20629",1,"Søn 02.09",206,null,"1215",null,null,null,null,null,null,null,0.83338213743873824,null,null,6,29,null,null,{"$f":"IF(#REF!=1,IFERROR(VLOOKUP(#REF!,[1]Sheet1!$A:$N,U$2,FALSE),\"\"),\"\")","v":{"$error":"#REF!"}},null,null,"H","H J C","1x",null,"500 m","Drammen Roklubb ","Håkon Villum Hansen","09:00",275,null,"Drammen Roklubb ","Nei",null,"04.05.2004","Ja","M040504HÅK13","8104025","30.05.2018","Drammen Roklubb ",null,"90660478","beatepharo@gmail.com","21.08.2018"]
["20630",1,"Søn 02.09",206,null,"1215",null,null,null,null,null,null,null,0.93679844008425983,null,null,6,30,null,null,{"$f":"IF(#REF!=1,IFERROR(VLOOKUP(#REF!,[1]Sheet1!$A:$N,U$2,FALSE),\"\"),\"\")","v":{"$error":"#REF!"}},null,null,"H","H J C","1x",null,"500 m","Tønsberg Roklub","Edvin Ingvaldsen","09:00",275,null,"Tønsberg Roklub","Nei",null,"24.04.2005","Ja","M240405EDV04","8171027","01.05.2018","Tønsberg Roklub",null,"92061715","svendandersen@me.com","22.08.2018"]
["20631",1,"Søn 02.09",206,null,"1215",null,null,null,null,null,null,null,0.94392904637670594,null,null,6,31,null,null,{"$f":"IF(#REF!=1,IFERROR(VLOOKUP(#REF!,[1]Sheet1!$A:$N,U$2,FALSE),\"\"),\"\")","v":{"$error":"#REF!"}},null,null,"H","H J C","1x",null,"500 m","Moss Roklubb","Oskar Gulin Skoglunn","09:00",275,null,"Moss Roklubb","Nei",null,"26.05.2004","Ja","M260504OSK01","5217507","22.03.2018","Moss Roklubb","Jon Rekstad","92252667","rekstad0@gmail.com","22.08.2018"]
["20632",1,"Søn 02.09",206,null,"1215",null,null,null,null,null,null,null,0.97284497808823667,null,null,6,32,null,null,{"$f":"IF(#REF!=1,IFERROR(VLOOKUP(#REF!,[1]Sheet1!$A:$N,U$2,FALSE),\"\"),\"\")","v":{"$error":"#REF!"}},null,null,"H","H J C","1x",null,"500 m","Christiania Roklub","Jostein Eriksen Thon","09:00",275,null,"Christiania Roklub","Nei",null,"08.01.2004","Ja","M080104JOS02","6201834","06.03.2018","Christiania Roklub","Grete Isachsen Stokke","91338845","greteistokke@hotmail.com;grisach@gmail.com","22.08.2018"]
[null,null,null,null,null,null,null,null,null,null,null,null,null,0.23459125248737434,null,null,null,null,null,null,{"$f":"IF(#REF!=1,IFERROR(VLOOKUP(#REF!,[1]Sheet1!$A:$N,U$2,FALSE),\"\"),\"\")","v":{"$error":"#REF!"}}]
[null,null," ",null,null,null,null,null,null,null,null,null,null,0.9775598513872038,null,null,null," ",null,null,{"$f":"IF(#REF!=1,IFERROR(VLOOKUP(#REF!,[1]Sheet1!$A:$N,U$2,FALSE),\"\"),\"\")","v":{"$error":"#REF!"}}]
[{"$f":"D177&R177","v":"2070"},1,"Søn 02.09",207,null,{"$f":"VLOOKUP($D177,Tidsplan!$B:$D,3,FALSE)","v":"1250"},{"$f":"VLOOKUP($D177,Tidsplan!$B:$D,2,FALSE)","v":""},null,null,null,null,null,102,0.1989997124153281," ",null,null,0,null,null,{"$f":"IF(#REF!=1,IFERROR(VLOOKUP(#REF!,[1]Sheet1!$A:$N,U$2,FALSE),\"\"),\"\")","v":{"$error":"#REF!"}},null,null,"D","D J C","2x",{"$f":"IF(R177<>0,LEFT(Z177,1),0)*1","v":0},"500 m "]
["2071",{"$f":"OFFSET(B178,-1,0)","v":1},"Søn 02.09",207,null,{"$f":"OFFSET(F178,-1,0)","v":"1250"},null,null,null,null,null,null,null,0.20922510617372347,null,null,1,1,null,null,{"$f":"IF(#REF!=1,IFERROR(VLOOKUP(#REF!,[1]Sheet1!$A:$N,U$2,FALSE),\"\"),\"\")","v":{"$error":"#REF!"}},null,null,"D","D J C","2x",null,"500 m ","Aalesunds Roklub 2","Ida Sofie Ness Lorgen\nGuro Elise Bjørkavoll Hofseide","09:00",325,null,"Aalesunds Roklub",null,null,"22.03.2005\n29.07.2005","Ja\nJa","K220305IDA04\nK290705GUR05","7094408\n8157743","30.05.2018\n30.05.2018","Aalesunds Roklub\nAalesunds Roklub","Johan Gerhard Myklebust\n","90894714\n","johan.myklebust@nordea.no\n","21.08.2018\n21.08.2018"]
["2072",1,"Søn 02.09",207,null,"1250",null,null,null,null,null,null,null,0.22084010156996159,null,null,1,2,null,null,{"$f":"IF(#REF!=1,IFERROR(VLOOKUP(#REF!,[1]Sheet1!$A:$N,U$2,FALSE),\"\"),\"\")","v":{"$error":"#REF!"}},null,null,"D","D J C","2x",null,"500 m ","Ormsund Roklub 2","Mille Aslaksen Wåle\nEmbla Reykdal","09:00",325,null,"Ormsund Roklub",null,null,"07.07.2004\n17.01.2004","Ja\nJa","K070704MIL03\nK170104EMB01","5812808\n7697937","06.04.2018\n06.04.2018","Ormsund Roklub\nOrmsund Roklub","Eva Hansen\n","90799966\n","eva.hansen@wenaasnordic.com\n","22.08.2018\n22.08.2018"]
["2073",1,"Søn 02.09",207,null,"1250",null,null,null,null,null,null,null,0.525905070078861,null,null,1,3,null,null,{"$f":"IF(#REF!=1,IFERROR(VLOOKUP(#REF!,[1]Sheet1!$A:$N,U$2,FALSE),\"\"),\"\")","v":{"$error":"#REF!"}},null,null,"D","D J C","2x",null,"500 m ","Aalesunds Roklub 3","Martine Nakken Henriksen\nErika Roth","09:00",325,null,"Aalesunds Roklub",null,null,"30.09.2004\n27.08.2004","Ja\nJa","K300904MAR06\nK270804ERI01","7258646\n5395032","30.05.2018\n30.05.2018","Aalesunds Roklub\nAalesunds Roklub","Johan Gerhard Myklebust\n","90894714\n","johan.myklebust@nordea.no\n","21.08.2018\n21.08.2018"]
["2074",1,"Søn 02.09",207,null,"1250",null,null,null,null,null,null,null,0.70832472325119111,null,null,1,4,null,null,{"$f":"IF(#REF!=1,IFERROR(VLOOKUP(#REF!,[1]Sheet1!$A:$N,U$2,FALSE),\"\"),\"\")","v":{"$error":"#REF!"}},null,null,"D","D J C","2x",null,"500 m ","Ormsund Roklub 1","Anna Luna Bjønness Yngsdal\nTyra Eklo Hjemdal","09:00",325,null,"Ormsund Roklub",null,null,"31.12.2004\n18.12.2004","Ja\nJa","K311204ANN05\nK181204TYR02","7203396\n7259282","06.04.2018\n06.04.2018","Ormsund Roklub\nOrmsund Roklub","Eva Hansen\n","90799966\n","eva.hansen@wenaasnordic.com\n","22.08.2018\n22.08.2018"]
["2075",1,"Søn 02.09",207,null,"1250",null,null,null,null,null,null,null,0.79888862853096876,null,null,2,5,null,null,{"$f":"IF(#REF!=1,IFERROR(VLOOKUP(#REF!,[1]Sheet1!$A:$N,U$2,FALSE),\"\"),\"\")","v":{"$error":"#REF!"}},null,null,"D","D J C","2x",null,"500 m ","Aalesunds Roklub 4","Selma Steen Bjørlykke\nNatalie Grønnevik Langlo","09:00",325,null,"Aalesunds Roklub",null,null,"31.01.2004\n05.08.2005","Ja\nJa","K310104SEL01\nK050805NAT01","6871648\n7095895","30.05.2018\n30.05.2018","Aalesunds Roklub\nAalesunds Roklub","Johan Gerhard Myklebust\n","90894714\n","johan.myklebust@nordea.no\n","21.08.2018\n21.08.2018"]
["2076",1,"Søn 02.09",207,null,"1250",null,null,null,null,null,null,null,0.815321391030984,null,null,2,6,null,null,{"$f":"IF(#REF!=1,IFERROR(VLOOKUP(#REF!,[1]Sheet1!$A:$N,U$2,FALSE),\"\"),\"\")","v":{"$error":"#REF!"}},null,null,"D","D J C","2x",null,"500 m ","Trondhjems Roklubb 1","Mari Hasle Falch","09:00",325,null,"Trondhjems Roklubb",null,null,"12.04.2004","Ja","K120404MAR04","4108903","08.08.2018","Trondhjems Roklubb","Solveig Berthung","90999147","solveig.berthung@gmail.com;solveig.berthung@trondhjems-roklub.no","22.08.2018"]
["2077",1,"Søn 02.09",207,null,"1250",null,null,null,null,null,null,null,0.92108123410957154,null,null,2,7,null,null,{"$f":"IF(#REF!=1,IFERROR(VLOOKUP(#REF!,[1]Sheet1!$A:$N,U$2,FALSE),\"\"),\"\")","v":{"$error":"#REF!"}},null,null,"D","D J C","2x",null,"500 m ","Aalesunds Roklub 1","Live Strømshoved\nMia Rolland Engvik","09:00",325,null,"Aalesunds Roklub",null,null,"16.02.2004\n22.04.2004","Ja\nJa","K160204LIV01\nK220404MIA01","7633009\n7091604","30.05.2018\n30.05.2018","Aalesunds Roklub\nAalesunds Roklub","Johan Gerhard Myklebust\n","90894714\n","johan.myklebust@nordea.no\n","21.08.2018\n21.08.2018"]
[null,null," ",null,null,null,null,null,null,null,null,null,null,9.1134298019119653E-2,null,null,null,null,null,null,{"$f":"IF(#REF!=1,IFERROR(VLOOKUP(#REF!,[1]Sheet1!$A:$N,U$2,FALSE),\"\"),\"\")","v":{"$error":"#REF!"}}]
[{"$f":"D186&R186","v":"2080"},1,"Søn 02.09",208,null,{"$f":"VLOOKUP($D186,Tidsplan!$B:$D,3,FALSE)","v":"1255"},{"$f":"VLOOKUP($D186,Tidsplan!$B:$D,2,FALSE)","v":""},null,null,null,null,null,null,0.53682280782655434,null,"K",null,0,null,null,{"$f":"IF(#REF!=1,IFERROR(VLOOKUP(#REF!,[1]Sheet1!$A:$N,U$2,FALSE),\"\"),\"\")","v":{"$error":"#REF!"}},null,null,"D","D S","1x",{"$f":"IF(R186<>0,LEFT(Z186,1),0)*1","v":0},"500 m","236 Går med 208"]
[{"$f":"D187&R187","v":"2081"},{"$f":"OFFSET(B187,-1,0)","v":1},"Søn 02.09",208,null,{"$f":"OFFSET(F187,-1,0)","v":"1255"},null,null,null,null,null,null,null,0.13371841045191213,null,null,null,1,null,null,{"$f":"IF(#REF!=1,IFERROR(VLOOKUP(#REF!,[1]Sheet1!$A:$N,U$2,FALSE),\"\"),\"\")","v":{"$error":"#REF!"}},null,null,"D","D S","1x",null,"500 m","Christiania Roklub",null,"09:00",275,null,"Christiania Roklub","Nei",null,"07.05.1991","Ja","K070591HEL01","8124580","03.04.2018","Christiania Roklub","Grete Isachsen Stokke","91338845","greteistokke@hotmail.com;grisach@gmail.com","22.08.2018"]
[{"$f":"D188&R188","v":"2082"},{"$f":"OFFSET(B188,-1,0)","v":1},"Søn 02.09",208,null,{"$f":"OFFSET(F188,-1,0)","v":"1255"},null,null,null,null,null,null,null,0.76582543966961503,null,null,null,2,null,null,{"$f":"IF(#REF!=1,IFERROR(VLOOKUP(#REF!,[1]Sheet1!$A:$N,U$2,FALSE),\"\"),\"\")","v":{"$error":"#REF!"}},null,null,"D","D S","1x",null,"500 m","Drammen Roklubb ",null,"09:00",275,null,"Drammen Roklubb ","Nei",null,"20.09.1994","Ja","K200994FAN03","8149207","12.03.2018","Drammen Roklubb ",null,"90660478","beatepharo@gmail.com","21.08.2018"]
[null,null," ",null,null,null,null,null,null,null,null,null,null,0.21980620607141022,null,null,null,null,null,null,{"$f":"IF(#REF!=1,IFERROR(VLOOKUP(#REF!,[1]Sheet1!$A:$N,U$2,FALSE),\"\"),\"\")","v":{"$error":"#REF!"}}]
[{"$f":"D190&R190","v":"2090"},1,"Søn 02.09",209,null,{"$f":"VLOOKUP($D190,Tidsplan!$B:$D,3,FALSE)","v":"1255"},{"$f":"VLOOKUP($D190,Tidsplan!$B:$D,2,FALSE)","v":""},null,null,null,null,null,null,0.333838326344706,null,"K",null,0,null,null,{"$f":"IF(#REF!=1,IFERROR(VLOOKUP(#REF!,[1]Sheet1!$A:$N,U$2,FALSE),\"\"),\"\")","v":{"$error":"#REF!"}},null,null,"D","D J A","2x",{"$f":"IF(R190<>0,LEFT(Z190,1),0)*1","v":0},"500 m "]
[{"$f":"D191&R191","v":"2091"},{"$f":"OFFSET(B191,-1,0)","v":1},"Søn 02.09",209,null,{"$f":"OFFSET(F191,-1,0)","v":"1255"},{"$f":"OFFSET(G191,-1,0)","v":""},null,null,null,null,null,null,1.0639174522675265E-3,null,null,null,1,null,null,{"$f":"IF(#REF!=1,IFERROR(VLOOKUP(#REF!,[1]Sheet1!$A:$N,U$2,FALSE),\"\"),\"\")","v":{"$error":"#REF!"}},null,null,"D","D J A","2x",null,"500 m ","Sarpsborg Roklubb / Moss Roklubb","Cornelia Johansen Knutsen\nLise Meinike Dørre","09:00",325,null,"Sarpsborg Roklubb - Roing",null,null,"28.12.2000\n13.02.2000","Ja\nJa","K281200COR02\nK130200LIS02","6060150\n6059397","22.03.2018\n","Sarpsborg Roklubb - Roing\nÅrungen Ro- og Kajakklubb","Thomas Gundersen\n","91874904\n","Thomas.gundersen@afgruppen.no;thomas.gundersen@afgruppen.no\n","22.08.2018\n22.08.2018"]
["2092",1,"Søn 02.09",209,null,{"$f":"OFFSET(F192,-1,0)","v":"1255"},{"$f":"OFFSET(G192,-1,0)","v":""},null,null,null,null,null,null,0.51126193992894231,null,null,null,2,null,null,{"$f":"IF(#REF!=1,IFERROR(VLOOKUP(#REF!,[1]Sheet1!$A:$N,U$2,FALSE),\"\"),\"\")","v":{"$error":"#REF!"}},null,null,"D","D J A","2x",null,"500 m ","Aalesunds Roklub 1","Karoline Berset\nHedda Roth","09:00",325,null,"Aalesunds Roklub",null,null,"01.11.2002\n01.08.2001","Nei\nJa","K011102KAR02\nK010801HED01","7811195\n5213239","13.04.2018\n30.05.2018","Aalesunds Roklub\nAalesunds Roklub","Johan Gerhard Myklebust\n","90894714\n","johan.myklebust@nordea.no\n","21.08.2018\n21.08.2018"]
["1093",1,"Lør 01.09",109,null,{"$f":"OFFSET(F193,-1,0)","v":"1255"},null,null,null,null,null,null,null,0.64199993419013734,null,null,null,3,null,null,{"$f":"IF(#REF!=1,IFERROR(VLOOKUP(#REF!,[1]Sheet1!$A:$N,U$2,FALSE),\"\"),\"\")","v":{"$error":"#REF!"}},null,null,"D","D J A","2x",null,"500 m ","Fredrikstad Roklub","Emilie Stokke\nHedda Marie Larsen","09:00",325,null,"Fredrikstad Roklub",null,null,null,null,null,null,null,null,null,null,"Linda Schi Liseter"]
["2094",1,"Søn 02.09",209,null,{"$f":"OFFSET(F194,-1,0)","v":"1255"},{"$f":"OFFSET(G194,-1,0)","v":0},null,null,null,null,null,null,0.70882053391058319,null,null,null,4,null,null,{"$f":"IF(#REF!=1,IFERROR(VLOOKUP(#REF!,[1]Sheet1!$A:$N,U$2,FALSE),\"\"),\"\")","v":{"$error":"#REF!"}},null,null,"D","D J A","2x",null,"500 m ","Christiania Roklub 1","Anna Edine Lind Jodalen\nNicoline Lovise Lindstrøm","09:00",325,null,"Christiania Roklub",null,null,"20.08.2001\n25.09.2002","Ja\nNei","K200801ANN08\nK250902NIC02","8030448\n8247202","14.05.2018\n14.05.2018","Christiania Roklub\nChristiania Roklub","Grete Isachsen Stokke\n","91338845\n","greteistokke@hotmail.com;grisach@gmail.com\n","22.08.2018\n22.08.2018"]
["2095",1,"Søn 02.09",209,null,{"$f":"OFFSET(F195,-1,0)","v":"1255"},{"$f":"OFFSET(G195,-1,0)","v":0},null,null,null,null,null,null,0.72565149698866338,null,null,null,5,null,null,{"$f":"IF(#REF!=1,IFERROR(VLOOKUP(#REF!,[1]Sheet1!$A:$N,U$2,FALSE),\"\"),\"\")","v":{"$error":"#REF!"}},null,null,"D","D J A","2x",null,"500 m ","Drammen Roklubb  1","Karoline Rydland Masch\nIda Kyvik Sandvik","09:00",325,null,"Drammen Roklubb ",null,null,"14.04.2001\n24.07.2002","Ja\nNei","K140401KAR10\nK240702IDA05","7214275\n7173655","12.03.2018\n13.04.2018","Drammen Roklubb \nTønsberg Roklub","Beate Pharo\n","90660478\n","beatepharo@gmail.com\n","21.08.2018\n21.08.2018"]
["2096",1,"Søn 02.09",209,null,{"$f":"OFFSET(F196,-1,0)","v":"1255"},{"$f":"OFFSET(G196,-1,0)","v":0},null,null,null,null,null,null,0.98406190516133063,null,null,null,6,null,null,{"$f":"IF(#REF!=1,IFERROR(VLOOKUP(#REF!,[1]Sheet1!$A:$N,U$2,FALSE),\"\"),\"\")","v":{"$error":"#REF!"}},null,null,"D","D J A","2x",null,"500 m ","Bærum Roklubb 1","Thea Hertzum Aunaas\nCaitlin Isabelle Aalders","09:00",325,null,"Bærum Roklubb",null,null,"15.01.2001\n03.06.2001","Ja\nJa","K150101THE02\nK030601CAI03","6790513\n7289717","17.04.2018\n17.04.2018","Bærum Roklubb\nBærum Roklubb","Bente Dingen\n","45411863\n","bente.dingen@lundin-norway.no\n","22.08.2018\n22.08.2018"]
["2100",1,"Søn 02.09",210,null,{"$f":"VLOOKUP($D197,Tidsplan!$B:$D,3,FALSE)","v":"1300"},{"$f":"VLOOKUP($D197,Tidsplan!$B:$D,2,FALSE)","v":""},null,null,null,null,null,null,0.17644156317468429,"",null,null,0,null,null,{"$f":"IF(#REF!=1,IFERROR(VLOOKUP(#REF!,[1]Sheet1!$A:$N,U$2,FALSE),\"\"),\"\")","v":{"$error":"#REF!"}},null,null,"D","S","2-",{"$f":"IF(R197<>0,LEFT(Z197,1),0)*1","v":0},500]
["2101",{"$f":"OFFSET(B198,-1,0)","v":1},"Søn 02.09",210,null,{"$f":"OFFSET(F198,-1,0)","v":"1300"},null,null,null,null,null,null,null,0.53611278176012545,null,null,null,1,null,null,{"$f":"IF(#REF!=1,IFERROR(VLOOKUP(#REF!,[1]Sheet1!$A:$N,U$2,FALSE),\"\"),\"\")","v":{"$error":"#REF!"}},null,null,"D","D S","2-",null,"500 m","Bærum Roklubb 1","Synnøve Gillebo Foss\nHilde Gudem","09:00",325,null,"Bærum Roklubb",null,null,"11.08.1999\n11.04.1979","Ja\nJa","K110899SYN04\nK110479HIL01","8066138\n6051441","\n","Bærum Roklubb\nBærum Roklubb","Bente Dingen\n","45411863\n","bente.dingen@lundin-norway.no\n","22.08.2018\n22.08.2018"]
[null,null,null,null,null,null,null,null,null,null,null,null,null,0.84067119934359613,null,null,null,null,null,null,{"$f":"IF(#REF!=1,IFERROR(VLOOKUP(#REF!,[1]Sheet1!$A:$N,U$2,FALSE),\"\"),\"\")","v":{"$error":"#REF!"}}]
[{"$f":"D200&R200","v":"2110"},1,"Søn 02.09",211,null,{"$f":"VLOOKUP($D200,Tidsplan!$B:$D,3,FALSE)","v":"1305"},{"$f":"VLOOKUP($D200,Tidsplan!$B:$D,2,FALSE)","v":"0945"},null,null,null,null,null,null,0.75667794129308874,"S",null,null,0,null,null,{"$f":"IF(#REF!=1,IFERROR(VLOOKUP(#REF!,[1]Sheet1!$A:$N,U$2,FALSE),\"\"),\"\")","v":{"$error":"#REF!"}},null,null,"H","H J A","1x",{"$f":"IF(R200<>0,LEFT(Z200,1),0)*1","v":0},"500 m"]
[{"$f":"D201&R201","v":"211"},{"$f":"OFFSET(B201,-1,0)","v":1},"Søn 02.09",211,null,{"$f":"OFFSET(F201,-1,0)","v":"1305"},"0945",null,null,null,null,null,null,0.88978815635032926,null,null,null,null,null,null,{"$f":"IF(#REF!=1,IFERROR(VLOOKUP(#REF!,[1]Sheet1!$A:$N,U$2,FALSE),\"\"),\"\")","v":{"$error":"#REF!"}},null,null,"H","H J A","1x",null,"500 m","Bærum Roklubb","Brage Bragstad","09:00",275,null,"Bærum Roklubb","Nei",null,"12.09.2000","Ja","M120900BRA02","8203074",null,"Bærum Roklubb","Bente Dingen","45411863","bente.dingen@lundin-norway.no","22.08.2018"]
["211",1,"Søn 02.09",211,null,"1305","0945",null,null,null,null,null,null,0.97343422899242826,null,null,null,null,null,null,{"$f":"IF(#REF!=1,IFERROR(VLOOKUP(#REF!,[1]Sheet1!$A:$N,U$2,FALSE),\"\"),\"\")","v":{"$error":"#REF!"}},null,null,"H","H J A","1x",null,"500 m","Bærum Roklubb","Eirik Myreng Hauge","09:00",275,null,"Bærum Roklubb","Nei",null,"17.04.2000","Ja","M170400EIR02","5005277",null,"Bærum Roklubb","Bente Dingen","45411863","bente.dingen@lundin-norway.no","22.08.2018"]
["211",1,"Søn 02.09",211,null,"1305","0945",null,null,null,null,null,null,5.961395651894319E-2,null,null,null,null,null,null,{"$f":"IF(#REF!=1,IFERROR(VLOOKUP(#REF!,[1]Sheet1!$A:$N,U$2,FALSE),\"\"),\"\")","v":{"$error":"#REF!"}},null,null,"H","H J A","1x",null,"500 m","Bærum Roklubb","Lars Moberg Værnes","09:00",275,null,"Bærum Roklubb","Nei",null,"02.06.2000","Ja","M020600LAR02","4487587","13.04.2018","Bærum Roklubb","Bente Dingen","45411863","bente.dingen@lundin-norway.no","21.08.2018"]
["211",1,"Søn 02.09",211,null,"1305","0945",null,null,null,null,null,null,0.99668130599822302,null,null,null,null,null,null,{"$f":"IF(#REF!=1,IFERROR(VLOOKUP(#REF!,[1]Sheet1!$A:$N,U$2,FALSE),\"\"),\"\")","v":{"$error":"#REF!"}},null,null,"H","H J A","1x",null,"500 m","Bærum Roklubb","Øystein Dingen Endresen","09:00",275,null,"Bærum Roklubb","Nei",null,"20.06.2000","Ja","M070600ØYS01","5372192","13.04.2018","Bærum Roklubb","Bente Dingen","45411863","bente.dingen@lundin-norway.no","21.08.2018"]
["211",1,"Søn 02.09",211,null,"1305","0945",null,null,null,null,null,null,0.93254444915154189,null,null,null,null,null,null,{"$f":"IF(#REF!=1,IFERROR(VLOOKUP(#REF!,[1]Sheet1!$A:$N,U$2,FALSE),\"\"),\"\")","v":{"$error":"#REF!"}},null,null,"H","H J A","1x",null,"500 m","Drammen Roklubb ","Elias Loe Eritsland","09:00",275,null,"Drammen Roklubb ","Nei",null,"13.02.2001","Ja","M130201ELI03","7554836",null,"Drammen Roklubb ",null,"90660478","beatepharo@gmail.com","21.08.2018"]
["211",1,"Søn 02.09",211,null,"1305","0945",null,null,null,null,null,null,0.57851724545567162,null,null,null,null,null,null,{"$f":"IF(#REF!=1,IFERROR(VLOOKUP(#REF!,[1]Sheet1!$A:$N,U$2,FALSE),\"\"),\"\")","v":{"$error":"#REF!"}},null,null,"H","H J A","1x",null,"500 m","Horten Roklubb","Benjamin Nærsnes","09:00",275,null,"Horten Roklubb","Nei",null,"13.09.2001","Ja","M130901BEN04","6102843","12.04.2018","Horten Roklubb","Bjørn-Inge Pettersen","93280397","pettersen.bjorn.inge@gmail.com","22.08.2018"]
["211",1,"Søn 02.09",211,null,"1305","0945",null,null,null,null,null,null,0.20307351157245057,null,null,null,null,null,null,{"$f":"IF(#REF!=1,IFERROR(VLOOKUP(#REF!,[1]Sheet1!$A:$N,U$2,FALSE),\"\"),\"\")","v":{"$error":"#REF!"}},null,null,"H","H J A","1x",null,"500 m","Moss Roklubb","Jarle Hjortkjær Sæby","09:00",275,null,"Moss Roklubb","Nei",null,"17.08.2000","Ja","M170800JAR02","2794789","22.03.2018","Moss Roklubb","Jon Rekstad","92252667","rekstad0@gmail.com","22.08.2018"]
["211",1,"Søn 02.09",211,null,"1305","0945",null,null,null,null,null,null,0.32812747965227063,null,null,null,null,null,null,{"$f":"IF(#REF!=1,IFERROR(VLOOKUP(#REF!,[1]Sheet1!$A:$N,U$2,FALSE),\"\"),\"\")","v":{"$error":"#REF!"}},null,null,"H","H J A","1x",null,"500 m","Norske Studenters Roklub","Nicolai Fongaard","09:00",275,null,"Norske Studenters Roklub","Nei",null,"06.08.2001","Ja","M060801NIC02","4916382","29.03.2018","Norske Studenters Roklub","Erik Juel","48039369","eri-juel@online.no","22.08.2018"]
["211",1,"Søn 02.09",211,null,"1305","0945",null,null,null,null,null,null,0.45919791452747383,null,null,null,null,null,null,{"$f":"IF(#REF!=1,IFERROR(VLOOKUP(#REF!,[1]Sheet1!$A:$N,U$2,FALSE),\"\"),\"\")","v":{"$error":"#REF!"}},null,null,"H","H J A","1x",null,"500 m","Norske Studenters Roklub","Vitus Aparicio Tjøm","09:00",275,null,"Norske Studenters Roklub","Nei",null,"26.06.2001","Ja","M260101VIT01","5062270","29.03.2018","Norske Studenters Roklub","Erik Juel","48039369","eri-juel@online.no","22.08.2018"]
["211",1,"Søn 02.09",211,null,"1305","0945",null,null,null,null,null,null,0.23550495792146664,null,null,null,null,null,null,{"$f":"IF(#REF!=1,IFERROR(VLOOKUP(#REF!,[1]Sheet1!$A:$N,U$2,FALSE),\"\"),\"\")","v":{"$error":"#REF!"}},null,null,"H","H J A","1x",null,"500 m","Sarpsborg Roklubb - Roing","Diderik Skjønhaug","09:00",275,null,"Sarpsborg Roklubb - Roing","Nei",null,"28.12.2000","Ja","M281200DID01","5330116","22.03.2018","Sarpsborg Roklubb - Roing","Thomas Gundersen","91874904","Thomas.gundersen@afgruppen.no;thomas.gundersen@afgruppen.no","22.08.2018"]
["211",1,"Søn 02.09",211,null,"1305","0945",null,null,null,null,null,null,0.53792493875704006,null,null,null,null,null,null,{"$f":"IF(#REF!=1,IFERROR(VLOOKUP(#REF!,[1]Sheet1!$A:$N,U$2,FALSE),\"\"),\"\")","v":{"$error":"#REF!"}},null,null,"H","H J A","1x",null,"500 m","Sarpsborg Roklubb - Roing","Jacob Gundersen","09:00",275,null,"Sarpsborg Roklubb - Roing","Nei",null,"08.04.2001","Ja","M080401JAC01","5584584","22.03.2018","Sarpsborg Roklubb - Roing","Thomas Gundersen","91874904","Thomas.gundersen@afgruppen.no;thomas.gundersen@afgruppen.no","22.08.2018"]
["211",1,"Søn 02.09",211,null,"1305","0945",null,null,null,null,null,null,0.93478843554272506,null,null,null,null,null,null,{"$f":"IF(#REF!=1,IFERROR(VLOOKUP(#REF!,[1]Sheet1!$A:$N,U$2,FALSE),\"\"),\"\")","v":{"$error":"#REF!"}},null,null,"H","H J A","1x",null,"500 m","Tønsberg Roklub","Martin Asheim","09:00",275,null,"Tønsberg Roklub","Nei",null,"05.05.2001","Ja","M050501MAR07","7153998","13.04.2018","Tønsberg Roklub",null,"92061715","svendandersen@me.com","22.08.2018"]
["211",1,"Søn 02.09",211,null,"1305","0945",null,null,null,null,null,null,7.7524428969628412E-2,null,null,null,null,null,null,{"$f":"IF(#REF!=1,IFERROR(VLOOKUP(#REF!,[1]Sheet1!$A:$N,U$2,FALSE),\"\"),\"\")","v":{"$error":"#REF!"}},null,null,"H","H J A","1x",null,"500 m","Aalesunds Roklub",null,"09:00",275,null,"Aalesunds Roklub","Nei",null,"26.07.2001","Ja","M260701FRE03","7811197","13.04.2018","Aalesunds Roklub","Johan Myklebust","90894714","johan.myklebust@nordea.no","21.08.2018"]
["211",1,"Søn 02.09",211,null,"1305","0945",null,null,null,null,null,null,0.49559469876872686,null,null,null,null,null,null,{"$f":"IF(#REF!=1,IFERROR(VLOOKUP(#REF!,[1]Sheet1!$A:$N,U$2,FALSE),\"\"),\"\")","v":{"$error":"#REF!"}},null,null,"H","H J A","1x",null,"500 m","Aalesunds Roklub","Arild Lykkebø Johnsen","09:00",275,null,"Aalesunds Roklub","Nei",null,"27.10.2001","Ja","M271001ARI02","5661384","30.05.2018","Aalesunds Roklub","Johan Myklebust","90894714","johan.myklebust@nordea.no","21.08.2018"]
["211",1,"Søn 02.09",211,null,"1305","0945",null,null,null,null,null,null,0.70702982711377105,null,null,null,null,null,null,{"$f":"IF(#REF!=1,IFERROR(VLOOKUP(#REF!,[1]Sheet1!$A:$N,U$2,FALSE),\"\"),\"\")","v":{"$error":"#REF!"}},null,null,"H","H J A","1x",null,"500 m","Tønsberg Roklub","Sander Benden Nilsen","09:00",275,null,"Tønsberg Roklub","Nei",null,"05.05.2001","Ja","M050501MAR07","7153998","13.04.2018","Tønsberg Roklub",null,"92061715","svendandersen@me.com","22.08.2018"]
[null,null,null,null,null,null,null,null,null,null,null,null,null,0.44191571489721626,null,null,null,null,null,null,{"$f":"IF(#REF!=1,IFERROR(VLOOKUP(#REF!,[1]Sheet1!$A:$N,U$2,FALSE),\"\"),\"\")","v":{"$error":"#REF!"}}]
[{"$f":"D217&R217","v":"2120"},1,"Søn 02.09",212,null,{"$f":"VLOOKUP($D217,Tidsplan!$B:$D,3,FALSE)","v":"1315"},{"$f":"VLOOKUP($D217,Tidsplan!$B:$D,2,FALSE)","v":""},null,null,null,null,null,null,0.33991887611091753,"S","K",null,0,null,null,{"$f":"IF(#REF!=1,IFERROR(VLOOKUP(#REF!,[1]Sheet1!$A:$N,U$2,FALSE),\"\"),\"\")","v":{"$error":"#REF!"}},null,null,"H","S/Master","4-",{"$f":"IF(R217<>0,LEFT(Z217,1),0)*1","v":0},500]
[{"$f":"D218&R218","v":"2121"},{"$f":"OFFSET(B218,-1,0)","v":1},"Søn 02.09",212,null,{"$f":"OFFSET(F218,-1,0)","v":"1315"},null,null,null,null,null,null,null,0.25947169464137254,null,null,null,1,null,null,{"$f":"IF(#REF!=1,IFERROR(VLOOKUP(#REF!,[1]Sheet1!$A:$N,U$2,FALSE),\"\"),\"\")","v":{"$error":"#REF!"}},null,null,"H","H S","1x",null,"500 m","OSI","Markus Christensen, \nHalvor West, \nFelix Fritz, \nAmund Bjørnevik","09:00",375,null,"OSI","Nei"]
[{"$f":"D219&R219","v":"2130"},0,"Søn 02.09",213,null,{"$f":"VLOOKUP($D219,Tidsplan!$B:$D,3,FALSE)","v":"1335"},{"$f":"VLOOKUP($D219,Tidsplan!$B:$D,2,FALSE)","v":""},null,null,null,null,null,null,0.8860313814487617,"",null,null,0,null,null,{"$f":"IF(#REF!=1,IFERROR(VLOOKUP(#REF!,[1]Sheet1!$A:$N,U$2,FALSE),\"\"),\"\")","v":{"$error":"#REF!"}},null,null,"D","Master","4x",{"$f":"IF(R219<>0,LEFT(Z219,1),0)*1","v":0},500]
[{"$f":"D220&R220","v":"2131"},{"$f":"OFFSET(B220,-1,0)","v":0},"Søn 02.09",213,null,{"$f":"OFFSET(F220,-1,0)","v":"1335"},null,null,null,null,null,null,null,0.25054706749911149,null,null,null,1,null,null,{"$f":"IF(#REF!=1,IFERROR(VLOOKUP(#REF!,[1]Sheet1!$A:$N,U$2,FALSE),\"\"),\"\")","v":{"$error":"#REF!"}},null,null,"D","D M","4x",null,"500 m","Aalesunds Roklub 1","Bodil Saure Vegsund\nSynnøve Devold\nKari Midtgård Andreassen\nAnne Cathrin Kringstad Nørve","09:00",375,null,"Aalesunds Roklub",null,null,"19.04.1978\n03.05.1963\n22.08.1977\n30.07.1971","Ja\nJa\nJa\nJa","K190478BOD02\nK030563SYN01\nK220877KAR04\nK300771ANN01","6100789\n670931\n6112516\n7074380","\n\n\n","Aalesunds Roklub\nAalesunds Roklub\nAalesunds Roklub\nAalesunds Roklub","Johan Gerhard Myklebust\n","90894714\n","johan.myklebust@nordea.no\n","21.08.2018\n21.08.2018\n21.08.2018\n21.08.2018"]
[{"$f":"D221&R221","v":"2140"},1,"Søn 02.09",214,null,{"$f":"VLOOKUP($D221,Tidsplan!$B:$D,3,FALSE)","v":"1335"},{"$f":"VLOOKUP($D221,Tidsplan!$B:$D,2,FALSE)","v":""},null,null,null,null,null,null,0.9305381381552289,null,"K",null,0,null,null,{"$f":"IF(#REF!=1,IFERROR(VLOOKUP(#REF!,[1]Sheet1!$A:$N,U$2,FALSE),\"\"),\"\")","v":{"$error":"#REF!"}},null,null,"H","H J A","2-",{"$f":"IF(R221<>0,LEFT(Z221,1),0)*1","v":0},"500 m"]
[{"$f":"D222&R222","v":"2141"},{"$f":"OFFSET(B222,-1,0)","v":1},"Søn 02.09",214,null,{"$f":"OFFSET(F222,-1,0)","v":"1335"},null,null,null,null,null,null,null,0.7208801939319297,null,null,null,1,null,null,{"$f":"IF(#REF!=1,IFERROR(VLOOKUP(#REF!,[1]Sheet1!$A:$N,U$2,FALSE),\"\"),\"\")","v":{"$error":"#REF!"}},null,null,"H","H J A","2-",null,"500 m","Tønsberg Roklub 1","Lars Jørann Lindgren\nIsak Vartal-Gjerde","09:00",325,null,"Tønsberg Roklub",null,null,"30.05.2001\n24.12.2000","Ja\nJa","M300501LAR02\nM241200ISA03","4234298\n7173184","13.04.2018\n13.04.2018","Tønsberg Roklub\nTønsberg Roklub","Svend Andersen\n","92061715\n","svendandersen@me.com\n","21.08.2018\n21.08.2018"]
[null,null,null,null,null,null,null,null,null,null,null,null,null,0.18463246853111925,null,null,null," ",null,null,{"$f":"IF(#REF!=1,IFERROR(VLOOKUP(#REF!,[1]Sheet1!$A:$N,U$2,FALSE),\"\"),\"\")","v":{"$error":"#REF!"}}]
[{"$f":"D224&R224","v":"2150"},1,"Søn 02.09",215,null,{"$f":"VLOOKUP($D224,Tidsplan!$B:$D,3,FALSE)","v":"1340"},{"$f":"VLOOKUP($D224,Tidsplan!$B:$D,2,FALSE)","v":""},null,null,null,null,null,null,0.21444254689412667," S",null,null,0,null,null,{"$f":"IF(#REF!=1,IFERROR(VLOOKUP(#REF!,[1]Sheet1!$A:$N,U$2,FALSE),\"\"),\"\")","v":{"$error":"#REF!"}},null,null,"H","H S","1x",{"$f":"IF(R224<>0,LEFT(Z224,1),0)*1","v":0},"500 m"]
["2151",{"$f":"OFFSET(B225,-1,0)","v":1},"Søn 02.09",215,null,{"$f":"OFFSET(F225,-1,0)","v":"1340"},null,null,null,null,null,null,null,0.67163065661472909,null,null,null,1,null,null,{"$f":"IF(#REF!=1,IFERROR(VLOOKUP(#REF!,[1]Sheet1!$A:$N,U$2,FALSE),\"\"),\"\")","v":{"$error":"#REF!"}},null,null,"H","H S","1x",null,"500 m","Bærum Roklubb","Espen Finanger","09:00",275,null,"Bærum Roklubb","Nei",null,"19.05.1975","Ja","M190575ESP02","587671",null,"Bærum Roklubb","Bente Dingen","45411863","bente.dingen@lundin-norway.no","22.08.2018"]
[{"$f":"D226&R226","v":"2152"},{"$f":"OFFSET(B226,-1,0)","v":1},"Søn 02.09",215,null,{"$f":"OFFSET(F226,-1,0)","v":"1340"},null,null,null,null,null,null,null,0.7468604879167724,null,null,null,2,null,null,{"$f":"IF(#REF!=1,IFERROR(VLOOKUP(#REF!,[1]Sheet1!$A:$N,U$2,FALSE),\"\"),\"\")","v":{"$error":"#REF!"}},null,null,"H","H S","1x",null,"500 m","Haldens Roklub","Thomas Furuvarp","09:00",275,null,"Haldens Roklub","Nei",null,"29.06.1995","Ja","M290695THO04","5304581","13.04.2018","Haldens Roklub",null,"91725846","oskarvanetten@gmail.com","22.08.2018"]
["2153",{"$f":"OFFSET(B227,-1,0)","v":1},"Søn 02.09",215,null,{"$f":"OFFSET(F227,-1,0)","v":"1340"},null,null,null,null,null,null,null,1.7976875826106298E-2,null,null,null,3,null,null,{"$f":"IF(#REF!=1,IFERROR(VLOOKUP(#REF!,[1]Sheet1!$A:$N,U$2,FALSE),\"\"),\"\")","v":{"$error":"#REF!"}},null,null,"H","H S","1x",null,"500 m","Bærum Roklubb","Halvor Hølmkjær West","09:00",275,null,"Bærum Roklubb","Nei",null,"09.02.1994","Ja","M090294HAL02","5993966","13.04.2018","Bærum Roklubb","Bente Dingen","45411863","bente.dingen@lundin-norway.no","21.08.2018"]
["2160",0,"Søn 02.09",216,null,{"$f":"VLOOKUP($D228,Tidsplan!$B:$D,3,FALSE)","v":"1340"},{"$f":"VLOOKUP($D228,Tidsplan!$B:$D,2,FALSE)","v":""},null,null,null,null,null,null,0.74420175625438001,"S",null,null,0,null,null,{"$f":"IF(#REF!=1,IFERROR(VLOOKUP(#REF!,[1]Sheet1!$A:$N,U$2,FALSE),\"\"),\"\")","v":{"$error":"#REF!"}},null,null,"H","S L ","1x",{"$f":"IF(R228<>0,LEFT(Z228,1),0)*1","v":0},500]
["2161",{"$f":"OFFSET(B229,-1,0)","v":0},"Søn 02.09",216,null,{"$f":"OFFSET(F229,-1,0)","v":"1340"},null,null,null,null,null,null,null,0.3895068634884622,null,null,null,1,null,null,{"$f":"IF(#REF!=1,IFERROR(VLOOKUP(#REF!,[1]Sheet1!$A:$N,U$2,FALSE),\"\"),\"\")","v":{"$error":"#REF!"}},null,null,"D","D J A","4-",null,"500 m","Bærum Roklubb 1","Stina Halvorsen Vad\nThea Hertzum Aunaas\nCaitlin Isabelle Aalders\nIda Aurora Moberg Værnes","09:00",375,null,"Bærum Roklubb",null,null,"26.09.2000\n15.01.2001\n03.06.2001\n22.05.2002","Ja\nJa\nJa\nNei","K260900STI02\nK150101THE02\nK030601CAI03\nK220502IDA01","6778019\n6790513\n7289717\n4612874","13.04.2018\n17.04.2018\n17.04.2018\n","Bærum Roklubb\nBærum Roklubb\nBærum Roklubb\nUkjent/ikke registrert klubb","Bente Dingen\n","45411863\n","bente.dingen@lundin-norway.no\n","22.08.2018\n22.08.2018\n22.08.2018\n22.08.2018"]
[null,null,null,null,null,null,null,null,null,null,null,null,null,0.35923054795505793,null,null,null," ",null,null,{"$f":"IF(#REF!=1,IFERROR(VLOOKUP(#REF!,[1]Sheet1!$A:$N,U$2,FALSE),\"\"),\"\")","v":{"$error":"#REF!"}}]
[{"$f":"D231&R231","v":"2170"},0,"Søn 02.09",217,null,{"$f":"VLOOKUP($D231,Tidsplan!$B:$D,3,FALSE)","v":"1340"},{"$f":"VLOOKUP($D231,Tidsplan!$B:$D,2,FALSE)","v":""},null,null,null,null,null,null,0.41829271071368712,"S",null,null,0,null,null,{"$f":"IF(#REF!=1,IFERROR(VLOOKUP(#REF!,[1]Sheet1!$A:$N,U$2,FALSE),\"\"),\"\")","v":{"$error":"#REF!"}},null,null,"H","S L v","1x",{"$f":"IF(R231<>0,LEFT(Z231,1),0)*1","v":0},500]
["2180",1,"Søn 02.09",218,null,{"$f":"VLOOKUP($D232,Tidsplan!$B:$D,3,FALSE)","v":"1345"},{"$f":"VLOOKUP($D232,Tidsplan!$B:$D,2,FALSE)","v":""},null,null,null,null,null,null,0.76122893808082748,"S","K",null,0,null,null,{"$f":"IF(#REF!=1,IFERROR(VLOOKUP(#REF!,[1]Sheet1!$A:$N,U$2,FALSE),\"\"),\"\")","v":{"$error":"#REF!"}},null,null,"D","D S","2x",{"$f":"IF(R232<>0,LEFT(Z232,1),0)*1","v":0},"500 m "]
["2181",{"$f":"OFFSET(B233,-1,0)","v":1},"Søn 02.09",218,null,{"$f":"OFFSET(F233,-1,0)","v":"1345"},null,null,null,null,null,null,null,0.91436378288809184,null,null,null,1," ",null,{"$f":"IF(#REF!=1,IFERROR(VLOOKUP(#REF!,[1]Sheet1!$A:$N,U$2,FALSE),\"\"),\"\")","v":{"$error":"#REF!"}},null,null,"D","D S","2x",null,"500 m ","Bærum Roklubb 1","Oda Endresen\nMaria Fonneløp Inderberg","09:00",325,null,"Bærum Roklubb",null,null,"07.03.1992\n28.02.1994","Ja\nJa","K070392ODA03\nK280294MAR04","6631175\n8081992","\n","Bærum Roklubb\nBærum Roklubb","Bente Dingen\n","45411863\n","bente.dingen@lundin-norway.no\n","21.08.2018\n21.08.2018"]
["2182",{"$f":"OFFSET(B234,-1,0)","v":1},"Søn 02.09",218,null,{"$f":"OFFSET(F234,-1,0)","v":"1345"},null,null,null,null,null,null,null,0.39123528491015869,null,null,null,2," ",null,{"$f":"IF(#REF!=1,IFERROR(VLOOKUP(#REF!,[1]Sheet1!$A:$N,U$2,FALSE),\"\"),\"\")","v":{"$error":"#REF!"}},null,null,"D","D S","2x",null,"500 m ","Christiania Roklub 1","Marte Morgenlie Skei\nEsther Verburg","09:00",325,null,"Christiania Roklub",null,null,"20.05.2000\n22.01.1969","Nei\nJa","K200500MAR04\nK220169EST04","4488301\n5301147","31.07.2018\n22.05.2018","Christiania Roklub\nChristiania Roklub","Grete Isachsen Stokke\n","91338845\n","greteistokke@hotmail.com;grisach@gmail.com\n","22.08.2018\n22.08.2018"]
[{"$f":"D235&R235","v":"2183"},{"$f":"OFFSET(B235,-1,0)","v":1},"Søn 02.09",218,null,{"$f":"OFFSET(F235,-1,0)","v":"1345"},null,null,null,null,null,null,null,0.45358938774534052,null,null,null,3,null,null,{"$f":"IF(#REF!=1,IFERROR(VLOOKUP(#REF!,[1]Sheet1!$A:$N,U$2,FALSE),\"\"),\"\")","v":{"$error":"#REF!"}},null,null,"D","D S","2x",null,"500 m ","Bærum Roklubb 2","Synnøve Gillebo Foss\nHilde Gudem","09:00",325,null,"Bærum Roklubb",null,null,"11.08.1999\n11.04.1979","Ja\nJa","K110899SYN04\nK110479HIL01","8066138\n6051441","\n","Bærum Roklubb\nBærum Roklubb","Bente Dingen\n","45411863\n","bente.dingen@lundin-norway.no\n","22.08.2018\n22.08.2018"]
["2184",{"$f":"OFFSET(B236,-1,0)","v":1},"Søn 02.09",218,null,{"$f":"OFFSET(F236,-1,0)","v":"1345"},null,null,null,null,null,null,null,2.5195507956249141E-2,null,null,null,4,null,null,{"$f":"IF(#REF!=1,IFERROR(VLOOKUP(#REF!,[1]Sheet1!$A:$N,U$2,FALSE),\"\"),\"\")","v":{"$error":"#REF!"}},null,null,"D","D S","2x",null,"500 m ","Christiania Roklub 2","Helga Marie Løvenskiold Kveseth\nMarte Morgenlie Skei","09:00",325,null,"Christiania Roklub",null,null,"07.05.1991\n20.05.2000","Ja\nNei","K070591HEL01\nK200500MAR04","8124580\n4488301","03.04.2018\n31.07.2018","Christiania Roklub\nChristiania Roklub","Grete Isachsen Stokke\n","91338845\n","greteistokke@hotmail.com;grisach@gmail.com\n","22.08.2018\n22.08.2018"]
[null,null," ",null,null,null,null,null,null,null,null,null,null,0.70764926425683095,null,null,null," ",null,null,{"$f":"IF(#REF!=1,IFERROR(VLOOKUP(#REF!,[1]Sheet1!$A:$N,U$2,FALSE),\"\"),\"\")","v":{"$error":"#REF!"}}]
[{"$f":"D238&R238","v":"2190"},1,"Søn 02.09",219,null,{"$f":"VLOOKUP($D238,Tidsplan!$B:$D,3,FALSE)","v":"1350"},{"$f":"VLOOKUP($D238,Tidsplan!$B:$D,2,FALSE)","v":""},null,null,null,null,null,null,0.99521976224604347," ",null,null,0,null,null,{"$f":"IF(#REF!=1,IFERROR(VLOOKUP(#REF!,[1]Sheet1!$A:$N,U$2,FALSE),\"\"),\"\")","v":{"$error":"#REF!"}},null,null,"H","H J C","2x",{"$f":"IF(R238<>0,LEFT(Z238,1),0)*1","v":0},"500 m "]
["2191",{"$f":"OFFSET(B239,-1,0)","v":1},"Søn 02.09",219,null,{"$f":"OFFSET(F239,-1,0)","v":"1350"},null,null,null,null,null,null,null,5.5125769317684759E-2,null,null,1,1," ",null,{"$f":"IF(#REF!=1,IFERROR(VLOOKUP(#REF!,[1]Sheet1!$A:$N,U$2,FALSE),\"\"),\"\")","v":{"$error":"#REF!"}},null,null,"H","H J C","2x",null,"500 m ","Aalesunds Roklub 4","Philip Andreas Monsen\nErlend Devold Refsum","09:00",325,null,"Aalesunds Roklub",null,null,"02.02.2005\n12.05.2004","Ja\nJa","M020205PHI01\nM120504ERL04","6948464\n8150106","30.05.2018\n30.05.2018","Aalesunds Roklub\nAalesunds Roklub","Johan Gerhard Myklebust\n","90894714\n","johan.myklebust@nordea.no\n","21.08.2018\n21.08.2018"]
["2192",1,"Søn 02.09",219,null,"1350",null,null,null,null,null,null,null,6.3769226343887819E-2,null,null,1,2," ",null,{"$f":"IF(#REF!=1,IFERROR(VLOOKUP(#REF!,[1]Sheet1!$A:$N,U$2,FALSE),\"\"),\"\")","v":{"$error":"#REF!"}},null,null,"H","H J C","2x",null,"500 m ","Bærum Roklubb 2","Emil Svanes\nThor Saga","09:00",325,null,"Bærum Roklubb",null,null,"09.02.2005\n28.08.2005","Ja\nJa","M090205EMI01\nM280805THO03","7947640\n6142424","11.05.2018\n05.06.2018","Bærum Roklubb\nBærum Roklubb","Bente Dingen\n","45411863\n","bente.dingen@lundin-norway.no\n","20.08.2018\n20.08.2018"]
["2193",1,"Søn 02.09",219,null,"1350",null,null,null,null,null,null,null,0.16722903692612412,null,null,1,3,null,null,{"$f":"IF(#REF!=1,IFERROR(VLOOKUP(#REF!,[1]Sheet1!$A:$N,U$2,FALSE),\"\"),\"\")","v":{"$error":"#REF!"}},null,null,"H","H J C","2x",null,"500 m ","Ormsund Roklub 1","Martin Rognerud Juvet\nMax Carl Andresen","09:00",325,null,"Ormsund Roklub",null,null,"05.03.2004\n22.06.2004","Ja\nJa","M050304MAR05\nM220604MAX04","8128450\n7259283","08.06.2018\n06.04.2018","Ormsund Roklub\nOrmsund Roklub","Eva Hansen\n","90799966\n","eva.hansen@wenaasnordic.com\n","22.08.2018\n22.08.2018"]
["2194",1,"Søn 02.09",219,null,"1350",null,null,null,null,null,null,null,0.24638242931569121,null,null,1,4,null,null,{"$f":"IF(#REF!=1,IFERROR(VLOOKUP(#REF!,[1]Sheet1!$A:$N,U$2,FALSE),\"\"),\"\")","v":{"$error":"#REF!"}},null,null,"H","H J C","2x",null,"500 m ","Norske Studenters Roklub 1","Aksel Glomnes Rudi\nHerman August Winther","09:00",325,null,"Norske Studenters Roklub",null,null,"22.10.2005\n01.10.2006","Ja\nNei","M221005AKS02\nM011006FEL03","5564987\n6965861","07.06.2018\n07.06.2018","Norske Studenters Roklub\nNorske Studenters Roklub","Erik Juel\n","48039369\n","eri-juel@online.no\n","22.08.2018\n22.08.2018"]
["2195",1,"Søn 02.09",219,null,"1350",null,null,null,null,null,null,null,0.46770873520207878,null,null,1,5,null,null,{"$f":"IF(#REF!=1,IFERROR(VLOOKUP(#REF!,[1]Sheet1!$A:$N,U$2,FALSE),\"\"),\"\")","v":{"$error":"#REF!"}},null,null,"H","H J C","2x",null,"500 m ","Aalesunds Roklub 2","Anders Myklebust Øyen\nMagnus Rønstad","09:00",325,null,"Aalesunds Roklub",null,null,"20.07.2005\n28.08.2005","Ja\nJa","M200705AND02\nM280805MAG03","6228122\n7096143","30.05.2018\n30.05.2018","Aalesunds Roklub\nAalesunds Roklub","Johan Gerhard Myklebust\n","90894714\n","johan.myklebust@nordea.no\n","21.08.2018\n21.08.2018"]
["2196",1,"Søn 02.09",219,null,"1350",null,null,null,null,null,null,null,0.52644621091979293,null,null,1,6,null,null,{"$f":"IF(#REF!=1,IFERROR(VLOOKUP(#REF!,[1]Sheet1!$A:$N,U$2,FALSE),\"\"),\"\")","v":{"$error":"#REF!"}},null,null,"H","H J C","2x",null,"500 m ","Bærum Roklubb 3","Thov Espeseth\nFerdinand Zachariassen Tenden","09:00",325,null,"Bærum Roklubb",null,null,"29.06.2005\n25.02.2005","Ja\nJa","M290605THO01\nM250205FER01","7328781\n5587277","05.06.2018\n05.08.2018","Bærum Roklubb\nBærum Roklubb","Bente Dingen\n","45411863\n","bente.dingen@lundin-norway.no\n","20.08.2018\n20.08.2018"]
["2197",1,"Søn 02.09",219,null,"1350",null,null,null,null,null,null,null,0.55755907120259085,null,null,2,7,null,null,{"$f":"IF(#REF!=1,IFERROR(VLOOKUP(#REF!,[1]Sheet1!$A:$N,U$2,FALSE),\"\"),\"\")","v":{"$error":"#REF!"}},null,null,"H","H J C","2x",null,"500 m ","Bærum Roklubb 1","Noah Holger Johnsen Fangel\nBrage Skaar","09:00",325,null,"Bærum Roklubb",null,null,"24.10.2004\n27.12.2004","Ja\nJa","M241004NOA04\nM271204BRA01","8111044\n5137898","05.06.2018\n13.06.2018","Bærum Roklubb\nBærum Roklubb","Bente Dingen\n","45411863\n","bente.dingen@lundin-norway.no\n","20.08.2018\n20.08.2018"]
["2198",1,"Søn 02.09",219,null,"1350",null,null,null,null,null,null,null,0.58295967552002548,null,null,2,8,null,null,{"$f":"IF(#REF!=1,IFERROR(VLOOKUP(#REF!,[1]Sheet1!$A:$N,U$2,FALSE),\"\"),\"\")","v":{"$error":"#REF!"}},null,null,"H","H J C","2x",null,"500 m ","Aalesunds Roklub 3","Gabriel Pedersen\nHeine Klauset Furuli","09:00",325,null,"Aalesunds Roklub",null,null,"24.11.2004\n31.07.2005","Ja\nJa","M241104GAB01\nM310705HEI05","7633038\n6582360","30.05.2018\n30.05.2018","Aalesunds Roklub\nAalesunds Roklub","Johan Gerhard Myklebust\n","90894714\n","johan.myklebust@nordea.no\n","21.08.2018\n21.08.2018"]
["2199",1,"Søn 02.09",219,null,"1350",null,null,null,null,null,null,null,0.602093485037273,null,null,2,9,null,null,{"$f":"IF(#REF!=1,IFERROR(VLOOKUP(#REF!,[1]Sheet1!$A:$N,U$2,FALSE),\"\"),\"\")","v":{"$error":"#REF!"}},null,null,"H","H J C","2x",null,"500 m ","Moss Roklubb 1","Sigurd Brevold\nOskar Gulin Skoglunn","09:00",325,null,"Moss Roklubb",null,null,"30.08.2004\n26.05.2004","Ja\nJa","M300804SIG03\nM260504OSK01","7678533\n5217507","22.03.2018\n22.03.2018","Moss Roklubb\nMoss Roklubb","Jon Børre Rekstad\n","92252667\n","rekstad0@gmail.com\n","22.08.2018\n22.08.2018"]
["21910",1,"Søn 02.09",219,null,"1350",null,null,null,null,null,null,null,0.67829046454129394,null,null,2,10,null,null,{"$f":"IF(#REF!=1,IFERROR(VLOOKUP(#REF!,[1]Sheet1!$A:$N,U$2,FALSE),\"\"),\"\")","v":{"$error":"#REF!"}},null,null,"H","H J C","2x",null,"500 m ","Christiania Roklub 2","Jacob Balder Hagen\nLorentz Andreas Rogge Pran","09:00",325,null,"Christiania Roklub",null,null,"14.01.2004\n29.01.2004","Ja\nJa","M140104JAC01\nM290104LOR01","7522750\n8138326","\n06.03.2018","Christiania Roklub\nChristiania Roklub","Grete Isachsen Stokke\n","91338845\n","greteistokke@hotmail.com;grisach@gmail.com\n","22.08.2018\n22.08.2018"]
["21911",1,"Søn 02.09",219,null,"1350",null,null,null,null,null,null,null,0.78156547372797669,null,null,2,11,null,null,{"$f":"IF(#REF!=1,IFERROR(VLOOKUP(#REF!,[1]Sheet1!$A:$N,U$2,FALSE),\"\"),\"\")","v":{"$error":"#REF!"}},null,null,"H","H J C","2x",null,"500 m ","Bærum Roklubb 4","Jacob Philip Munthe\nBrage Alexander Rognli","09:00",325,null,"Bærum Roklubb",null,null,"30.04.2005\n19.02.2005","Ja\nJa","M300405JAC02\nM190205BRA01","8085498\n4214459","13.06.2018\n05.08.2018","Bærum Roklubb\nBærum Roklubb","Bente Dingen\n","45411863\n","bente.dingen@lundin-norway.no\n","20.08.2018\n20.08.2018"]
["21912",1,"Søn 02.09",219,null,"1350",null,null,null,null,null,null,null,0.79977773738363711,null,null,2,12,null,null,{"$f":"IF(#REF!=1,IFERROR(VLOOKUP(#REF!,[1]Sheet1!$A:$N,U$2,FALSE),\"\"),\"\")","v":{"$error":"#REF!"}},null,null,"H","H J C","2x",null,"500 m ","Aalesunds Roklub 1","Peter Prytz Berset\nMads Reite","09:00",325,null,"Aalesunds Roklub",null,null,"22.12.2005\n27.05.2006","Ja\nNei","M221205PET02\nM270506MAD02","7619015\n8233207","30.05.2018\n30.05.2018","Aalesunds Roklub\nAalesunds Roklub","Johan Gerhard Myklebust\n","90894714\n","johan.myklebust@nordea.no\n","21.08.2018\n21.08.2018"]
["21913",1,"Søn 02.09",219,null,"1350",null,null,null,null,null,null,null,0.98090423973660579,null,null,3,13,null,null,{"$f":"IF(#REF!=1,IFERROR(VLOOKUP(#REF!,[1]Sheet1!$A:$N,U$2,FALSE),\"\"),\"\")","v":{"$error":"#REF!"}},null,null,"H","H J C","2x",null,"500 m ","Christiania Roklub 3","Brage Nerdal\nKaspar Olof Hilsen","09:00",325,null,"Christiania Roklub",null,null,"20.08.2004\n27.04.2005","Ja\nJa","M200804BRA04\nM270405KAS03","7758069\n7758071","06.03.2018\n06.03.2018","Christiania Roklub\nChristiania Roklub","Grete Isachsen Stokke\n","91338845\n","greteistokke@hotmail.com;grisach@gmail.com\n","22.08.2018\n22.08.2018"]
["21914",1,"Søn 02.09",219,null,"1350",null,null,null,null,null,null,null,0.84735831373605419,null,null,3,14,null,null,{"$f":"IF(#REF!=1,IFERROR(VLOOKUP(#REF!,[1]Sheet1!$A:$N,U$2,FALSE),\"\"),\"\")","v":{"$error":"#REF!"}},null,null,"H","H J C","2x",null,"500 m ","Tønsberg Roklub 1","Edvin Ingvaldsen\nErik Kyvik Sandvik","09:00",325,null,"Tønsberg Roklub",null,null,"24.04.2005\n07.09.2007","Ja\nNei","M240405EDV04\nM070907ERI02","8171027\n6452187","01.05.2018\n01.05.2018","Tønsberg Roklub\nTønsberg Roklub","Svend Andersen\n","92061715\n","svendandersen@me.com\n","22.08.2018\n22.08.2018"]
["21915",1,"Søn 02.09",219,null,"1350",null,null,null,null,null,null,null,0.85731470358263351,null,null,3,15,null,null,{"$f":"IF(#REF!=1,IFERROR(VLOOKUP(#REF!,[1]Sheet1!$A:$N,U$2,FALSE),\"\"),\"\")","v":{"$error":"#REF!"}},null,null,"H","H J C","2x",null,"500 m ","Sarpsborg Roklubb ","Nor Mustafa","09:00",325,null,"Sarpsborg Roklubb - Roing",null,null,"22.10.2004","Ja","M221004NOR01","6917184","22.03.2018","Sarpsborg Roklubb - Roing","Thomas Gundersen","91874904","Thomas.gundersen@afgruppen.no;thomas.gundersen@afgruppen.no","22.08.2018"]
["21916",1,"Søn 02.09",219,null,"1350",null,null,null,null,null,null,null,0.86260940870543046,null,null,3,16,null,null,{"$f":"IF(#REF!=1,IFERROR(VLOOKUP(#REF!,[1]Sheet1!$A:$N,U$2,FALSE),\"\"),\"\")","v":{"$error":"#REF!"}},null,null,"H","H J C","2x",null,"500 m ","Moss Roklubb 2","Kim-Daniel Klarholm Munoz\nVincent Georg Erik Brooke","09:00",325,null,"Moss Roklubb",null,null,"30.12.2005\n20.06.2006","Ja\nNei","M301205KIM02\nM200606VIN03","5477783\n5373415","22.03.2018\n22.03.2018","Moss Roklubb\nMoss Roklubb","Jon Børre Rekstad\n","92252667\n","rekstad0@gmail.com\n","22.08.2018\n22.08.2018"]
["219 ",1,"Søn 02.09",219,null,"1350",null,null,null,null,null,null,null,0.8964043856708187,null,null,3," ",null,null,{"$f":"IF(#REF!=1,IFERROR(VLOOKUP(#REF!,[1]Sheet1!$A:$N,U$2,FALSE),\"\"),\"\")","v":{"$error":"#REF!"}},null,null,"H","H J C","2x",null,"500 m ","Norske Studenters Roklub 2","Sander Holmedal Bjerke\nHerman August Winther","09:00",325,null,"Norske Studenters Roklub",null,null,"20.01.2006\n24.06.2005","Nei\nJa","M010306SAN01\nM240605HER09","7266956\n8204299","07.06.2018\n07.06.2018","Norske Studenters Roklub\nNorske Studenters Roklub","Erik Juel\n","48039369\n","eri-juel@online.no\n","22.08.2018\n22.08.2018"]
["21917",1,"Søn 02.09",219,null,"1350",null,null,null,null,null,null,null,0.91899471570732416,null,null,3,17,null,null,{"$f":"IF(#REF!=1,IFERROR(VLOOKUP(#REF!,[1]Sheet1!$A:$N,U$2,FALSE),\"\"),\"\")","v":{"$error":"#REF!"}},null,null,"H","H J C","2x",null,"500 m ","Christiania Roklub 1","Jostein Eriksen Thon\nChristoffer Widding","09:00",325,null,"Christiania Roklub",null,null,"08.01.2004\n25.04.2004","Ja\nJa","M080104JOS02\nM250404CHR01","6201834\n5051812","06.03.2018\n06.03.2018","Christiania Roklub\nChristiania Roklub","Grete Isachsen Stokke\n","91338845\n","greteistokke@hotmail.com;grisach@gmail.com\n","22.08.2018\n22.08.2018"]
[null,null,null,null,null,null,null,null,null,null,null,null,null,0.97548461515706775,null,null,null,null,null,null,{"$f":"IF(#REF!=1,IFERROR(VLOOKUP(#REF!,[1]Sheet1!$A:$N,U$2,FALSE),\"\"),\"\")","v":{"$error":"#REF!"}}]
[{"$f":"D258&R258","v":"2200"},1,"Søn 02.09",220,null,{"$f":"VLOOKUP($D258,Tidsplan!$B:$D,3,FALSE)","v":"1405"},{"$f":"VLOOKUP($D258,Tidsplan!$B:$D,2,FALSE)","v":""},null,null,null,null,null,null,0.98363569650757576," ",null,null,0,null,null,{"$f":"IF(#REF!=1,IFERROR(VLOOKUP(#REF!,[1]Sheet1!$A:$N,U$2,FALSE),\"\"),\"\")","v":{"$error":"#REF!"}},null,null,"D","DJC","1x",{"$f":"IF(R258<>0,LEFT(Z258,1),0)*1","v":0},"500 m "]
["2201",{"$f":"OFFSET(B259,-1,0)","v":1},"Søn 02.09",220,null,{"$f":"OFFSET(F259,-1,0)","v":"1405"},null,null,null,null,null,null,null,0.24784351995922449,null,null,1,1,null,null,{"$f":"IF(#REF!=1,IFERROR(VLOOKUP(#REF!,[1]Sheet1!$A:$N,U$2,FALSE),\"\"),\"\")","v":{"$error":"#REF!"}},null,null,"D","D J C","1x",null,"500 m","Aalesunds Roklub","Ida Sofie Lorgen","09:00",275,null,null,"Aalesunds Roklub","Nei",null,"22.03.2005","Ja","K220305IDA04","7094408","30.05.2018","Aalesunds Roklub","Johan Myklebust","90894714","johan.myklebust@nordea.no","21.08.2018"]
["2202",1,"Søn 02.09",220,null,"1405",null,null,null,null,null,null,null,1.1781266373941834E-2,null,null,1,2,null,null,{"$f":"IF(#REF!=1,IFERROR(VLOOKUP(#REF!,[1]Sheet1!$A:$N,U$2,FALSE),\"\"),\"\")","v":{"$error":"#REF!"}},null,null,"D","D J C","1x",null,"500 m","Drammen Roklubb ","Tale Tollefsen Seip","09:00",275,null,null,"Drammen Roklubb ","Nei",null,"23.02.2004","Ja","K230304TAL01","7310638","12.03.2018","Drammen Roklubb ",null,"90660478","beatepharo@gmail.com","21.08.2018"]
["2203",1,"Søn 02.09",220,null,"1405",null,null,null,null,null,null,null,0.15082445426443114,null,null,1,3,null,null,{"$f":"IF(#REF!=1,IFERROR(VLOOKUP(#REF!,[1]Sheet1!$A:$N,U$2,FALSE),\"\"),\"\")","v":{"$error":"#REF!"}},null,null,"D","D J C","1x",null,"500 m","Tønsberg Roklub","Shirin Synnavåg","09:00",275,null,null,"Tønsberg Roklub","Nei",null,"07.02.2005","Ja","K070205SHI02","7919053","01.05.2018","Tønsberg Roklub",null,"92061715","svendandersen@me.com","22.08.2018"]
["2204",1,"Søn 02.09",220,null,"1405",null,null,null,null,null,null,null,0.17026338394083329,null,null,1,4,null,null,{"$f":"IF(#REF!=1,IFERROR(VLOOKUP(#REF!,[1]Sheet1!$A:$N,U$2,FALSE),\"\"),\"\")","v":{"$error":"#REF!"}},null,null,"D","D J C","1x",null,"500 m","Ormsund Roklub","Embla Reykdal","09:00",275,null,null,"Ormsund Roklub","Nei",null,"17.01.2004","Ja","K170104EMB01","7697937","06.04.2018","Ormsund Roklub","Eva Hansen","90799966","eva.hansen@wenaasnordic.com","22.08.2018"]
["2205",1,"Søn 02.09",220,null,"1405",null,null,null,null,null,null,null,0.17519643220289682,null,null,1,5,null,null,{"$f":"IF(#REF!=1,IFERROR(VLOOKUP(#REF!,[1]Sheet1!$A:$N,U$2,FALSE),\"\"),\"\")","v":{"$error":"#REF!"}},null,null,"D","D J C","1x",null,"500 m","Aalesunds Roklub","Natalie Grønnevik  Langlo","09:00",275,null,null,"Aalesunds Roklub","Nei",null,"05.08.2005","Ja","K050805NAT01","7095895","30.05.2018","Aalesunds Roklub","Johan Myklebust","90894714","johan.myklebust@nordea.no","21.08.2018"]
["2206",1,"Søn 02.09",220,null,"1405",null,null,null,null,null,null,null,0.47096966681947727,null,null,2,6,null,null,{"$f":"IF(#REF!=1,IFERROR(VLOOKUP(#REF!,[1]Sheet1!$A:$N,U$2,FALSE),\"\"),\"\")","v":{"$error":"#REF!"}},null,null,"D","D J C","1x",null,"500 m","Trondhjems Roklubb","Mari Hasle Falch","09:00",275,null,null,"Trondhjems Roklubb","Nei",null,"12.04.2004","Ja","K120404MAR04","4108903","08.08.2018","Trondhjems Roklubb","Solveig Berthung","90999147","solveig.berthung@gmail.com;solveig.berthung@trondhjems-roklub.no","22.08.2018"]
["2207",1,"Søn 02.09",220,null,"1405",null,null,null,null,null,null,null,0.48200541124586971,null,null,2,7,null,null,{"$f":"IF(#REF!=1,IFERROR(VLOOKUP(#REF!,[1]Sheet1!$A:$N,U$2,FALSE),\"\"),\"\")","v":{"$error":"#REF!"}},null,null,"D","D J C","1x",null,"500 m","Drammen Roklubb ","Andrea Willand-Evensen","09:00",275,null,null,"Drammen Roklubb ","Nei",null,"02.01.2005","Ja","K020105AND01","5443894","12.03.2018","Drammen Roklubb ",null,"90660478","beatepharo@gmail.com","21.08.2018"]
["2208",1,"Søn 02.09",220,null,"1405",null,null,null,null,null,null,null,0.72570692805790626,null,null,2,8,null,null,{"$f":"IF(#REF!=1,IFERROR(VLOOKUP(#REF!,[1]Sheet1!$A:$N,U$2,FALSE),\"\"),\"\")","v":{"$error":"#REF!"}},null,null,"D","D J C","1x",null,"500 m","Ormsund Roklub","Anna Luna Bjønness Yngsdal","09:00",275,null,null,"Ormsund Roklub","Nei",null,"31.12.2004","Ja","K311204ANN05","7203396","06.04.2018","Ormsund Roklub","Eva Hansen","90799966","eva.hansen@wenaasnordic.com","22.08.2018"]
["2209",1,"Søn 02.09",220,null,"1405",null,null,null,null,null,null,null,0.66563885646723564,null,null,2,9,null,null,{"$f":"IF(#REF!=1,IFERROR(VLOOKUP(#REF!,[1]Sheet1!$A:$N,U$2,FALSE),\"\"),\"\")","v":{"$error":"#REF!"}},null,null,"D","D J C","1x",null,"500 m","Drammen Roklubb ","Emma Tomlinson","09:00",275,null,null,"Drammen Roklubb ","Nei",null,"19.08.2004","Ja","K190804EMM03","5532186","12.03.2018","Drammen Roklubb ",null,"90660478","beatepharo@gmail.com","21.08.2018"]
["21910",1,"Søn 02.09",219,null,"1405",null,null,null,null,null,null,null,0.98886814484128815,null,null,3,10,null,null,{"$f":"IF(#REF!=1,IFERROR(VLOOKUP(#REF!,[1]Sheet1!$A:$N,U$2,FALSE),\"\"),\"\")","v":{"$error":"#REF!"}},null,null,"D","D J C","1x",null,"500 m","Aalesunds Roklub","Julie Kringstad Nørve","09:00",275,null,"Aalesunds Roklub","Nei",null,"19.05.2006","Nei","K190506JUL02","6824678","30.05.2018","Aalesunds Roklub","Johan Myklebust","90894714","johan.myklebust@nordea.no","21.08.2018"]
["22011",1,"Søn 02.09",220,null,"1405",null,null,null,null,null,null,null,0.86581419633397882,null,null,3,11,null,null,{"$f":"IF(#REF!=1,IFERROR(VLOOKUP(#REF!,[1]Sheet1!$A:$N,U$2,FALSE),\"\"),\"\")","v":{"$error":"#REF!"}},null,null,"D","D J C","1x",null,"500 m","Ormsund Roklub","Tyra Eklo Hjemdal","09:00",275,null,null,"Ormsund Roklub","Nei",null,"18.12.2004","Ja","K181204TYR02","7259282","06.04.2018","Ormsund Roklub","Eva Hansen","90799966","eva.hansen@wenaasnordic.com","22.08.2018"]
["22012",1,"Søn 02.09",220,null,"1405",null,null,null,null,null,null,null,0.88471758959232638,null,null,3,12,null,null,{"$f":"IF(#REF!=1,IFERROR(VLOOKUP(#REF!,[1]Sheet1!$A:$N,U$2,FALSE),\"\"),\"\")","v":{"$error":"#REF!"}},null,null,"D","D J C","1x",null,"500 m","Sarpsborg Roklubb - Roing",null,"09:00",275,null,null,"Sarpsborg Roklubb - Roing","Nei",null,"13.04.2006","Nei","K130406MAR07","8128455","22.03.2018","Sarpsborg Roklubb - Roing","Thomas Gundersen","91874904","Thomas.gundersen@afgruppen.no;thomas.gundersen@afgruppen.no","22.08.2018"]
["22013",1,"Søn 02.09",220,null,"1405",null,null,null,null,null,null,null,0.89739970262775659,null,null,3,13,null,null,{"$f":"IF(#REF!=1,IFERROR(VLOOKUP(#REF!,[1]Sheet1!$A:$N,U$2,FALSE),\"\"),\"\")","v":{"$error":"#REF!"}},null,null,"D","D J C","1x",null,"500 m","Aalesunds Roklub",null,"09:00",275,null,null,"Aalesunds Roklub","Nei",null,"29.07.2005","Ja","K290705GUR05","8157743","30.05.2018","Aalesunds Roklub","Johan Myklebust","90894714","johan.myklebust@nordea.no","21.08.2018"]
["2210",1,"Søn 02.09",221,null,{"$f":"VLOOKUP($D272,Tidsplan!$B:$D,3,FALSE)","v":"1420"},{"$f":"VLOOKUP($D272,Tidsplan!$B:$D,2,FALSE)","v":"0925"},null,null,null,null,null,null,2.7714471119638096E-2," ",null,null,0,null,null,{"$f":"IF(#REF!=1,IFERROR(VLOOKUP(#REF!,[1]Sheet1!$A:$N,U$2,FALSE),\"\"),\"\")","v":{"$error":"#REF!"}},null,null,"H","H J B","2x",{"$f":"IF(R272<>0,LEFT(Z272,1),0)*1","v":0},"500 m "]
[{"$f":"D273&R273","v":"221"},{"$f":"OFFSET(B273,-1,0)","v":1},"Søn 02.09",221,null,{"$f":"OFFSET(F273,-1,0)","v":"1420"},"0925",null,null,null,null,null,null,0.56035811064178431,null,null,null,null,null,null,{"$f":"IF(#REF!=1,IFERROR(VLOOKUP(#REF!,[1]Sheet1!$A:$N,U$2,FALSE),\"\"),\"\")","v":{"$error":"#REF!"}},null,null,"H","H J B","2x",null,"500 m ","Christiania Roklub 1","Elias Mahler\nÅsmund Olai Sand-Larsen","09:00",325,null,"Christiania Roklub",null,null,"22.12.2002\n15.10.2002","Ja\nJa","M221202ELI02\nM151002ÅSM01","4671202\n4513284","\n06.03.2018","Ukjent/ikke registrert klubb\nChristiania Roklub","Grete Isachsen Stokke\n","91338845\n","greteistokke@hotmail.com;grisach@gmail.com\n","22.08.2018\n22.08.2018"]
["221",1,"Søn 02.09",221,null,"1420","0925",null,null,null,null,null,null,0.47515347501861216,null,null,null,null,null,null,{"$f":"IF(#REF!=1,IFERROR(VLOOKUP(#REF!,[1]Sheet1!$A:$N,U$2,FALSE),\"\"),\"\")","v":{"$error":"#REF!"}},null,null,"H","H J B","2x",null,"500 m ","Drammen Roklubb  1","Ulrik Pharo Lohne\nHampus Erik Vesterberg-Heltne","09:00",325,null,"Drammen Roklubb ",null,null,"09.05.2004\n07.02.2003","Nei\nJa","M090504ULR01\nM070203HAM03","5057646\n6756072","12.03.2018\n12.03.2018","Drammen Roklubb \nDrammen Roklubb ","Beate Pharo\n","90660478\n","beatepharo@gmail.com\n","21.08.2018\n21.08.2018"]
["221",1,"Søn 02.09",221,null,"1420","0925",null,null,null,null,null,null,0.60661875284681177,null,null,null,null,null,null,{"$f":"IF(#REF!=1,IFERROR(VLOOKUP(#REF!,[1]Sheet1!$A:$N,U$2,FALSE),\"\"),\"\")","v":{"$error":"#REF!"}},null,null,"H","H J B","2x",null,"500 m ","Drammen Roklubb  2","Anders Grøgård\nJonas Willand-Evensen","09:00",325,null,"Drammen Roklubb ",null,null,"20.06.2003\n30.08.2003","Ja\nJa","M200603AND02\nM300803JON01","8075279\n4879656","02.05.2018\n12.03.2018","Bærum Roklubb\nDrammen Roklubb ","Beate Pharo\n","90660478\n","beatepharo@gmail.com\n","21.08.2018\n21.08.2018"]
["221",1,"Søn 02.09",221,null,"1420","0925",null,null,null,null,null,null,8.2452792339828829E-3,null,null,null,null,null,null,{"$f":"IF(#REF!=1,IFERROR(VLOOKUP(#REF!,[1]Sheet1!$A:$N,U$2,FALSE),\"\"),\"\")","v":{"$error":"#REF!"}},null,null,"H","H J B","2x",null,"500 m ","Drammen Roklubb  3","Sebastian Meier Rasmussen\nJohan Sebastian Remmen","09:00",325,null,"Drammen Roklubb ",null,null,"14.04.2003\n14.07.2003","Ja\nJa","M140403SEB04\nM140703JOH03","7710737\n6131539","\n12.03.2018","Drammen Roklubb \nDrammen Roklubb ","Beate Pharo\n","90660478\n","beatepharo@gmail.com\n","21.08.2018\n21.08.2018"]
["221",1,"Søn 02.09",221,null,"1420","0925",null,null,null,null,null,null,7.7778149000900521E-2,null,null,null,null,null,null,{"$f":"IF(#REF!=1,IFERROR(VLOOKUP(#REF!,[1]Sheet1!$A:$N,U$2,FALSE),\"\"),\"\")","v":{"$error":"#REF!"}},null,null,"H","H J B","2x",null,"500 m ","Drammen Roklubb  4","Christian Juven Brandt\nHåkon Villum Hansen","09:00",325,null,"Drammen Roklubb ",null,null,"16.09.2003\n04.05.2004","Ja\nNei","M160903CHR01\nM040504HÅK13","4573154\n8104025","10.04.2018\n30.05.2018","Drammen Roklubb \nDrammen Roklubb ","Beate Pharo\n","90660478\n","beatepharo@gmail.com\n","21.08.2018\n21.08.2018"]
["221",1,"Søn 02.09",221,null,"1420","0925",null,null,null,null,null,null,0.70385039720533482,null,null,null,null,null,null,{"$f":"IF(#REF!=1,IFERROR(VLOOKUP(#REF!,[1]Sheet1!$A:$N,U$2,FALSE),\"\"),\"\")","v":{"$error":"#REF!"}},null,null,"H","H J B","2x",null,"500 m ","Haldens Roklub 1","Haakon Elias Solli Borge\nOliver Andreas Melnes","09:00",325,null,"Haldens Roklub",null,null,"21.02.2002\n24.02.2002","Ja\nJa","M210202HAA02\nM240202OLI02","5006685\n6398349","13.04.2018\n22.03.2018","Haldens Roklub\nSarpsborg Roklubb - Roing","Oskar Van Etten Jarem\n","91725846\n","oskarvanetten@gmail.com\n","22.08.2018\n22.08.2018"]
["221",1,"Søn 02.09",221,null,"1420","0925",null,null,null,null,null,null,0.17008320040781832,null,null,null,null,null,null,{"$f":"IF(#REF!=1,IFERROR(VLOOKUP(#REF!,[1]Sheet1!$A:$N,U$2,FALSE),\"\"),\"\")","v":{"$error":"#REF!"}},null,null,"H","H J B","2x",null,"500 m ","Moss Roklubb 1","Viktor Emanuel Vatterdal Rekstad\nSimen Meinike Dørre","09:00",325,null,"Moss Roklubb",null,null,"29.01.2003\n01.04.2003","Ja\nJa","M290103VIK01\nM010403SIM03","5993278\n7261136","22.03.2018\n22.03.2018","Moss Roklubb\nMoss Roklubb","Jon Børre Rekstad\n","92252667\n","rekstad0@gmail.com\n","22.08.2018\n22.08.2018"]
["221",1,"Søn 02.09",221,null,"1420","0925",null,null,null,null,null,null,0.83064184724724177,null,null,null,null,null,null,{"$f":"IF(#REF!=1,IFERROR(VLOOKUP(#REF!,[1]Sheet1!$A:$N,U$2,FALSE),\"\"),\"\")","v":{"$error":"#REF!"}},null,null,"H","H J B","2x",null,"500 m ","Moss Roklubb 2","Simen Solbakken Thømt\nMajlind Begaj","09:00",325,null,"Moss Roklubb",null,null,"17.05.2002\n30.04.2002","Ja\nJa","M170502SIM07\nM300402MAJ01","7189809\n6977105","22.03.2018\n22.03.2018","Moss Roklubb\nSarpsborg Roklubb - Roing","Jon Børre Rekstad\n","92252667\n","rekstad0@gmail.com\n","22.08.2018\n22.08.2018"]
["221",1,"Søn 02.09",221,null,"1420","0925",null,null,null,null,null,null,0.22357339190592773,null,null,null,null,null,null,{"$f":"IF(#REF!=1,IFERROR(VLOOKUP(#REF!,[1]Sheet1!$A:$N,U$2,FALSE),\"\"),\"\")","v":{"$error":"#REF!"}},null,null,"H","H J B","2x",null,"500 m ","Norske Studenters Roklub 1","Jack Schønberg\nAxel Woxen","09:00",325,null,"Norske Studenters Roklub",null,null,"01.01.2003\n16.12.2003","Ja\nJa","M010103JAC04\nM161203AXE03","8247213\n8133394","07.06.2018\n","Norske Studenters Roklub\nNorske Studenters Roklub","Erik Juel\n","48039369\n","eri-juel@online.no\n","22.08.2018\n22.08.2018"]
["221",1,"Søn 02.09",221,null,"1420","0925",null,null,null,null,null,null,7.2248958433744903E-2,null,null,null,null,null,null,{"$f":"IF(#REF!=1,IFERROR(VLOOKUP(#REF!,[1]Sheet1!$A:$N,U$2,FALSE),\"\"),\"\")","v":{"$error":"#REF!"}},null,null,"H","H J B","2x",null,"500 m ","Norske Studenters Roklub 2","Trygve Bye Løken\nBror Henrik Flyen Storsten","09:00",325,null,"Norske Studenters Roklub",null,null,"22.04.2003\n17.01.2002","Ja\nJa","M220403TRY05\nM170102BRO01","8235153\n5003101","29.03.2018\n","Norske Studenters Roklub\nNorske Studenters Roklub","Erik Juel\n","48039369\n","eri-juel@online.no\n","22.08.2018\n22.08.2018"]
["221",1,"Søn 02.09",221,null,"1420","0925",null,null,null,null,null,null,0.78941440681977237,null,null,null,null,null,null,{"$f":"IF(#REF!=1,IFERROR(VLOOKUP(#REF!,[1]Sheet1!$A:$N,U$2,FALSE),\"\"),\"\")","v":{"$error":"#REF!"}},null,null,"H","H J B","2x",null,"500 m ","Sarpsborg Roklubb\nOrmsund Roklub 1","Marius Antonsen Thime\nTruls Oskar Hansen","09:00",325,null,"Ormsund Roklub",null,null,"07.06.2004\n22.07.2004","Nei\nNei","M070604MAR06\nM220704TRU01","6707662\n7203412","22.03.2018\n06.04.2018","Sarpsborg Roklubb - Roing\nOrmsund Roklub","Eva Hansen\n","90799966\n","eva.hansen@wenaasnordic.com\n","22.08.2018\n22.08.2018"]
["221",1,"Søn 02.09",221,null,"1420","0925",null,null,null,null,null,null,0.58363542682018676,null,null,null,null,null,null,{"$f":"IF(#REF!=1,IFERROR(VLOOKUP(#REF!,[1]Sheet1!$A:$N,U$2,FALSE),\"\"),\"\")","v":{"$error":"#REF!"}},null,null,"H","H J B","2x",null,"500 m ","Sarpsborg Roklubb","Håkon Grønberg Møller\nPhilip Draget","09:00",325,null,"Sarpsborg Roklubb - Roing",null,null,"22.12.2002\n24.02.2002","Ja\nJa","M221202HÅK01\nM240202OLI01","6848301\n7448632","22.03.2018\n","Sarpsborg Roklubb - Roing\nSarpsborg Roklubb - Roing","Thomas Gundersen\n","91874904\n","Thomas.gundersen@afgruppen.no;thomas.gundersen@afgruppen.no\n","22.08.2018\n22.08.2018"]
["221",1,"Søn 02.09",221,null,"1420","0925",null,null,null,null,null,null,0.56842147314413705,null,null,null,null,null,null,{"$f":"IF(#REF!=1,IFERROR(VLOOKUP(#REF!,[1]Sheet1!$A:$N,U$2,FALSE),\"\"),\"\")","v":{"$error":"#REF!"}},null,null,"H","H J B","2x",null,"500 m ","Tønsberg Roklub 1","Tobias Kjersem Larsen\nTobias Solvang","09:00",325,null,"Tønsberg Roklub",null,null,"15.09.2003\n30.05.2003","Ja\nJa","M150903TOB06\nM300503TOB07","7936549\n7014841","\n13.04.2018","Tønsberg Roklub\nTønsberg Roklub","Svend Andersen\n","92061715\n","svendandersen@me.com\n","21.08.2018\n21.08.2018"]
[null,null,null,null,null,null,null,null,null,null,null,null,null,0.65740414833671179,null,null,null,null,null,null,{"$f":"IF(#REF!=1,IFERROR(VLOOKUP(#REF!,[1]Sheet1!$A:$N,U$2,FALSE),\"\"),\"\")","v":{"$error":"#REF!"}}]
[{"$f":"D287&R287","v":"2220"},1,"Søn 02.09",222,null,{"$f":"VLOOKUP($D287,Tidsplan!$B:$D,3,FALSE)","v":"1430"},{"$f":"VLOOKUP($D287,Tidsplan!$B:$D,2,FALSE)","v":"0910"},null,null,null,null,null,null,4.3257323914084322E-3,"S",null,null,0,null,null,{"$f":"IF(#REF!=1,IFERROR(VLOOKUP(#REF!,[1]Sheet1!$A:$N,U$2,FALSE),\"\"),\"\")","v":{"$error":"#REF!"}},null,null,"D","D J A","1x",{"$f":"IF(R287<>0,LEFT(Z287,1),0)*1","v":0},"500 m"]
[{"$f":"D288&R288","v":"222"},{"$f":"OFFSET(B288,-1,0)","v":1},"Søn 02.09",222,null,{"$f":"OFFSET(F288,-1,0)","v":"1430"},"0910",null,null,null,null,null,null,0.93987680391469652,null,null,null,null,null,null,{"$f":"IF(#REF!=1,IFERROR(VLOOKUP(#REF!,[1]Sheet1!$A:$N,U$2,FALSE),\"\"),\"\")","v":{"$error":"#REF!"}},null,null,"D","D J A","1x",null,"500 m","Bærum Roklubb","Caitlin Aalders","09:00",275,null,"Bærum Roklubb","Nei",null,"03.06.2001","Ja","K030601CAI03","7289717","17.04.2018","Bærum Roklubb","Bente Dingen","45411863","bente.dingen@lundin-norway.no","21.08.2018"]
["222",1,"Søn 02.09",222,null,"1430","0910",null,null,null,null,null,null,0.20541804290651167,null,null,null,null,null,null,{"$f":"IF(#REF!=1,IFERROR(VLOOKUP(#REF!,[1]Sheet1!$A:$N,U$2,FALSE),\"\"),\"\")","v":{"$error":"#REF!"}},null,null,"D","D J A","1x",null,"500 m","Bærum Roklubb","Stina Vad","09:00",275,null,"Bærum Roklubb","Nei",null,"26.09.2000","Ja","K260900STI02","6778019","13.04.2018","Bærum Roklubb","Bente Dingen","45411863","bente.dingen@lundin-norway.no","21.08.2018"]
["222",1,"Søn 02.09",222,null,"1430","0910",null,null,null,null,null,null,0.1594095887914273,null,null,null,null,null,null,{"$f":"IF(#REF!=1,IFERROR(VLOOKUP(#REF!,[1]Sheet1!$A:$N,U$2,FALSE),\"\"),\"\")","v":{"$error":"#REF!"}},null,null,"D","D J A","1x",null,"500 m","Christiania Roklub","Nicoline Lovise Lindstrøm","09:00",275,null,"Christiania Roklub","Nei",null,"25.09.2002","Nei","K250902NIC02","8247202","14.05.2018","Christiania Roklub","Grete Isachsen Stokke","91338845","greteistokke@hotmail.com;grisach@gmail.com","22.08.2018"]
["222",1,"Søn 02.09",222,null,"1430","0910",null,null,null,null,null,null,0.60656296495294493,null,null,null,null,null,null,{"$f":"IF(#REF!=1,IFERROR(VLOOKUP(#REF!,[1]Sheet1!$A:$N,U$2,FALSE),\"\"),\"\")","v":{"$error":"#REF!"}},null,null,"D","D J A","1x",null,"500 m","Christiania Roklub","Marte Morgenlie Skei","09:00",275,null,"Christiania Roklub","Nei",null,"20.05.2000","Ja","K200500MAR04","4488301","31.07.2018","Christiania Roklub","Grete Isachsen Stokke","91338845","greteistokke@hotmail.com;grisach@gmail.com","22.08.2018"]
["222",1,"Søn 02.09",222,null,"1430","0910",null,null,null,null,null,null,0.73721582736496571,null,null,null,null,null,null,{"$f":"IF(#REF!=1,IFERROR(VLOOKUP(#REF!,[1]Sheet1!$A:$N,U$2,FALSE),\"\"),\"\")","v":{"$error":"#REF!"}},null,null,"D","D J A","1x",null,"500 m","Drammen Roklubb ","Elisabeth Maria Stenberg","09:00",275,null,"Drammen Roklubb ","Nei",null,"27.02.2001","Ja","K270201ELI03","7334407","10.04.2018","Drammen Roklubb ",null,"90660478","beatepharo@gmail.com","21.08.2018"]
["222",1,"Søn 02.09",222,null,"1430","0910",null,null,null,null,null,null,0.27155849210663618,null,null,null,null,null,null,{"$f":"IF(#REF!=1,IFERROR(VLOOKUP(#REF!,[1]Sheet1!$A:$N,U$2,FALSE),\"\"),\"\")","v":{"$error":"#REF!"}},null,null,"D","D J A","1x",null,"500 m","Drammen Roklubb ","Karoline Rydland Masch","09:00",275,null,"Drammen Roklubb ","Nei",null,"14.04.2001","Ja","K140401KAR10","7214275",null,"Drammen Roklubb ",null,"90660478","beatepharo@gmail.com","21.08.2018"]
["222",1,"Søn 02.09",222,null,"1430","0910",null,null,null,null,null,null,0.95739400722987411,null,null,null,null,null,null,{"$f":"IF(#REF!=1,IFERROR(VLOOKUP(#REF!,[1]Sheet1!$A:$N,U$2,FALSE),\"\"),\"\")","v":{"$error":"#REF!"}},null,null,"D","D J A","1x",null,"500 m","Horten Roklubb","Mia Helene Falch","09:00",275,null,"Horten Roklubb","Nei",null,"25.12.2000","Ja","K251200MIA01","4997049","12.04.2018","Horten Roklubb","Bjørn-Inge Pettersen","93280397","pettersen.bjorn.inge@gmail.com","22.08.2018"]
["222",1,"Søn 02.09",222,null,"1430","0910",null,null,null,null,null,null,0.21834333152410834,null,null,null,null,null,null,{"$f":"IF(#REF!=1,IFERROR(VLOOKUP(#REF!,[1]Sheet1!$A:$N,U$2,FALSE),\"\"),\"\")","v":{"$error":"#REF!"}},null,null,"D","D J A","1x",null,"500 m","Moss Roklubb","Lise Meinike Dørre","09:00",275,null,"Moss Roklubb","Nei",null,"13.02.2000","Ja","K130200LIS02","6059397",null,"Ukjent/ikke registrert klubb","Jon Rekstad","92252667","rekstad0@gmail.com","22.08.2018"]
["222",1,"Søn 02.09",222,null,"1430","0910",null,null,null,null,null,null,0.7746635962929812,null,null,null,null,null,null,{"$f":"IF(#REF!=1,IFERROR(VLOOKUP(#REF!,[1]Sheet1!$A:$N,U$2,FALSE),\"\"),\"\")","v":{"$error":"#REF!"}},null,null,"D","D J A","1x",null,"500 m","Ormsund Roklub","Hannah Elisabeth Grude","09:00",275,null,"Ormsund Roklub","Nei",null,"19.07.2001","Ja","K190701HAN12","7882501","06.04.2018","Ormsund Roklub","Eva Hansen","90799966","eva.hansen@wenaasnordic.com","22.08.2018"]
["222",1,"Søn 02.09",222,null,"1430","0910",null,null,null,null,null,null,0.49046459740067283,null,null,null,null,null,null,{"$f":"IF(#REF!=1,IFERROR(VLOOKUP(#REF!,[1]Sheet1!$A:$N,U$2,FALSE),\"\"),\"\")","v":{"$error":"#REF!"}},null,null,"D","D J A","1x",null,"500 m","Tønsberg Roklub","Ida kyvik Sandvik","09:00",275,null,"Tønsberg Roklub","Nei",null,"24.07.2002","Nei","K240702IDA05","7173655","13.04.2018","Tønsberg Roklub",null,"92061715","svendandersen@me.com","21.08.2018"]
["222",1,"Søn 02.09",222,null,"1430","0910",null,null,null,null,null,null,0.81858324957898998,null,null,null,null,null,null,{"$f":"IF(#REF!=1,IFERROR(VLOOKUP(#REF!,[1]Sheet1!$A:$N,U$2,FALSE),\"\"),\"\")","v":{"$error":"#REF!"}},null,null,"D","D J A","1x",null,"500 m","Tønsberg Roklub","Lene Samland","09:00",275,null,"Tønsberg Roklub","Nei",null,"30.11.2000","Ja","K301100LEN03","6134299","13.04.2018","Tønsberg Roklub",null,"92061715","svendandersen@me.com","21.08.2018"]
["222",1,"Søn 02.09",222,null,"1430","0910",null,null,null,null,null,null,0.46243034737177091,null,null,null,null,null,null,{"$f":"IF(#REF!=1,IFERROR(VLOOKUP(#REF!,[1]Sheet1!$A:$N,U$2,FALSE),\"\"),\"\")","v":{"$error":"#REF!"}},null,null,"D","D J A","1x",null,"500 m","Tønsberg Roklub","Marie Andrup-Næss","09:00",275,null,"Tønsberg Roklub","Nei",null,"09.05.2002","Nei","K090502MAR15","8036277","13.04.2018","Tønsberg Roklub",null,"92061715","svendandersen@me.com","21.08.2018"]
["222",1,"Søn 02.09",222,null,"1430","0910",null,null,null,null,null,null,0.46961883180379138,null,null,null,null,null,null,{"$f":"IF(#REF!=1,IFERROR(VLOOKUP(#REF!,[1]Sheet1!$A:$N,U$2,FALSE),\"\"),\"\")","v":{"$error":"#REF!"}},null,null,"D","D J A","1x",null,"500 m","Aalesunds Roklub","Hedda Roth","09:00",275,null,"Aalesunds Roklub","Nei",null,"01.08.2001","Ja","K010801HED01","5213239","30.05.2018","Aalesunds Roklub","Johan Myklebust","90894714","johan.myklebust@nordea.no","21.08.2018"]
[null,null," ",null,null,null,null,null,null,null,null,null,null,0.26513825113438483,null,null,null,null,null,null,{"$f":"IF(#REF!=1,IFERROR(VLOOKUP(#REF!,[1]Sheet1!$A:$N,U$2,FALSE),\"\"),\"\")","v":{"$error":"#REF!"}}]
[{"$f":"D302&R302","v":"2230"},1,"Søn 02.09",223,null,{"$f":"VLOOKUP($D302,Tidsplan!$B:$D,3,FALSE)","v":"1445"},{"$f":"VLOOKUP($D302,Tidsplan!$B:$D,2,FALSE)","v":""},null,null,null,null,null,null,0.75088053053376413," ",null,null,0,null,null,{"$f":"IF(#REF!=1,IFERROR(VLOOKUP(#REF!,[1]Sheet1!$A:$N,U$2,FALSE),\"\"),\"\")","v":{"$error":"#REF!"}},null,null,"D","D J B","4x",{"$f":"IF(R302<>0,LEFT(Z302,1),0)*1","v":0},"500 m"]
[{"$f":"D303&R303","v":"2231"},{"$f":"OFFSET(B303,-1,0)","v":1},"Søn 02.09",223,null,{"$f":"OFFSET(F303,-1,0)","v":"1445"},null,null,null,null,null,null,null,0.31328643692305491,null,null,null,1,null,null,{"$f":"IF(#REF!=1,IFERROR(VLOOKUP(#REF!,[1]Sheet1!$A:$N,U$2,FALSE),\"\"),\"\")","v":{"$error":"#REF!"}},null,null,"D","D J B","4x",null,"500 m","Christiania Roklub 1","Vårin Fagerbakke\nMartine Nesse\nMathilda Irene Monteil\nAmelia Tamburplass","09:00",375,null,"Christiania Roklub",null,null,"01.01.2003\n31.03.2003\n05.09.2003\n14.12.2004","Ja\nJa\nJa\nNei","K010103VÅR01\nK310303MAR02\nK050903MAT04\nK141204AME04","7755151\n7896615\n7741867\n8314782","06.03.2018\n06.03.2018\n\n22.08.2018","Christiania Roklub\nChristiania Roklub\nChristiania Roklub\nChristiania Roklub","Grete Isachsen Stokke\n","91338845\n","greteistokke@hotmail.com;grisach@gmail.com\n","22.08.2018\n22.08.2018\n22.08.2018\n22.08.2018"]
[{"$f":"D304&R304","v":"2232"},{"$f":"OFFSET(B304,-1,0)","v":1},"Søn 02.09",223,null,{"$f":"OFFSET(F304,-1,0)","v":"1445"},null,null,null,null,null,null,null,0.39564024827969446,null,null,null,2,null,null,{"$f":"IF(#REF!=1,IFERROR(VLOOKUP(#REF!,[1]Sheet1!$A:$N,U$2,FALSE),\"\"),\"\")","v":{"$error":"#REF!"}},null,null,"D","D J B","4x",null,"500 m","Aalesunds Roklub 2","Helle Andreassen\nMartine Nakken Henriksen\nOlida Nesset\nErika Roth","09:00",375,null,"Aalesunds Roklub",null,null,"28.10.2003\n30.09.2004\n05.02.2002\n27.08.2004","Ja\nNei\nJa\nNei","K281003HEL05\nK300904MAR06\nK050202OLI01\nK270804ERI01","6860116\n7258646\n5934237\n5395032","30.05.2018\n30.05.2018\n30.05.2018\n30.05.2018","Aalesunds Roklub\nAalesunds Roklub\nAalesunds Roklub\nAalesunds Roklub","Johan Gerhard Myklebust\n","90894714\n","johan.myklebust@nordea.no\n","21.08.2018\n21.08.2018\n21.08.2018\n21.08.2018"]
[{"$f":"D305&R305","v":"2233"},{"$f":"OFFSET(B305,-1,0)","v":1},"Søn 02.09",223,null,{"$f":"OFFSET(F305,-1,0)","v":"1445"},null,null,null,null,null,null,null,0.41268843357686447,null,null,null,3,null,null,{"$f":"IF(#REF!=1,IFERROR(VLOOKUP(#REF!,[1]Sheet1!$A:$N,U$2,FALSE),\"\"),\"\")","v":{"$error":"#REF!"}},null,null,"D","D J B","4x",null,"500 m","Norske Studenters Roklub 1","Fabia Dybwad Emblem\nSara Sigurdsen\nNora Vikesland Skou\nElla Irgens Standley","09:00",375,null,"Norske Studenters Roklub",null,null,"11.04.2003\n26.04.2003\n28.08.2003\n17.01.2003","Ja\nJa\nJa\nJa","K110403FAB02\nK260403SAR01\nK280803NOR01\nK170103ELL06","6318695\n7679466\n7850270\n8208728","29.03.2018\n07.06.2018\n07.06.2018\n07.06.2018","Norske Studenters Roklub\nNorske Studenters Roklub\nNorske Studenters Roklub\nNorske Studenters Roklub","Erik Juel\n","48039369\n","eri-juel@online.no\n","22.08.2018\n22.08.2018\n22.08.2018\n22.08.2018"]
[{"$f":"D306&R306","v":"2234"},{"$f":"OFFSET(B306,-1,0)","v":1},"Søn 02.09",223,null,{"$f":"OFFSET(F306,-1,0)","v":"1445"},null,null,null,null,null,null,null,0.52669298359593353,null,null,null,4,null,null,{"$f":"IF(#REF!=1,IFERROR(VLOOKUP(#REF!,[1]Sheet1!$A:$N,U$2,FALSE),\"\"),\"\")","v":{"$error":"#REF!"}},null,null,"D","D J B","4x",null,"500 m","Aalesunds Roklub 1","Karoline Berset\nSelma Steen Bjørlykke\nMia Rolland Engvik\nLive Strømshoved","09:00",375,null,"Aalesunds Roklub",null,null,"01.11.2002\n31.01.2004\n22.04.2004\n16.02.2004","Ja\nNei\nNei\nNei","K011102KAR02\nK310104SEL01\nK220404MIA01\nK160204LIV01","7811195\n6871648\n7091604\n7633009","13.04.2018\n30.05.2018\n30.05.2018\n30.05.2018","Aalesunds Roklub\nAalesunds Roklub\nAalesunds Roklub\nAalesunds Roklub","Johan Gerhard Myklebust\n","90894714\n","johan.myklebust@nordea.no\n","21.08.2018\n21.08.2018\n21.08.2018\n21.08.2018"]
[{"$f":"D307&R307","v":"2235"},{"$f":"OFFSET(B307,-1,0)","v":1},"Søn 02.09",223,null,{"$f":"OFFSET(F307,-1,0)","v":"1445"},null,null,null,null,null,null,null,0.83328049417096717,null,null,null,5,null,null,{"$f":"IF(#REF!=1,IFERROR(VLOOKUP(#REF!,[1]Sheet1!$A:$N,U$2,FALSE),\"\"),\"\")","v":{"$error":"#REF!"}},null,null,"D","D J B","4x",null,"500 m","Norske Studenters Roklub 2","Marie Glomnes Rudi\nElla Marie Hegge\nSara Sverdrup-Thygeson\nLisa Nakamoto Byberg","09:00",375,null,"Norske Studenters Roklub",null,null,"25.07.2003\n18.05.2003\n23.08.2002\n08.04.2003","Ja\nJa\nJa\nJa","K250703MAR04\nK180503ELL02\nK230802SAR02\nK080403LIS01","5247452\n5567226\n7321246\n5391349","29.03.2018\n29.03.2018\n29.03.2018\n29.03.2018","Norske Studenters Roklub\nNorske Studenters Roklub\nNorske Studenters Roklub\nNorske Studenters Roklub","Erik Juel\n","48039369\n","eri-juel@online.no\n","22.08.2018\n22.08.2018\n22.08.2018\n22.08.2018"]
[null,null,null,null,null,null,null,null,null,null,null,null,null,0.55835654053898542,null,null,null,null,null,null,{"$f":"IF(#REF!=1,IFERROR(VLOOKUP(#REF!,[1]Sheet1!$A:$N,U$2,FALSE),\"\"),\"\")","v":{"$error":"#REF!"}}]
[{"$f":"D309&R310","v":"2241"},1,"Søn 02.09",224,null,{"$f":"VLOOKUP($D309,Tidsplan!$B:$D,3,FALSE)","v":"1450"},{"$f":"VLOOKUP($D309,Tidsplan!$B:$D,2,FALSE)","v":""},null,null,null,null,null,null,0.30650676428865209,null,"K",null,0,null,null,{"$f":"IF(#REF!=1,IFERROR(VLOOKUP(#REF!,[1]Sheet1!$A:$N,U$2,FALSE),\"\"),\"\")","v":{"$error":"#REF!"}},null,null,"H","H M","2x",{"$f":"IF(R310<>0,LEFT(Z309,1),0)*1","v":2},"500 m "]
[{"$f":"D310&R311","v":"2242"},{"$f":"OFFSET(B310,-1,0)","v":1},"Søn 02.09",224,null,{"$f":"OFFSET(F310,-1,0)","v":"1450"},null,null,null,null,null,null,null,0.14411603984028631,null,null,null,1,null,null,{"$f":"IF(#REF!=1,IFERROR(VLOOKUP(#REF!,[1]Sheet1!$A:$N,U$2,FALSE),\"\"),\"\")","v":{"$error":"#REF!"}},null,null,"H","H M","2x",null,"500 m ","Christiania Roklub 2","Knut Einar Volden\nLars Jørgen Jensen","09:00",325,null,"Christiania Roklub",null,null,"19.10.1963\n29.07.1968","Ja\nJa","M191063KNU02\nM290768LAR05","8189836\n6755536","\n21.03.2018","Christiania Roklub\nChristiania Roklub","Grete Isachsen Stokke\n","91338845\n","greteistokke@hotmail.com;grisach@gmail.com\n","22.08.2018\n22.08.2018"]
[{"$f":"D311&R312","v":"2243"},{"$f":"OFFSET(B311,-1,0)","v":1},"Søn 02.09",224,null,{"$f":"OFFSET(F311,-1,0)","v":"1450"},null,null,null,null,null,null,null,0.17639731801059089,null,null,null,2,null,null,{"$f":"IF(#REF!=1,IFERROR(VLOOKUP(#REF!,[1]Sheet1!$A:$N,U$2,FALSE),\"\"),\"\")","v":{"$error":"#REF!"}},null,null,"H","H M","2x",null,"500 m ","Norske Studenters Roklub 1","Halvor Torjus Bergan\nJens Petter Frimann Koren","09:00",325,null,"Norske Studenters Roklub",null,null,"04.10.1965\n03.06.1964","Ja\nJa","M041065HAL03\nM030664JEN03","6340602\n8198377","07.06.2018\n","Norske Studenters Roklub,Oslo Roklubb\nNorske Studenters Roklub,Oslo Roklubb","Erik Juel\n","48039369\n","eri-juel@online.no\n","22.08.2018\n22.08.2018"]
[{"$f":"D312&R313","v":"2244"},{"$f":"OFFSET(B312,-1,0)","v":1},"Søn 02.09",224,null,{"$f":"OFFSET(F312,-1,0)","v":"1450"},null,null,null,null,null,null,null,0.9931512266687702,null,null,null,3,null,null,{"$f":"IF(#REF!=1,IFERROR(VLOOKUP(#REF!,[1]Sheet1!$A:$N,U$2,FALSE),\"\"),\"\")","v":{"$error":"#REF!"}},null,null,"H","H M","2x",null,"500 m ","Christiania Roklub 1","Henrik Heiberg\nKjetil Undset","09:00",325,null,"Christiania Roklub",null,null,"18.02.1974\n24.08.1970","Ja\nJa","M180274HEN02\nM240870KJE01","411966\n573717","22.08.2018\n22.08.2018","Christiania Roklub\nBærum Roklubb,Christiania Roklub,Stavanger Roklub","Grete Isachsen Stokke\n","91338845\n","greteistokke@hotmail.com;grisach@gmail.com\n","22.08.2018\n22.08.2018"]
[{"$f":"D313&R314","v":"2245"},{"$f":"OFFSET(B313,-1,0)","v":1},"Søn 02.09",224,null,{"$f":"OFFSET(F313,-1,0)","v":"1450"},null,null,null,null,null,null,null,0.61722498622919542,null,null,null,4,null,null,{"$f":"IF(#REF!=1,IFERROR(VLOOKUP(#REF!,[1]Sheet1!$A:$N,U$2,FALSE),\"\"),\"\")","v":{"$error":"#REF!"}},null,null,"H","H M","2x",null,"500 m ","Bærum Roklubb 1","Jan Rüdiger Weitzenböck\nPeter Draleke","09:00",325,null,"Bærum Roklubb",null,null,"01.03.1966\n14.04.1966","Ja\nJa","M010366JAN02\nM140466PET01","6761517\n8125484","\n","Bærum Roklubb\nBærum Roklubb","Bente Dingen\n","45411863\n","bente.dingen@lundin-norway.no\n","22.08.2018\n22.08.2018"]
[{"$f":"D314&#REF!","v":{"$error":"#REF!"}},{"$f":"OFFSET(B314,-1,0)","v":1},"Søn 02.09",224,null,{"$f":"OFFSET(F314,-1,0)","v":"1450"},null,null,null,null,null,null,null,0.41166846934183632,null,null,null,5,null,null,{"$f":"IF(#REF!=1,IFERROR(VLOOKUP(#REF!,[1]Sheet1!$A:$N,U$2,FALSE),\"\"),\"\")","v":{"$error":"#REF!"}},null,null,"H","H M","2x",null,"500 m ","Norske Studenters Roklub 2","Eduardo Fernandes Caetano Reis\nPhilip Anderson","09:00",325,null,"Norske Studenters Roklub",null,null,"02.11.1983\n02.08.1965","Ja\nJa","M021183EDU03\nM020865PHI01","8238773\n7500481","\n17.08.2018","Norske Studenters Roklub\nNorske Studenters Roklub","Erik Juel\n","48039369\n","eri-juel@online.no\n","22.08.2018\n22.08.2018"]
[null,null,null,null,null,null,null,null,null,null,null,null,null,0.79981531308519849,null,null,null," ",null,null,{"$f":"IF(#REF!=1,IFERROR(VLOOKUP(#REF!,[1]Sheet1!$A:$N,U$2,FALSE),\"\"),\"\")","v":{"$error":"#REF!"}}]
[{"$f":"D316&R316","v":"2250"},1,"Søn 02.09",225,null,{"$f":"VLOOKUP($D316,Tidsplan!$B:$D,3,FALSE)","v":"1455"},{"$f":"VLOOKUP($D316,Tidsplan!$B:$D,2,FALSE)","v":""},null,null,null,null,null,null,0.29307620658871081," ",null,null,0,null,null,{"$f":"IF(#REF!=1,IFERROR(VLOOKUP(#REF!,[1]Sheet1!$A:$N,U$2,FALSE),\"\"),\"\")","v":{"$error":"#REF!"}},null,null,"D","D M","2x",{"$f":"IF(R316<>0,LEFT(Z316,1),0)*1","v":0},"500 m "]
[103,{"$f":"OFFSET(B317,-1,0)","v":1},"Lør 01.09",225,null,{"$f":"OFFSET(F317,-1,0)","v":"1455"},null,null,null,null,null,null,null,0.23231961658323352,null,null,null,1,null,null,{"$f":"IF(#REF!=1,IFERROR(VLOOKUP(#REF!,[1]Sheet1!$A:$N,U$2,FALSE),\"\"),\"\")","v":{"$error":"#REF!"}},null,null,"D","D M","2x",null,"500 m ","Aalesunds Roklub","Synnøve Devold\nBodil Saure Vegsund ","09:00",325,null,"Aalesunds Roklub","Nei",null,null,null,null,null,null,"Aalesunds Roklub","Johan Myklebust","90894714","johan.myklebust@nordea.no","21.08.2018"]
[{"$f":"D318&R317","v":"2251"},{"$f":"OFFSET(B318,-1,0)","v":1},"Søn 02.09",225,null,{"$f":"OFFSET(F318,-1,0)","v":"1455"},null,null,null,null,null,null,null,0.19811306706073206,null,null,null,2,null,null,{"$f":"IF(#REF!=1,IFERROR(VLOOKUP(#REF!,[1]Sheet1!$A:$N,U$2,FALSE),\"\"),\"\")","v":{"$error":"#REF!"}},null,null,"D","D M","2x",null,"500 m ","Moss Roklubb 1","Marika Erlandsen\nLise Meinike Dørre","09:00",325,null,"Moss Roklubb",null,null,"29.07.1976\n13.02.2000","Ja\nNei","K290776MAR05\nK130200LIS02","7170315\n6059397","\n","Norske Studenters Roklub,Oslo Roklubb\nÅrungen Ro- og Kajakklubb","Jon Børre Rekstad\n","92252667\n","rekstad0@gmail.com\n","22.08.2018\n22.08.2018"]
[103,{"$f":"OFFSET(B319,-1,0)","v":1},"Lør 01.09",225,null,{"$f":"OFFSET(F319,-1,0)","v":"1455"},null,null,null,null,null,null,null,0.64841771641484081,null,null,null,3,null,null,{"$f":"IF(#REF!=1,IFERROR(VLOOKUP(#REF!,[1]Sheet1!$A:$N,U$2,FALSE),\"\"),\"\")","v":{"$error":"#REF!"}},null,null,"D","D M","2x",null,"500 m ","Aalesunds Roklub","Kari Andreassen\nMarit Stranden","09:00",325,null,"Aalesunds Roklub","Nei",null,null,null,null,null,null,"Aalesunds Roklub","Johan Myklebust","90894714","johan.myklebust@nordea.no","21.08.2018"]
[null,null,null,null,null,null,null,null,null,null,null,null,null,1.991049460244898E-2,null,null,null,null,null,null,{"$f":"IF(#REF!=1,IFERROR(VLOOKUP(#REF!,[1]Sheet1!$A:$N,U$2,FALSE),\"\"),\"\")","v":{"$error":"#REF!"}}]
[{"$f":"D321&R321","v":"2260"},0,"Søn 02.09",226,null,{"$f":"VLOOKUP($D321,Tidsplan!$B:$D,3,FALSE)","v":"1500"},{"$f":"VLOOKUP($D321,Tidsplan!$B:$D,2,FALSE)","v":""},null,null,null,null,null,null,0.98176872792216729,"S",null,null,0,null,null,{"$f":"IF(#REF!=1,IFERROR(VLOOKUP(#REF!,[1]Sheet1!$A:$N,U$2,FALSE),\"\"),\"\")","v":{"$error":"#REF!"}},null,null,"D","S L ","2x",{"$f":"IF(R321<>0,LEFT(Z321,1),0)*1","v":0},500]
["2261",{"$f":"OFFSET(B322,-1,0)","v":0},"Søn 02.09",226,null,{"$f":"OFFSET(F322,-1,0)","v":"1500"},null,null,null,null,null,null,null,0.33561408658494751,null,null,null,1,null,null,{"$f":"IF(#REF!=1,IFERROR(VLOOKUP(#REF!,[1]Sheet1!$A:$N,U$2,FALSE),\"\"),\"\")","v":{"$error":"#REF!"}},null,null,"D","D SLv","2x",null,"500 m ","Bærum Roklubb 1","Synnøve Gillebo Foss\nHilde Gudem","09:00",325,null,"Bærum Roklubb",null,null,"11.08.1999\n11.04.1979","Ja\nJa","K110899SYN04\nK110479HIL01","8066138\n6051441","\n","Bærum Roklubb\nBærum Roklubb","Bente Dingen\n","45411863\n","bente.dingen@lundin-norway.no\n","21.08.2018\n21.08.2018"]
["2270",1,"Søn 02.09",227,null,{"$f":"VLOOKUP($D323,Tidsplan!$B:$D,3,FALSE)","v":"1500"},{"$f":"VLOOKUP($D323,Tidsplan!$B:$D,2,FALSE)","v":""},null,null,null,null,null,null,0.34065516117327865,null,"K",null,0,null,null,{"$f":"IF(#REF!=1,IFERROR(VLOOKUP(#REF!,[1]Sheet1!$A:$N,U$2,FALSE),\"\"),\"\")","v":{"$error":"#REF!"}},null,null,"H","H S","2x",{"$f":"IF(R323<>0,LEFT(Z323,1),0)*1","v":0},"500 m "]
["2271",{"$f":"OFFSET(B324,-1,0)","v":1},"Søn 02.09",227,null,{"$f":"OFFSET(F324,-1,0)","v":"1500"},null,null,null,null,null,null,null,0.87995027809039306,null,null,null,1,null,null,{"$f":"IF(#REF!=1,IFERROR(VLOOKUP(#REF!,[1]Sheet1!$A:$N,U$2,FALSE),\"\"),\"\")","v":{"$error":"#REF!"}},null,null,"H","H S","2x",null,"500 m ","Bærum Roklubb 1","Halvor Hølmkjær West\nHermann Gunerius Spjøtvoll Hovde","09:00",325,null,"Bærum Roklubb",null,null,"09.02.1994\n31.08.1999","Ja\nJa","M090294HAL02\nM310899HER01","5993966\n7481735","13.04.2018\n","Bærum Roklubb,Christiania Roklub\nBærum Roklubb","Bente Dingen\n","45411863\n","bente.dingen@lundin-norway.no\n","21.08.2018\n21.08.2018"]
["2272",{"$f":"OFFSET(B325,-1,0)","v":1},"Søn 02.09",227,null,{"$f":"OFFSET(F325,-1,0)","v":"1500"},null,null,null,null,null,null,null,6.3605832641989712E-2,null,null,null,2,null,null,{"$f":"IF(#REF!=1,IFERROR(VLOOKUP(#REF!,[1]Sheet1!$A:$N,U$2,FALSE),\"\"),\"\")","v":{"$error":"#REF!"}},null,null,"H","H S","2x",null,"500 m ","Moss Roklubb 1","Alfred Eliassen\nVegard Hjortkær Sæby","09:00",325,null,"Moss Roklubb",null,null,"06.12.1999\n07.07.1998","Ja\nJa","M061299ALF01\nM070798VEG01","2747765\n2696077","22.03.2018\n","Moss Roklubb\nMoss Roklubb","Jon Børre Rekstad\n","92252667\n","rekstad0@gmail.com\n","22.08.2018\n22.08.2018"]
["2280",1,"Søn 02.09",228,null,{"$f":"VLOOKUP($D326,Tidsplan!$B:$D,3,FALSE)","v":"1505"},{"$f":"VLOOKUP($D326,Tidsplan!$B:$D,2,FALSE)","v":""},null,null,null,null,null,null,0.9839905828091885,"S",null,null,0,null,null,{"$f":"IF(#REF!=1,IFERROR(VLOOKUP(#REF!,[1]Sheet1!$A:$N,U$2,FALSE),\"\"),\"\")","v":{"$error":"#REF!"}},null,null,"D","DS","4x",{"$f":"IF(R326<>0,LEFT(Z326,1),0)*1","v":0},"500m"]
["2281",{"$f":"OFFSET(B327,-1,0)","v":1},"Søn 02.09",228,null,{"$f":"OFFSET(F327,-1,0)","v":"1505"},null,null,null,null,null,null,null,0.69231171729584062,null,null,null,1,null,null,{"$f":"IF(#REF!=1,IFERROR(VLOOKUP(#REF!,[1]Sheet1!$A:$N,U$2,FALSE),\"\"),\"\")","v":{"$error":"#REF!"}},null,null,"D","D S","4x",null,"500 m","Bærum Roklubb 1","Caitlin Isabelle Aalders\nHannah Elisabeth Grude\nSara Sverdrup-Thygeson\nKamille Aurora Hagen Breivik","09:00",375,null,"Bærum Roklubb",null,null,"03.06.2001\n19.07.2001\n23.08.2002\n07.09.2001","Nei\nNei\nNei\nNei","K030601CAI03\nK190701HAN12\nK230802SAR02\nK070901KAM03","7289717\n7882501\n7321246\n7348773","17.04.2018\n06.04.2018\n29.03.2018\n29.03.2018","Bærum Roklubb\nOrmsund Roklub\nNorske Studenters Roklub\nNorske Studenters Roklub","Bente Dingen\n","45411863\n","bente.dingen@lundin-norway.no\n","22.08.2018\n22.08.2018\n22.08.2018\n22.08.2018"]
[{"$f":"D328&R328","v":"2282"},{"$f":"OFFSET(B328,-1,0)","v":1},"Søn 02.09",228,null,{"$f":"OFFSET(F328,-1,0)","v":"1505"},null,null,null,null,null,null,null,0.83992178007428686,null,null,null,2,null,null,{"$f":"IF(#REF!=1,IFERROR(VLOOKUP(#REF!,[1]Sheet1!$A:$N,U$2,FALSE),\"\"),\"\")","v":{"$error":"#REF!"}},null,null,"D","D S","4x",null,"500 m","Christiania Roklub 1","Marte Morgenlie Skei\nAnna Edine Lind Jodalen\nViktorija Fara\nHelga Marie Løvenskiold Kveseth","09:00",375,null,"Christiania Roklub",null,null,"20.05.2000\n20.08.2001\n29.01.1989\n07.05.1991","Nei\nNei\nJa\nJa","K200500MAR04\nK200801ANN08\nK290189VIK03\nK070591HEL01","4488301\n8030448\n7787823\n8124580","31.07.2018\n14.05.2018\n30.05.2018\n03.04.2018","Christiania Roklub\nChristiania Roklub\nChristiania Roklub\nChristiania Roklub","Grete Isachsen Stokke\n","91338845\n","greteistokke@hotmail.com;grisach@gmail.com\n","22.08.2018\n22.08.2018\n22.08.2018\n22.08.2018"]
["2283",{"$f":"OFFSET(B329,-1,0)","v":1},"Søn 02.09",228,null,{"$f":"OFFSET(F329,-1,0)","v":"1505"},null,null,null,null,null,null,null,0.35910183891632397,null,null,null,3,null,null,{"$f":"IF(#REF!=1,IFERROR(VLOOKUP(#REF!,[1]Sheet1!$A:$N,U$2,FALSE),\"\"),\"\")","v":{"$error":"#REF!"}},null,null,"D","D S","4-",null,"500 m","OSI","Yvonne Neraal,  \nRikke Kjærås, \nMari Berger Hanestad, \nHeidi Guldvog Hartvedt","09:00",375,null,"OSI",null,null,null,null,null,null,null,null,"Halvor West \nNestleder i OSI: Roing \n95421616"]
["2290",1,"Søn 02.09",229,null,{"$f":"VLOOKUP($D330,Tidsplan!$B:$D,3,FALSE)","v":"1510"},{"$f":"VLOOKUP($D330,Tidsplan!$B:$D,2,FALSE)","v":""},null,null,null,null,null,null,0.51731398196168588,"S",null,null,0,null,null,{"$f":"IF(#REF!=1,IFERROR(VLOOKUP(#REF!,[1]Sheet1!$A:$N,U$2,FALSE),\"\"),\"\")","v":{"$error":"#REF!"}},null,null,"D","D J A","2-",{"$f":"IF(R330<>0,LEFT(Z330,1),0)*1","v":0},"500m"]
["2291",{"$f":"OFFSET(B331,-1,0)","v":1},"Søn 02.09",229,null,{"$f":"OFFSET(F331,-1,0)","v":"1510"},null,null,null,null,null,null,null,0.35307214585047009,null,null,null,1,null,null,{"$f":"IF(#REF!=1,IFERROR(VLOOKUP(#REF!,[1]Sheet1!$A:$N,U$2,FALSE),\"\"),\"\")","v":{"$error":"#REF!"}},null,null,"D","D J A","2-",null,"500 m","Bærum Roklubb 1","Stina Halvorsen Vad\nCaitlin Isabelle Aalders","09:00",325,null,"Bærum Roklubb",null,null,"26.09.2000\n03.06.2001","Ja\nJa","K260900STI02\nK030601CAI03","6778019\n7289717","13.04.2018\n17.04.2018","Bærum Roklubb\nBærum Roklubb","Bente Dingen\n","45411863\n","bente.dingen@lundin-norway.no\n","22.08.2018\n22.08.2018"]
["2300",1,"Søn 02.09",230,null,{"$f":"VLOOKUP($D332,Tidsplan!$B:$D,3,FALSE)","v":"1510"},{"$f":"VLOOKUP($D332,Tidsplan!$B:$D,2,FALSE)","v":""},null,null,null,null,null,null,0.64260337847594928,null,"K",null,0,null,null,{"$f":"IF(#REF!=1,IFERROR(VLOOKUP(#REF!,[1]Sheet1!$A:$N,U$2,FALSE),\"\"),\"\")","v":{"$error":"#REF!"}},null,null,"H","H J A","4x",{"$f":"IF(R332<>0,LEFT(Z332,1),0)*1","v":0},"500 m"]
["2301",{"$f":"OFFSET(B333,-1,0)","v":1},"Søn 02.09",230,null,{"$f":"OFFSET(F333,-1,0)","v":"1510"},null,null,null,null,null,null,null,2.4921271805600442E-2,null,null,null,1,null,null,{"$f":"IF(#REF!=1,IFERROR(VLOOKUP(#REF!,[1]Sheet1!$A:$N,U$2,FALSE),\"\"),\"\")","v":{"$error":"#REF!"}},null,null,"H","H J A","4x",null,"500 m","Bærum Roklubb 1","Lars Moberg Værnes\nBrage Kristian Bragstad\nSindre Fuglseth\nPetter Bratli","09:00",375,null,"Bærum Roklubb",null,null,"02.06.2000\n12.09.2000\n26.09.2000\n17.06.2000","Ja\nJa\nJa\nJa","M020600LAR02\nM120900BRA03\nM260900SIN02\nM170600PET01","4487587\n4908711\n6073987\n8020362","13.04.2018\n17.04.2018\n17.04.2018\n17.04.2018","Bærum Roklubb\nBærum Roklubb\nBærum Roklubb\nBærum Roklubb","Bente Dingen\n","45411863\n","bente.dingen@lundin-norway.no\n","21.08.2018\n21.08.2018\n21.08.2018\n21.08.2018"]
["2302",{"$f":"OFFSET(B334,-1,0)","v":1},"Søn 02.09",230,null,{"$f":"OFFSET(F334,-1,0)","v":"1510"},null,null,null,null,null,null,null,0.40797594286006567,null,null,null,2,null,null,{"$f":"IF(#REF!=1,IFERROR(VLOOKUP(#REF!,[1]Sheet1!$A:$N,U$2,FALSE),\"\"),\"\")","v":{"$error":"#REF!"}},null,null,"H","H J A","4x",null,"500 m","Bærum Roklubb 2","Øystein Dingen Endresen\nSam Løvseth Lorgen\nFredrik Reite\nOskar Martinius Gjerland","09:00",375,null,"Bærum Roklubb",null,null,"20.06.2000\n02.04.2000\n26.07.2001\n04.12.2000","Ja\nJa\nJa\nJa","M070600ØYS01\nM020400SAM01\nM260701FRE03\nM041200OSK04","5372192\n8136692\n7811197\n7369821","13.04.2018\n29.03.2018\n13.04.2018\n06.04.2018","Bærum Roklubb\nNorske Studenters Roklub\nAalesunds Roklub\nOrmsund Roklub","Bente Dingen\n","45411863\n","bente.dingen@lundin-norway.no\n","22.08.2018\n22.08.2018\n22.08.2018\n22.08.2018"]
["2303",{"$f":"OFFSET(B335,-1,0)","v":1},"Søn 02.09",230,null,{"$f":"OFFSET(F335,-1,0)","v":"1510"},null,null,null,null,null,null,null,0.45942045196190995,null,null,null,3,null,null,{"$f":"IF(#REF!=1,IFERROR(VLOOKUP(#REF!,[1]Sheet1!$A:$N,U$2,FALSE),\"\"),\"\")","v":{"$error":"#REF!"}},null,null,"H","H J A","4x",null,"500 m","Drammen Roklubb  1","Elias Loe Eritsland\nUlrik Pharo Lohne\nHampus Erik Vesterberg-Heltne\nJonas Willand-Evensen","09:00",375,null,"Drammen Roklubb ",null,null,"13.02.2001\n09.05.2004\n07.02.2003\n30.08.2003","Ja\nNei\nNei\nNei","M130201ELI01\nM090504ULR01\nM070203HAM03\nM300803JON01","6756069\n5057646\n6756072\n4879656","12.03.2018\n12.03.2018\n12.03.2018\n12.03.2018","Drammen Roklubb \nDrammen Roklubb \nDrammen Roklubb \nDrammen Roklubb ","Beate Pharo\n","90660478\n","beatepharo@gmail.com\n","21.08.2018\n21.08.2018\n21.08.2018\n21.08.2018"]
["2304",{"$f":"OFFSET(B336,-1,0)","v":1},"Søn 02.09",230,null,{"$f":"OFFSET(F336,-1,0)","v":"1510"},null,null,null,null,null,null,null,0.3370536104568983,null,null,null,4,null,null,{"$f":"IF(#REF!=1,IFERROR(VLOOKUP(#REF!,[1]Sheet1!$A:$N,U$2,FALSE),\"\"),\"\")","v":{"$error":"#REF!"}},null,null,"H","H J A","4x",null,"500 m","Norske Studenters Roklub 1","Nicolai Fongaard\nTrygve Bye Løken\nBror Henrik Flyen Storsten\nVitus Aparicio Tjøm","09:00",375,null,"Norske Studenters Roklub",null,null,"06.08.2001\n22.04.2003\n17.01.2002\n26.06.2001","Ja\nNei\nNei\nJa","M060801NIC02\nM220403TRY05\nM170102BRO01\nM260101VIT01","4916382\n8235153\n5003101\n5062270","29.03.2018\n29.03.2018\n\n29.03.2018","Norske Studenters Roklub\nNorske Studenters Roklub\nNorske Studenters Roklub\nNorske Studenters Roklub","Erik Juel\n","48039369\n","eri-juel@online.no\n","22.08.2018\n22.08.2018\n22.08.2018\n22.08.2018"]
["2305",{"$f":"OFFSET(B337,-1,0)","v":1},"Søn 02.09",230,null,{"$f":"OFFSET(F337,-1,0)","v":"1510"},null,null,null,null,null,null,null,0.12626927559016476,null,null,null,5,null,null,{"$f":"IF(#REF!=1,IFERROR(VLOOKUP(#REF!,[1]Sheet1!$A:$N,U$2,FALSE),\"\"),\"\")","v":{"$error":"#REF!"}},null,null,"H","H J A","4x",null,"500 m","Sarpsborg Roklubb","Jacob Gundersen\nOliver Andreas Melnes\nHåkon Grønberg Møller\nDiderik Fabian Sørby Skjønhaug","09:00",375,null,"Sarpsborg Roklubb - Roing",null,null,"08.04.2001\n24.02.2002\n22.12.2002\n28.12.2000","Ja\nNei\nNei\nJa","M080401JAC01\nM240202OLI01\nM221202HÅK01\nM281200DID01","5584584\n7448632\n6848301\n5330116","22.03.2018\n\n22.03.2018\n22.03.2018","Sarpsborg Roklubb - Roing\nSarpsborg Roklubb - Roing\nSarpsborg Roklubb - Roing\nSarpsborg Roklubb - Roing","Thomas Gundersen\n","91874904\n","Thomas.gundersen@afgruppen.no;thomas.gundersen@afgruppen.no\n","22.08.2018\n22.08.2018\n22.08.2018\n22.08.2018"]
[null,null,null,null,null,null,null,null,null,null,null,null,null,0.93543399850712716,null,null,null,0,null,null,{"$f":"IF(#REF!=1,IFERROR(VLOOKUP(#REF!,[1]Sheet1!$A:$N,U$2,FALSE),\"\"),\"\")","v":{"$error":"#REF!"}}]
[{"$f":"D339&R339","v":"2310"},0,"Søn 02.09",231,null,{"$f":"VLOOKUP($D339,Tidsplan!$B:$D,3,FALSE)","v":"1515"},{"$f":"VLOOKUP($D339,Tidsplan!$B:$D,2,FALSE)","v":""},null,null,null,null,null,null,0.86413856032429204," ",null,null,0,null,null,{"$f":"IF(#REF!=1,IFERROR(VLOOKUP(#REF!,[1]Sheet1!$A:$N,U$2,FALSE),\"\"),\"\")","v":{"$error":"#REF!"}},null,null,"H","JB","4-",{"$f":"IF(R339<>0,LEFT(Z339,1),0)*1","v":0},500]
[{"$f":"D340&R340","v":"2311"},{"$f":"OFFSET(B340,-1,0)","v":0},"Søn 02.09",231,null,{"$f":"OFFSET(F340,-1,0)","v":"1515"},null,null,null,null,null,null,null,0.32055745682842818,null,null,null,1,null,null,{"$f":"IF(#REF!=1,IFERROR(VLOOKUP(#REF!,[1]Sheet1!$A:$N,U$2,FALSE),\"\"),\"\")","v":{"$error":"#REF!"}},null,null,"H","H J B","4-",null,"500 m","Christiania Roklub 1","Jacob Balder Hagen\nJostein Eriksen Thon\nLorentz Andreas Rogge Pran\nElias Mahler","09:00",375,null,"Christiania Roklub",null,null,"14.01.2004\n08.01.2004\n29.01.2004\n22.12.2002","Nei\nNei\nNei\nJa","M140104JAC01\nM080104JOS02\nM290104LOR01\nM221202ELI02","7522750\n6201834\n8138326\n4671202","\n06.03.2018\n06.03.2018\n","Christiania Roklub\nChristiania Roklub\nChristiania Roklub\nUkjent/ikke registrert klubb","Grete Isachsen Stokke\n","91338845\n","greteistokke@hotmail.com;grisach@gmail.com\n","22.08.2018\n22.08.2018\n22.08.2018\n22.08.2018"]
[{"$f":"D341&R341","v":"2320"},1,"Søn 02.09",232,null,{"$f":"VLOOKUP($D341,Tidsplan!$B:$D,3,FALSE)","v":"1520"},{"$f":"VLOOKUP($D341,Tidsplan!$B:$D,2,FALSE)","v":"0935"},null,null,null,null,null,null,0.33854515790622464," ",null,null,0,null,null,{"$f":"IF(#REF!=1,IFERROR(VLOOKUP(#REF!,[1]Sheet1!$A:$N,U$2,FALSE),\"\"),\"\")","v":{"$error":"#REF!"}},null,null,"D","D J B","2x",{"$f":"IF(R341<>0,LEFT(Z341,1),0)*1","v":0},"500 m "]
[{"$f":"D342&R342","v":"232"},{"$f":"OFFSET(B342,-1,0)","v":1},"Søn 02.09",232,null,{"$f":"OFFSET(F342,-1,0)","v":"1520"},null,null,null,null,null,null,null,8.2174346100539752E-3,null,null,null,null,null,null,{"$f":"IF(#REF!=1,IFERROR(VLOOKUP(#REF!,[1]Sheet1!$A:$N,U$2,FALSE),\"\"),\"\")","v":{"$error":"#REF!"}},null,null,"D","D J B","2x",null,"500 m ","Bærum Roklubb 1","Ida Aurora Moberg Værnes\nTuva Skatt Gillebo","09:00",325,null,"Bærum Roklubb",null,null,"22.05.2002\n17.10.2002","Ja\nJa","M220502IDA01\nK171002TUV03","6806491\n6101180","\n","Bærum Roklubb\nBærum Roklubb","Bente Dingen\n","45411863\n","bente.dingen@lundin-norway.no\n","22.08.2018\n22.08.2018"]
["232",1,"Søn 02.09",232,null,"1520",null,null,null,null,null,null,null,0.96355372301480657,null,null,null,null,null,null,{"$f":"IF(#REF!=1,IFERROR(VLOOKUP(#REF!,[1]Sheet1!$A:$N,U$2,FALSE),\"\"),\"\")","v":{"$error":"#REF!"}},null,null,"D","D J B","2x",null,"500 m ","Christiania Roklub 1","Vårin Fagerbakke\nMartine Nesse","09:00",325,null,"Christiania Roklub",null,null,"01.01.2003\n31.03.2003","Ja\nJa","K010103VÅR01\nK310303MAR02","7755151\n7896615","06.03.2018\n06.03.2018","Christiania Roklub\nChristiania Roklub","Grete Isachsen Stokke\n","91338845\n","greteistokke@hotmail.com;grisach@gmail.com\n","22.08.2018\n22.08.2018"]
["232",1,"Søn 02.09",232,null,"1520",null,null,null,null,null,null,null,0.2665320395161489,null,null,null,null,null,null,{"$f":"IF(#REF!=1,IFERROR(VLOOKUP(#REF!,[1]Sheet1!$A:$N,U$2,FALSE),\"\"),\"\")","v":{"$error":"#REF!"}},null,null,"D","D J B","2x",null,"500 m ","Drammen Roklubb  1","Victoria Linnéa Wikheim Lang\nTale Tollefsen Seip","09:00",325,null,"Drammen Roklubb ",null,null,"22.01.2002\n23.02.2004","Ja\nNei","K220102VIC04\nK230304TAL01","8199687\n7310638","12.03.2018\n12.03.2018","Drammen Roklubb \nDrammen Roklubb ","Beate Pharo\n","90660478\n","beatepharo@gmail.com\n","21.08.2018\n21.08.2018"]
["232",1,"Søn 02.09",232,null,"1520",null,null,null,null,null,null,null,0.60075949986435617,null,null,null,null,null,null,{"$f":"IF(#REF!=1,IFERROR(VLOOKUP(#REF!,[1]Sheet1!$A:$N,U$2,FALSE),\"\"),\"\")","v":{"$error":"#REF!"}},null,null,"D","D J B","2x",null,"500 m ","Norske Studenters Roklub 1","Sara Sigurdsen\nElla Irgens Standley","09:00",325,null,"Norske Studenters Roklub",null,null,"26.04.2003\n17.01.2003","Ja\nJa","K260403SAR01\nK170103ELL06","7679466\n8208728","07.06.2018\n07.06.2018","Norske Studenters Roklub\nNorske Studenters Roklub","Erik Juel\n","48039369\n","eri-juel@online.no\n","22.08.2018\n22.08.2018"]
["232",1,"Søn 02.09",232,null,"1520",null,null,null,null,null,null,null,0.34003803933217025,null,null,null,null,null,null,{"$f":"IF(#REF!=1,IFERROR(VLOOKUP(#REF!,[1]Sheet1!$A:$N,U$2,FALSE),\"\"),\"\")","v":{"$error":"#REF!"}},null,null,"D","D J B","2x",null,"500 m ","Norske Studenters Roklub 2","Fabia Dybwad Emblem\nNora Vikesland Skou","09:00",325,null,"Norske Studenters Roklub",null,null,"11.04.2003\n28.08.2003","Ja\nJa","K110403FAB02\nK280803NOR01","6318695\n7850270","29.03.2018\n07.06.2018","Norske Studenters Roklub\nNorske Studenters Roklub","Erik Juel\n","48039369\n","eri-juel@online.no\n","22.08.2018\n22.08.2018"]
["232",1,"Søn 02.09",232,null,"1520",null,null,null,null,null,null,null,0.47620225696055674,null,null,null,null,null,null,{"$f":"IF(#REF!=1,IFERROR(VLOOKUP(#REF!,[1]Sheet1!$A:$N,U$2,FALSE),\"\"),\"\")","v":{"$error":"#REF!"}},null,null,"D","D J B","2x",null,"500 m ","Norske Studenters Roklub 3","Lisa Nakamoto Byberg","09:00",325,null,"Norske Studenters Roklub",null,null,"08.04.2003","Ja","K080403LIS01","5391349","29.03.2018","Norske Studenters Roklub","Erik Juel","48039369","eri-juel@online.no","22.08.2018"]
["232",1,"Søn 02.09",232,null,"1520",null,null,null,null,null,null,null,0.52480198629801122,null,null,null,null,null,null,{"$f":"IF(#REF!=1,IFERROR(VLOOKUP(#REF!,[1]Sheet1!$A:$N,U$2,FALSE),\"\"),\"\")","v":{"$error":"#REF!"}},null,null,"D","D J B","2x",null,"500 m ","Norske Studenters Roklub 4","Ella Marie Hegge\nMarie Glomnes Rudi","09:00",325,null,"Norske Studenters Roklub",null,null,"18.05.2003\n25.07.2003","Ja\nJa","K180503ELL02\nK250703MAR04","5567226\n5247452","29.03.2018\n29.03.2018","Norske Studenters Roklub\nNorske Studenters Roklub","Erik Juel\n","48039369\n","eri-juel@online.no\n","22.08.2018\n22.08.2018"]
["232",1,"Søn 02.09",232,null,"1520",null,null,null,null,null,null,null,0.9264853471455774,null,null,null,null,null,null,{"$f":"IF(#REF!=1,IFERROR(VLOOKUP(#REF!,[1]Sheet1!$A:$N,U$2,FALSE),\"\"),\"\")","v":{"$error":"#REF!"}},null,null,"D","D J B","2x",null,"500 m ","Aalesunds Roklub 1","Helle Andreassen\nMartine Nakken Henriksen","09:00",325,null,"Aalesunds Roklub",null,null,"28.10.2003\n30.09.2004","Ja\nNei","K281003HEL05\nK300904MAR06","6860116\n7258646","30.05.2018\n30.05.2018","Aalesunds Roklub\nAalesunds Roklub","Johan Gerhard Myklebust\n","90894714\n","johan.myklebust@nordea.no\n","21.08.2018\n21.08.2018"]
[null,null," ",null,null,null,null,null,null,null,null,null,null,0.71284876031668298,null,null,null,null,null,null,{"$f":"IF(#REF!=1,IFERROR(VLOOKUP(#REF!,[1]Sheet1!$A:$N,U$2,FALSE),\"\"),\"\")","v":{"$error":"#REF!"}}]
[{"$f":"D351&R351","v":"2330"},1,"Søn 02.09",233,null,{"$f":"VLOOKUP($D351,Tidsplan!$B:$D,3,FALSE)","v":"1525"},{"$f":"VLOOKUP($D351,Tidsplan!$B:$D,2,FALSE)","v":""},null,null,null,null,null,null,0.66748073251530016,"",null,null,0,null,null,{"$f":"IF(#REF!=1,IFERROR(VLOOKUP(#REF!,[1]Sheet1!$A:$N,U$2,FALSE),\"\"),\"\")","v":{"$error":"#REF!"}},null,null,"Åpen","Mix JC","4x",{"$f":"IF(R351<>0,LEFT(Z351,1),0)*1","v":0},"500 m"]
["2331",{"$f":"OFFSET(B352,-1,0)","v":1},"Søn 02.09",233,null,{"$f":"OFFSET(F352,-1,0)","v":"1525"},null,null,null,null,null,null,null,0.31958832213615007,null,null,1,1,null,null,{"$f":"IF(#REF!=1,IFERROR(VLOOKUP(#REF!,[1]Sheet1!$A:$N,U$2,FALSE),\"\"),\"\")","v":{"$error":"#REF!"}},null,null,"Åpen","Mix JC","4x",null,"500 m","Drammen Roklubb  1","Emma Tomlinson\nPeter Anker Hassel\nAndrea Willand-Evensen\nMari Hasle Falch","09:00",375,null,"Drammen Roklubb ",null,null,"19.08.2004\n06.08.2004\n20.12.2005\n12.04.2004","Nei\nNei\nNei\nNei","K190804EMM03\nM060804PET02\nK201205AND01\nK120404MAR04","5532186\n7726990\n7310633\n4108903","12.03.2018\n10.04.2018\n\n08.08.2018","Drammen Roklubb \nDrammen Roklubb \nDrammen Roklubb \nTrondhjems Roklubb","Beate Pharo\n","90660478\n","beatepharo@gmail.com\n","21.08.2018\n21.08.2018\n21.08.2018\n21.08.2018"]
["2332",1,"Søn 02.09",233,null,"1525",null,null,null,null,null,null,null,0.4471730628523255,null,null,1,2,null,null,{"$f":"IF(#REF!=1,IFERROR(VLOOKUP(#REF!,[1]Sheet1!$A:$N,U$2,FALSE),\"\"),\"\")","v":{"$error":"#REF!"}},null,null,"Åpen","Mix JC","4x",null,"500 m","Aalesunds Roklub 2","Selma Steen Bjørlykke\nSusanne Steffensen Myklebust\nErlend Devold Refsum\nAnders Myklebust Øyen","09:00",375,null,"Aalesunds Roklub",null,null,"31.01.2004\n29.09.2006\n12.05.2004\n20.07.2005","Nei\nNei\nNei\nNei","K310104SEL01\nK290906SUS03\nM120504ERL04\nM200705AND02","6871648\n7619002\n8150106\n6228122","30.05.2018\n30.05.2018\n30.05.2018\n30.05.2018","Aalesunds Roklub\nAalesunds Roklub\nAalesunds Roklub\nAalesunds Roklub","Johan Gerhard Myklebust\n","90894714\n","johan.myklebust@nordea.no\n","21.08.2018\n21.08.2018\n21.08.2018\n21.08.2018"]
["2333",1,"Søn 02.09",233,null,"1525",null,null,null,null,null,null,null,0.74594793805986548,null,null,1,3,null,null,{"$f":"IF(#REF!=1,IFERROR(VLOOKUP(#REF!,[1]Sheet1!$A:$N,U$2,FALSE),\"\"),\"\")","v":{"$error":"#REF!"}},null,null,"Åpen","Mix JC","4x",null,"500 m","Ormsund Roklub 1","Mille Aslaksen Wåle\nEmbla Reykdal\nMartin Rognerud Juvet\nMax Carl Andresen","09:00",375,null,"Ormsund Roklub",null,null,"07.07.2004\n17.01.2004\n05.03.2004\n22.06.2004","Nei\nNei\nNei\nNei","K070704MIL03\nK170104EMB01\nM050304MAR05\nM220604MAX04","5812808\n7697937\n8128450\n7259283","06.04.2018\n06.04.2018\n08.06.2018\n06.04.2018","Ormsund Roklub\nOrmsund Roklub\nOrmsund Roklub\nOrmsund Roklub","Eva Hansen\n","90799966\n","eva.hansen@wenaasnordic.com\n","22.08.2018\n22.08.2018\n22.08.2018\n22.08.2018"]
["2334",1,"Søn 02.09",233,null,"1525",null,null,null,null,null,null,null,0.74618982696642089,null,null,1,4,null,null,{"$f":"IF(#REF!=1,IFERROR(VLOOKUP(#REF!,[1]Sheet1!$A:$N,U$2,FALSE),\"\"),\"\")","v":{"$error":"#REF!"}},null,null,"Åpen","Mix JC","4x",null,"500 m","Christiania Roklub 1","Brage Nerdal\nKaspar Olof Hilsen\nJohan isak Bryhni","09:00",375,null,"Christiania Roklub",null,null,"20.08.2004\n27.04.2005\n31.05.2005","Nei\nNei\nNei","M200804BRA04\nM270405KAS03\nM310505JOH03","7758069\n7758071\n8103116","06.03.2018\n06.03.2018\n30.05.2018","Christiania Roklub\nChristiania Roklub\nChristiania Roklub","Grete Isachsen Stokke\n","91338845\n","greteistokke@hotmail.com;grisach@gmail.com\n","22.08.2018\n22.08.2018\n22.08.2018"]
["2335",1,"Søn 02.09",233,null,"1525",null,null,null,null,null,null,null,0.75407423549973318,null,null,1,5,null,null,{"$f":"IF(#REF!=1,IFERROR(VLOOKUP(#REF!,[1]Sheet1!$A:$N,U$2,FALSE),\"\"),\"\")","v":{"$error":"#REF!"}},null,null,"Åpen","Mix JC","4x",null,"500 m","Bærum Roklubb 1","Noah Holger Johnsen Fangel\nThov Espeseth\nBrage Skaar\nFerdinand Zachariassen Tenden","09:00",375,null,"Bærum Roklubb",null,null,"24.10.2004\n29.06.2005\n27.12.2004\n25.02.2005","Nei\nNei\nNei\nNei","M241004NOA04\nM290605THO01\nM271204BRA01\nM250205FER01","8111044\n7328781\n5137898\n5587277","05.06.2018\n05.06.2018\n13.06.2018\n05.08.2018","Bærum Roklubb\nBærum Roklubb\nBærum Roklubb\nBærum Roklubb","Bente Dingen\n","45411863\n","bente.dingen@lundin-norway.no\n","21.08.2018\n21.08.2018\n21.08.2018\n21.08.2018"]
["2336",1,"Søn 02.09",233,null,"1525",null,null,null,null,null,null,null,0.81578145075086395,null,null,2,6,null,null,{"$f":"IF(#REF!=1,IFERROR(VLOOKUP(#REF!,[1]Sheet1!$A:$N,U$2,FALSE),\"\"),\"\")","v":{"$error":"#REF!"}},null,null,"Åpen","Mix JC","4x",null,"500 m","Norske Studenters Roklub 1","Mathis Adrian Grimstad\nAksel Glomnes Rudi\nHerman August Winther","09:00",375,null,"Norske Studenters Roklub",null,null,"16.07.2006\n22.10.2005\n24.06.2005","Nei\nNei\nNei","M160706MAT02\nM221005AKS02\nM240605HER09","5820353\n5564987\n8204299","22.06.2018\n07.06.2018\n07.06.2018","Norske Studenters Roklub\nNorske Studenters Roklub\nNorske Studenters Roklub","Erik Juel\n","48039369\n","eri-juel@online.no\n","22.08.2018\n22.08.2018\n22.08.2018"]
["2337",1,"Søn 02.09",233,null,"1525",null,null,null,null,null,null,null,0.9054631890337973,null,null,2,7,null,null,{"$f":"IF(#REF!=1,IFERROR(VLOOKUP(#REF!,[1]Sheet1!$A:$N,U$2,FALSE),\"\"),\"\")","v":{"$error":"#REF!"}},null,null,"Åpen","Mix JC","4x",null,"500 m","Aalesunds Roklub 3","Tuva-Josefine Bjørkedal-Engeset\nIda Sofie Ness Lorgen\nPhilip Andreas Monsen\nGabriel Pedersen","09:00",375,null,"Aalesunds Roklub",null,null,"28.03.2006\n22.03.2005\n02.02.2005\n24.11.2004","Nei\nNei\nNei\nNei","K280306TUV01\nK220305IDA04\nM020205PHI01\nM241104GAB01","8081791\n7094408\n6948464\n7633038","14.06.2018\n30.05.2018\n30.05.2018\n30.05.2018","Aalesunds Roklub\nAalesunds Roklub\nAalesunds Roklub\nAalesunds Roklub","Johan Gerhard Myklebust\n","90894714\n","johan.myklebust@nordea.no\n","21.08.2018\n21.08.2018\n21.08.2018\n21.08.2018"]
["2338",1,"Søn 02.09",233,null,"1525",null,null,null,null,null,null,null,0.96212129810539171,null,null,2,8,null,null,{"$f":"IF(#REF!=1,IFERROR(VLOOKUP(#REF!,[1]Sheet1!$A:$N,U$2,FALSE),\"\"),\"\")","v":{"$error":"#REF!"}},null,null,"Åpen","Mix JC","4x",null,"500 m","Aalesunds Roklub 1","Heine Klauset Furuli\nGuro Elise Bjørkavoll Hofseide\nJulie Kringstad Nørve\nMagnus Rønstad","09:00",375,null,"Aalesunds Roklub",null,null,"31.07.2005\n29.07.2005\n19.05.2006\n28.08.2005","Nei\nNei\nNei\nNei","M310705HEI05\nK290705GUR05\nK190506JUL02\nM280805MAG03","6582360\n8157743\n6824678\n7096143","30.05.2018\n30.05.2018\n30.05.2018\n30.05.2018","Aalesunds Roklub\nAalesunds Roklub\nAalesunds Roklub\nAalesunds Roklub","Johan Gerhard Myklebust\n","90894714\n","johan.myklebust@nordea.no\n","21.08.2018\n21.08.2018\n21.08.2018\n21.08.2018"]
["2339",1,"Søn 02.09",233,null,"1525",null,null,null,null,null,null,null,0.98477858079983782,null,null,2,9,null,null,{"$f":"IF(#REF!=1,IFERROR(VLOOKUP(#REF!,[1]Sheet1!$A:$N,U$2,FALSE),\"\"),\"\")","v":{"$error":"#REF!"}},null,null,"Åpen","Mix JC","4x",null,"500 m","Bærum Roklubb 2","Emil Svanes\nThor Saga\nJacob Philip Munthe\nBrage Alexander Rognli","09:00",375,null,"Bærum Roklubb",null,null,"09.02.2005\n28.08.2005\n30.04.2005\n19.02.2005","Nei\nNei\nNei\nNei","M090205EMI01\nM280805THO03\nM300405JAC02\nM190205BRA01","7947640\n6142424\n8085498\n4214459","11.05.2018\n05.06.2018\n13.06.2018\n05.08.2018","Bærum Roklubb\nBærum Roklubb\nBærum Roklubb\nBærum Roklubb","Bente Dingen\n","45411863\n","bente.dingen@lundin-norway.no\n","21.08.2018\n21.08.2018\n21.08.2018\n21.08.2018"]
[null,null," ",null,null,null,null,null,null,null,null,null,null,0.37486035411142615,null,null,null,null,null,null,{"$f":"IF(#REF!=1,IFERROR(VLOOKUP(#REF!,[1]Sheet1!$A:$N,U$2,FALSE),\"\"),\"\")","v":{"$error":"#REF!"}}]
[{"$f":"D362&R362","v":"2340"},1,"Søn 02.09",234,null,{"$f":"VLOOKUP($D362,Tidsplan!$B:$D,3,FALSE)","v":"1535"},{"$f":"VLOOKUP($D362,Tidsplan!$B:$D,2,FALSE)","v":""},null,null,null,null,null,null,0.17844370434200008,"S",null,null,0,null,null,{"$f":"IF(#REF!=1,IFERROR(VLOOKUP(#REF!,[1]Sheet1!$A:$N,U$2,FALSE),\"\"),\"\")","v":{"$error":"#REF!"}},null,null,"H","H J A","4-",{"$f":"IF(R362<>0,LEFT(Z362,1),0)*1","v":0},"500 m"]
[{"$f":"D363&R363","v":"2341"},{"$f":"OFFSET(B363,-1,0)","v":1},"Søn 02.09",234,null,{"$f":"OFFSET(F363,-1,0)","v":"1535"},null,null,null,null,null,null,null,0.55055411945956112,null,null,null,1,null,null,{"$f":"IF(#REF!=1,IFERROR(VLOOKUP(#REF!,[1]Sheet1!$A:$N,U$2,FALSE),\"\"),\"\")","v":{"$error":"#REF!"}},null,null,"H","H J A","4-",null,"500 m","Norske Studenters Roklub 1","Petter Arnøy\nHugo Haavind\nKristian Lorentzen\nOscar Johan Høeg Wohlfahrt","09:00",375,null,"Norske Studenters Roklub",null,null,"16.02.2001\n17.05.2001\n19.05.2002\n06.05.2001","Ja\nJa\nNei\nJa","M160201PET02\nM170501HUG04\nM190502KRI05\nM060501OSC01","4179438\n7685975\n4742469\n7315162","13.04.2018\n29.03.2018\n29.03.2018\n29.03.2018","Norske Studenters Roklub\nNorske Studenters Roklub\nNorske Studenters Roklub\nNorske Studenters Roklub","Erik Juel\n","48039369\n","eri-juel@online.no\n","22.08.2018\n22.08.2018\n22.08.2018\n22.08.2018"]
[{"$f":"D364&R364","v":"2342"},{"$f":"OFFSET(B364,-1,0)","v":1},"Søn 02.09",234,null,{"$f":"OFFSET(F364,-1,0)","v":"1535"},null,null,null,null,null,null,null,0.40797594286006567,null,null,null,2,null,null,{"$f":"IF(#REF!=1,IFERROR(VLOOKUP(#REF!,[1]Sheet1!$A:$N,U$2,FALSE),\"\"),\"\")","v":{"$error":"#REF!"}},null,null,"H","H J A","4-",null,"500 m","Bærum Roklubb 2","Øystein Dingen Endresen\nSam Løvseth Lorgen\nFredrik Reite\nOskar Martinius Gjerland","09:00",375,null,"Bærum Roklubb",null,null,"20.06.2000\n02.04.2000\n26.07.2001\n04.12.2000","Ja\nJa\nJa\nJa","M070600ØYS01\nM020400SAM01\nM260701FRE03\nM041200OSK04","5372192\n8136692\n7811197\n7369821","13.04.2018\n29.03.2018\n13.04.2018\n06.04.2018","Bærum Roklubb\nNorske Studenters Roklub\nAalesunds Roklub\nOrmsund Roklub","Bente Dingen\n","45411863\n","bente.dingen@lundin-norway.no\n","22.08.2018\n22.08.2018\n22.08.2018\n22.08.2018"]
[null,null,null,null,null,null,null,null,null,null,null,null,null,0.25212137101459076,null,null,null,null,null,null,{"$f":"IF(#REF!=1,IFERROR(VLOOKUP(#REF!,[1]Sheet1!$A:$N,U$2,FALSE),\"\"),\"\")","v":{"$error":"#REF!"}}]
[{"$f":"D366&R366","v":"2350"},0,"Søn 02.09",235,null,{"$f":"VLOOKUP($D366,Tidsplan!$B:$D,3,FALSE)","v":"1540"},{"$f":"VLOOKUP($D366,Tidsplan!$B:$D,2,FALSE)","v":""},null,null,null,null,null,null,0.98813303342970815,null,"K ",null,0,null,null,{"$f":"IF(#REF!=1,IFERROR(VLOOKUP(#REF!,[1]Sheet1!$A:$N,U$2,FALSE),\"\"),\"\")","v":{"$error":"#REF!"}},null,null,"H","S","2-",{"$f":"IF(R366<>0,LEFT(Z366,1),0)*1","v":0},500]
[{"$f":"D367&R367","v":"2351"},null,"Søn 02.09",235,null,{"$f":"OFFSET(F367,-1,0)","v":"1540"},"",null,null,null,null,null,null,0.77372137486260018,null,null,null,1,null,null,{"$f":"IF(#REF!=1,IFERROR(VLOOKUP(#REF!,[1]Sheet1!$A:$N,U$2,FALSE),\"\"),\"\")","v":{"$error":"#REF!"}},null,null,"H","S","2-",null,"500 m","Moss Roklubb","Alfred Eliassen\n Mikko Rekstad","09:00",325,null,"Moss Roklubb","Nei",null,null,null,null,null,null,"Moss Roklubb","Jon Rekstad","92252667","rekstad0@gmail.com","22.08.2018"]
[null,null,null,null,null,null,null,null,null,null,null,null,null,0.60494610886615008,null,null,null,null,null,null,{"$f":"IF(#REF!=1,IFERROR(VLOOKUP(#REF!,[1]Sheet1!$A:$N,U$2,FALSE),\"\"),\"\")","v":{"$error":"#REF!"}}]
[{"$f":"D369&R369","v":"2360"},1,"Søn 02.09",236,null,{"$f":"VLOOKUP($D369,Tidsplan!$B:$D,3,FALSE)","v":"1540"},{"$f":"VLOOKUP($D369,Tidsplan!$B:$D,2,FALSE)","v":""},null,null,null,null,null,null,0.84541745460312379,null,"K",null,0,null,null,{"$f":"IF(#REF!=1,IFERROR(VLOOKUP(#REF!,[1]Sheet1!$A:$N,U$2,FALSE),\"\"),\"\")","v":{"$error":"#REF!"}},null,null,"D","D J A","4x",{"$f":"IF(R369<>0,LEFT(Z369,1),0)*1","v":0},"500 m"]
["2361",{"$f":"OFFSET(B370,-1,0)","v":1},"Søn 02.09",236,null,{"$f":"OFFSET(F370,-1,0)","v":"1540"},null,null,null,null,null,null,null,7.608709178809081E-2,null,null,null,1,null,null,{"$f":"IF(#REF!=1,IFERROR(VLOOKUP(#REF!,[1]Sheet1!$A:$N,U$2,FALSE),\"\"),\"\")","v":{"$error":"#REF!"}},null,null,"D","D J A","4x",null,"500 m","Bærum Roklubb 1","Caitlin Isabelle Aalders\nThea Hertzum Aunaas\nStina Halvorsen Vad\nIda Aurora Moberg Værnes","09:00",375,null,"Bærum Roklubb",null,null,"03.06.2001\n15.01.2001\n26.09.2000\n22.05.2002","Ja\nJa\nJa\nNei","K030601CAI03\nK150101THE02\nK260900STI02\nM220502IDA01","7289717\n6790513\n6778019\n6806491","17.04.2018\n17.04.2018\n13.04.2018\n","Bærum Roklubb\nBærum Roklubb\nBærum Roklubb\nBærum Roklubb","Bente Dingen\n","45411863\n","bente.dingen@lundin-norway.no\n","21.08.2018\n21.08.2018\n21.08.2018\n21.08.2018"]
["2362",{"$f":"OFFSET(B371,-1,0)","v":1},"Søn 02.09",236,null,{"$f":"OFFSET(F371,-1,0)","v":"1540"},null,null,null,null,null,null,null,0.701239595465452,null,null,null,2,null,null,{"$f":"IF(#REF!=1,IFERROR(VLOOKUP(#REF!,[1]Sheet1!$A:$N,U$2,FALSE),\"\"),\"\")","v":{"$error":"#REF!"}},null,null,"D","D J A","4x",null,"500 m","Christiania Roklub 1","Marte Morgenlie Skei\nAnna Edine Lind Jodalen\nNicoline Lovise Lindstrøm","09:00",375,null,"Christiania Roklub",null,null,"20.05.2000\n20.08.2001\n25.09.2002","Ja\nJa\nNei","K200500MAR04\nK200801ANN08\nK250902NIC02","4488301\n8030448\n8247202","31.07.2018\n14.05.2018\n14.05.2018","Christiania Roklub\nChristiania Roklub\nChristiania Roklub","Grete Isachsen Stokke\n","91338845\n","greteistokke@hotmail.com;grisach@gmail.com\n","22.08.2018\n22.08.2018\n22.08.2018"]
["2370",0,"Søn 02.09",237,null,{"$f":"VLOOKUP($D372,Tidsplan!$B:$D,3,FALSE)","v":"1545"},{"$f":"VLOOKUP($D372,Tidsplan!$B:$D,2,FALSE)","v":""},null,null,null,null,null,null,0.78965241484630078,null,"K",null,0,null,null,{"$f":"IF(#REF!=1,IFERROR(VLOOKUP(#REF!,[1]Sheet1!$A:$N,U$2,FALSE),\"\"),\"\")","v":{"$error":"#REF!"}},null,null,"H","S L"," 2x",{"$f":"IF(R372<>0,LEFT(Z372,1),0)*1","v":0},500]
["2380",1,"Søn 02.09",238,null,{"$f":"VLOOKUP($D373,Tidsplan!$B:$D,3,FALSE)","v":"1545"},{"$f":"VLOOKUP($D373,Tidsplan!$B:$D,2,FALSE)","v":""},null,null,null,null,null,null,0.70532751570088026,"",null,null,0,null,null,{"$f":"IF(#REF!=1,IFERROR(VLOOKUP(#REF!,[1]Sheet1!$A:$N,U$2,FALSE),\"\"),\"\")","v":{"$error":"#REF!"}},null,null,"D","D SLv","1x",{"$f":"IF(R373<>0,LEFT(Z373,1),0)*1","v":0},"500 m"]
["2382",{"$f":"OFFSET(B374,-1,0)","v":1},"Søn 02.09",238,null,{"$f":"OFFSET(F374,-1,0)","v":"1545"},null,null,null,null,null,null,null,5.5981920043808531E-2,null,null,null,2,null,null,{"$f":"IF(#REF!=1,IFERROR(VLOOKUP(#REF!,[1]Sheet1!$A:$N,U$2,FALSE),\"\"),\"\")","v":{"$error":"#REF!"}},null,null,"D","D SLv","1x",null,"500 m","Bærum Roklubb",null,"09:00",275,null,"Bærum Roklubb","Nei",null,"11.08.1999","Ja","K110899SYN06","8145400","13.04.2018","Bærum Roklubb","Bente Dingen","45411863","bente.dingen@lundin-norway.no","21.08.2018"]
["2383",{"$f":"OFFSET(B375,-1,0)","v":1},"Søn 02.09",238,null,{"$f":"OFFSET(F375,-1,0)","v":"1545"},null,null,null,null,null,null,null,0.87751949530398965,null,null,null,3,null,null,{"$f":"IF(#REF!=1,IFERROR(VLOOKUP(#REF!,[1]Sheet1!$A:$N,U$2,FALSE),\"\"),\"\")","v":{"$error":"#REF!"}},null,null,"D","D SLv","1x",null,"500 m","Christiania Roklub",null,"09:00",275,null,"Christiania Roklub","Nei",null,"29.01.1989","Ja","K290189VIK03","7787823","30.05.2018","Christiania Roklub","Grete Isachsen Stokke","91338845","greteistokke@hotmail.com;grisach@gmail.com","22.08.2018"]
["2384",{"$f":"OFFSET(B376,-1,0)","v":1},"Søn 02.09",238,null,{"$f":"OFFSET(F376,-1,0)","v":"1545"},null,null,null,null,null,null,null,0.96658871754714881,null,null,null,4,null,null,{"$f":"IF(#REF!=1,IFERROR(VLOOKUP(#REF!,[1]Sheet1!$A:$N,U$2,FALSE),\"\"),\"\")","v":{"$error":"#REF!"}},null,null,"D","D SLv","1x",null,"500 m","Tønsberg Roklub","Lene Samland","09:00",275,null,"Tønsberg Roklub","Nei",null,"30.11.2000","Nei","K301100LEN03","6134299","13.04.2018","Tønsberg Roklub",null,"92061715","svendandersen@me.com","21.08.2018"]
[null,null,"Søn 02.09",null,null,null,null,null,null,null,null,null,null,0.55397964968153235,null,null,null,null,null,null,{"$f":"IF(#REF!=1,IFERROR(VLOOKUP(#REF!,[1]Sheet1!$A:$N,U$2,FALSE),\"\"),\"\")","v":{"$error":"#REF!"}}]
[{"$f":"D378&R378","v":"2390"},0,"Søn 02.09",239,null,{"$f":"VLOOKUP($D378,Tidsplan!$B:$D,3,FALSE)","v":"1550"},{"$f":"VLOOKUP($D378,Tidsplan!$B:$D,2,FALSE)","v":""},null,null,null,null,null,null,0.26176170003251809," ",null,null,0,null,null,{"$f":"IF(#REF!=1,IFERROR(VLOOKUP(#REF!,[1]Sheet1!$A:$N,U$2,FALSE),\"\"),\"\")","v":{"$error":"#REF!"}},null,null,"H","S/Master","4x",{"$f":"IF(R378<>0,LEFT(Z378,1),0)*1","v":0},500]
[{"$f":"D379&R379","v":"2391"},{"$f":"OFFSET(B379,-1,0)","v":0},"Søn 02.09",239,null,{"$f":"OFFSET(F379,-1,0)","v":"1550"},null,null,null,null,null,null,null,0.48773905227414349,null,null,null,1,null,null,{"$f":"IF(#REF!=1,IFERROR(VLOOKUP(#REF!,[1]Sheet1!$A:$N,U$2,FALSE),\"\"),\"\")","v":{"$error":"#REF!"}},null,null,"H","H M","4x",null,"500 m","Bærum Roklubb 1","Kjell Fotland\nAlf bertheus Heitmann\nJan Rüdiger Weitzenböck\nPeter Draleke","09:00",375,null,"Bærum Roklubb",null,null,"17.10.1948\n16.10.1943\n01.03.1966\n14.04.1966","Ja\nJa\nJa\nJa","M171048KJE03\nM161043ALF01\nM010366JAN02\nM140466PET01","5950012\n8045966\n6761517\n8125484","\n\n\n","Bærum Roklubb\nBærum Roklubb\nBærum Roklubb\nBærum Roklubb","Bente Dingen\n","45411863\n","bente.dingen@lundin-norway.no\n","22.08.2018\n22.08.2018\n22.08.2018\n22.08.2018"]
[{"$f":"D380&R380","v":"2392"},{"$f":"OFFSET(B380,-1,0)","v":0},"Søn 02.09",239,null,{"$f":"OFFSET(F380,-1,0)","v":"1550"},null,null,null,null,null,null,null,8.0414447469281614E-2,null,null,null,2,null,null,{"$f":"IF(#REF!=1,IFERROR(VLOOKUP(#REF!,[1]Sheet1!$A:$N,U$2,FALSE),\"\"),\"\")","v":{"$error":"#REF!"}},null,null,"H","H M","4x",null,"500 m","Norske Studenters Roklub 1","Halvor Torjus Bergan\nKristian Strime Schønberg Christensen\nEduardo Fernandes Caetano Reis\nPhilip Anderson","09:00",375,null,"Norske Studenters Roklub",null,null,"04.10.1965\n27.02.1969\n02.11.1983\n02.08.1965","Ja\nJa\nJa\nJa","M041065HAL03\nM270269KRI06\nM021183EDU03\nM020865PHI01","6340602\n8099483\n8238773\n7500481","07.06.2018\n\n\n17.08.2018","Norske Studenters Roklub,Oslo Roklubb\nNorske Studenters Roklub,Oslo Roklubb\nNorske Studenters Roklub\nNorske Studenters Roklub","Erik Juel\n","48039369\n","eri-juel@online.no\n","22.08.2018\n22.08.2018\n22.08.2018\n22.08.2018"]
[{"$f":"D381&R381","v":"2393"},{"$f":"OFFSET(B381,-1,0)","v":0},"Søn 02.09",239,null,{"$f":"OFFSET(F381,-1,0)","v":"1550"},null,null,null,null,null,null,null,0.17151736571748299,null,null,null,3,null,null,{"$f":"IF(#REF!=1,IFERROR(VLOOKUP(#REF!,[1]Sheet1!$A:$N,U$2,FALSE),\"\"),\"\")","v":{"$error":"#REF!"}},null,null,"H","H M","4x",null,"500 m","Ormsund Roklub 1","Ingrid Stuenæs\nLine Andreassen Parelius\nJens Christian Riis\nEspen Nipe Skjervold","09:00",375,null,"Ormsund Roklub",null,null,"28.02.1974\n10.02.1974\n25.03.1964\n20.03.1984","Nei\nNei\nJa\nJa","K280274ING02\nK100274LIN02\nM250364JEN02\nM200384ESP03","5414305\n2136071\n8030339\n7287045","\n06.04.2018\n06.04.2018\n06.04.2018","Ormsund Roklub,Skullerud Sportsklubb\nOrmsund Roklub,Skullerud Sportsklubb\nNøklevann Ro- og Padleklubb,Ormsund Roklub\nOrmsund Roklub,Skullerud Sportsklubb","Eva Hansen\n","90799966\n","eva.hansen@wenaasnordic.com\n","22.08.2018\n22.08.2018\n22.08.2018\n22.08.2018"]
[{"$f":"D382&R382","v":"2400"},1,"Søn 02.09",240,null,{"$f":"VLOOKUP($D382,Tidsplan!$B:$D,3,FALSE)","v":"1555"},{"$f":"VLOOKUP($D382,Tidsplan!$B:$D,2,FALSE)","v":"0900"},null,null,null,null,null,null,0.45267019722170854,"S",null,null,0,null,null,{"$f":"IF(#REF!=1,IFERROR(VLOOKUP(#REF!,[1]Sheet1!$A:$N,U$2,FALSE),\"\"),\"\")","v":{"$error":"#REF!"}},null,null,"H","H J A","2x",{"$f":"IF(R382<>0,LEFT(Z382,1),0)*1","v":0},"500 m "]
[{"$f":"D383&R383","v":"240"},{"$f":"OFFSET(B383,-1,0)","v":1},"Søn 02.09",240,null,{"$f":"OFFSET(F383,-1,0)","v":"1555"},null,null,null,null,null,null,null,0.13874615807976765,null,null,null,null,null,null,{"$f":"IF(#REF!=1,IFERROR(VLOOKUP(#REF!,[1]Sheet1!$A:$N,U$2,FALSE),\"\"),\"\")","v":{"$error":"#REF!"}},null,null,"H","H J A","2x",null,"500 m ","Bærum Roklubb 1","Lars Moberg Værnes\nØystein Dingen Endresen","09:00",325,null,"Bærum Roklubb",null,null,"02.06.2000\n20.06.2000","Ja\nJa","M020600LAR04\nM070600ØYS01","6806488\n5372192","\n13.04.2018","Bærum Roklubb\nBærum Roklubb","Bente Dingen\n","45411863\n","bente.dingen@lundin-norway.no\n","22.08.2018\n22.08.2018"]
["240",1,"Søn 02.09",240,null,"1555",null,null,null,null,null,null,null,0.43474743105848956,null,null,null,null,null,null,{"$f":"IF(#REF!=1,IFERROR(VLOOKUP(#REF!,[1]Sheet1!$A:$N,U$2,FALSE),\"\"),\"\")","v":{"$error":"#REF!"}},null,null,"H","H J A","2x",null,"500 m ","Bærum Roklubb 2","Sindre Fuglseth\nEirik Hauge","09:00",325,null,"Bærum Roklubb",null,null,"26.09.2000\n17.06.2000","Ja\nJa","M260900SIN02\nM170600PET01","6073987\n8020362","17.04.2018\n17.04.2018","Bærum Roklubb\nBærum Roklubb","Bente Dingen\n","45411863\n","bente.dingen@lundin-norway.no\n","22.08.2018\n22.08.2018"]
["240",1,"Søn 02.09",240,null,"1555",null,null,null,null,null,null,null,0.38651915593018948,null,null,null,null,null,null,{"$f":"IF(#REF!=1,IFERROR(VLOOKUP(#REF!,[1]Sheet1!$A:$N,U$2,FALSE),\"\"),\"\")","v":{"$error":"#REF!"}},null,null,"H","H J A","2x",null,"500 m ","Bærum Roklubb 3","Brage Kristian Bragstad\nEirik Myreng Hauge","09:00",325,null,"Bærum Roklubb",null,null,"12.09.2000\n17.04.2000","Ja\nJa","M120900BRA03\nM170400EIR06","4908711\n5663596","17.04.2018\n","Bærum Roklubb\nBærum Roklubb","Bente Dingen\n","45411863\n","bente.dingen@lundin-norway.no\n","22.08.2018\n22.08.2018"]
["240",1,"Søn 02.09",240,null,"1555",null,null,null,null,null,null,null,0.84208750233525986,null,null,null,null,null,null,{"$f":"IF(#REF!=1,IFERROR(VLOOKUP(#REF!,[1]Sheet1!$A:$N,U$2,FALSE),\"\"),\"\")","v":{"$error":"#REF!"}},null,null,"H","H J A","2x",null,"500 m ","Ormsund Roklub 1","Jonathan Kvalvaag Dysvik\nOskar Martinius Gjerland","09:00",325,null,"Ormsund Roklub",null,null,"12.05.2001\n04.12.2000","Ja\nJa","M120501JON02\nM041200OSK04","8128878\n7369821","06.04.2018\n06.04.2018","Ormsund Roklub\nOrmsund Roklub","Eva Hansen\n","90799966\n","eva.hansen@wenaasnordic.com\n","22.08.2018\n22.08.2018"]
["240",1,"Søn 02.09",240,null,"1555",null,null,null,null,null,null,null,0.96788547879114073,null,null,null,null,null,null,{"$f":"IF(#REF!=1,IFERROR(VLOOKUP(#REF!,[1]Sheet1!$A:$N,U$2,FALSE),\"\"),\"\")","v":{"$error":"#REF!"}},null,null,"H","H J A","2x",null,"500 m ","Sarpsborg Roklubb ","Diderik Fabian Sørby Skjønhaug\nJacob Gundersen","09:00",325,null,"Sarpsborg Roklubb - Roing",null,null,"28.12.2000\n08.04.2001","Ja\nJa","M281200DID01\nM080401JAC01","5330116\n5584584","22.03.2018\n22.03.2018","Sarpsborg Roklubb - Roing\nSarpsborg Roklubb - Roing","Thomas Gundersen\n","91874904\n","Thomas.gundersen@afgruppen.no;thomas.gundersen@afgruppen.no\n","22.08.2018\n22.08.2018"]
["240",1,"Søn 02.09",240,null,"1555",null,null,null,null,null,null,null,0.70482813087923379,null,null,null,null,null,null,{"$f":"IF(#REF!=1,IFERROR(VLOOKUP(#REF!,[1]Sheet1!$A:$N,U$2,FALSE),\"\"),\"\")","v":{"$error":"#REF!"}},null,null,"H","H J A","2x",null,"500 m ","Tønsberg Roklub 1","Lars Jørann Lindgren\nIsak Vartal-Gjerde","09:00",325,null,"Tønsberg Roklub",null,null,"30.05.2001\n24.12.2000","Ja\nJa","M300501LAR02\nM241200ISA03","4234298\n7173184","13.04.2018\n13.04.2018","Tønsberg Roklub\nTønsberg Roklub","Svend Andersen\n","92061715\n","svendandersen@me.com\n","21.08.2018\n21.08.2018"]
[{"$f":"D389&R389","v":"240"},1,"Søn 02.09",240,null,"1555",null,null,null,null,null,null,null,0.9054631890337973,null,null,null,null,null,null,{"$f":"IF(#REF!=1,IFERROR(VLOOKUP(#REF!,[1]Sheet1!$A:$N,U$2,FALSE),\"\"),\"\")","v":{"$error":"#REF!"}},null,null,"H","H J A","2x",null,"500 m","Aalesunds Roklub","Fredrik Reite\n Arild Lykkebø Johnsen","09:00",325,null,"Aalesunds Roklub",null,null,null,"Nei\nNei",null,null,null,"Aalesunds Roklub\nAalesunds Roklub","Johan Gerhard Myklebust\n","90894714\n","johan.myklebust@nordea.no\n","21.08.2018\n21.08.2018"]
[null,null,null,null,null,null,null,null,null,null,null,null,null,0.13862542521311694,null,null,null,null,null,null,{"$f":"IF(#REF!=1,IFERROR(VLOOKUP(#REF!,[1]Sheet1!$A:$N,U$2,FALSE),\"\"),\"\")","v":{"$error":"#REF!"}}]
[{"$f":"D391&R391","v":"2410"},1,"Søn 02.09",241,null,{"$f":"VLOOKUP($D391,Tidsplan!$B:$D,3,FALSE)","v":"1600"},{"$f":"VLOOKUP($D391,Tidsplan!$B:$D,2,FALSE)","v":""},null,null,null,null,null,null,0.69562647780687747," ",null,null,0,null,null,{"$f":"IF(#REF!=1,IFERROR(VLOOKUP(#REF!,[1]Sheet1!$A:$N,U$2,FALSE),\"\"),\"\")","v":{"$error":"#REF!"}},null,null,"H","H J B","4x",{"$f":"IF(R391<>0,LEFT(Z391,1),0)*1","v":0},"500 m"]
[{"$f":"D392&R392","v":"2411"},{"$f":"OFFSET(B392,-1,0)","v":1},"Søn 02.09",241,null,{"$f":"OFFSET(F392,-1,0)","v":"1600"},null,null,null,null,null,null,null,0.27609996185592289,null,null,null,1,null,null,{"$f":"IF(#REF!=1,IFERROR(VLOOKUP(#REF!,[1]Sheet1!$A:$N,U$2,FALSE),\"\"),\"\")","v":{"$error":"#REF!"}},null,null,"H","H J B","4x",null,"500 m","Moss Roklubb 1","Viktor Emanuel Vatterdal Rekstad\nSimen Solbakken Thømt\nSimen Meinike Dørre","09:00",375,null,"Moss Roklubb",null,null,"29.01.2003\n17.05.2002\n01.04.2003","Ja\nJa\nJa","M290103VIK01\nM170502SIM07\nM010403SIM03","5993278\n7189809\n7261136","22.03.2018\n22.03.2018\n22.03.2018","Moss Roklubb\nMoss Roklubb\nMoss Roklubb","Jon Børre Rekstad\n","92252667\n","rekstad0@gmail.com\n","22.08.2018\n22.08.2018\n22.08.2018"]
[{"$f":"D393&R393","v":"2412"},{"$f":"OFFSET(B393,-1,0)","v":1},"Søn 02.09",241,null,{"$f":"OFFSET(F393,-1,0)","v":"1600"},null,null,null,null,null,null,null,9.3249153282045638E-3,null,null,null,2,null,null,{"$f":"IF(#REF!=1,IFERROR(VLOOKUP(#REF!,[1]Sheet1!$A:$N,U$2,FALSE),\"\"),\"\")","v":{"$error":"#REF!"}},null,null,"H","H J B","4x",null,"500 m","Norske Studenters Roklub 1","Knut Wang Melbye\nJack Schønberg\nAxel Woxen","09:00",375,null,"Norske Studenters Roklub",null,null,"29.06.2002\n01.01.2003\n16.12.2003","Ja\nJa\nJa","M290602KNU03\nM010103JAC04\nM161203AXE03","8137181\n8247213\n8133394","29.03.2018\n07.06.2018\n","Norske Studenters Roklub\nNorske Studenters Roklub\nNorske Studenters Roklub","Erik Juel\n","48039369\n","eri-juel@online.no\n","22.08.2018\n22.08.2018\n22.08.2018"]
[{"$f":"D394&R394","v":"2413"},{"$f":"OFFSET(B394,-1,0)","v":1},"Søn 02.09",241,null,{"$f":"OFFSET(F394,-1,0)","v":"1600"},null,null,null,null,null,null,null,0.75014250123045456,null,null,null,3,null,null,{"$f":"IF(#REF!=1,IFERROR(VLOOKUP(#REF!,[1]Sheet1!$A:$N,U$2,FALSE),\"\"),\"\")","v":{"$error":"#REF!"}},null,null,"H","H J B","4x",null,"500 m","Sarpsborg Roklubb / Ormsund Roklubb","Majlind Begaj\nPhilip Draget\nMarius Antonsen Thime\nTruls Oskar Hansen","09:00",375,null,"Sarpsborg Roklubb - Roing",null,null,"30.04.2002\n22.10.2004\n07.06.2004\n22.07.2004","Ja\nNei\nNei\nNei","M300402MAJ01\nM221004NOR01\nM070604MAR06\nM220704TRU01","6977105\n6917184\n6707662\n7203412","22.03.2018\n22.03.2018\n22.03.2018\n06.04.2018","Sarpsborg Roklubb - Roing\nSarpsborg Roklubb - Roing\nSarpsborg Roklubb - Roing\nOrmsund Roklub","Thomas Gundersen\n","91874904\n","Thomas.gundersen@afgruppen.no;thomas.gundersen@afgruppen.no\n","22.08.2018\n22.08.2018\n22.08.2018\n22.08.2018"]
[null,null,null,null,null,null,null,null,null,null,null,null,null,0.4613031902418141,null,null,null,null,null,null,{"$f":"IF(#REF!=1,IFERROR(VLOOKUP(#REF!,[1]Sheet1!$A:$N,U$2,FALSE),\"\"),\"\")","v":{"$error":"#REF!"}}]
[{"$f":"D396&R396","v":"2420"},1,"Søn 02.09",242,null,{"$f":"VLOOKUP($D396,Tidsplan!$B:$D,3,FALSE)","v":"1605"},{"$f":"VLOOKUP($D396,Tidsplan!$B:$D,2,FALSE)","v":""},null,null,null,null,null,null,9.6388528133666052E-2," ",null,null,0,null,null,{"$f":"IF(#REF!=1,IFERROR(VLOOKUP(#REF!,[1]Sheet1!$A:$N,U$2,FALSE),\"\"),\"\")","v":{"$error":"#REF!"}},null,null,"H","H M","1x",{"$f":"IF(R396<>0,LEFT(Z396,1),0)*1","v":0},"500 m"]
[{"$f":"D397&R397","v":"2421"},{"$f":"OFFSET(B397,-1,0)","v":1},"Søn 02.09",242,null,{"$f":"OFFSET(F397,-1,0)","v":"1605"},null,null,null,null,null,null,null,0.24599159467871756,null,null,null,1,null,null,{"$f":"IF(#REF!=1,IFERROR(VLOOKUP(#REF!,[1]Sheet1!$A:$N,U$2,FALSE),\"\"),\"\")","v":{"$error":"#REF!"}},null,null,"H","H M","1x",null,"500 m","Norske Studenters Roklub",null,"09:00",275,null,"Norske Studenters Roklub","Nei",null,"03.06.1964","Ja","M030664JEN03","8198377",null,"Norske Studenters Roklub","Erik Juel","48039369","eri-juel@online.no","22.08.2018"]
[{"$f":"D398&R398","v":"2422"},{"$f":"OFFSET(B398,-1,0)","v":1},"Søn 02.09",242,null,{"$f":"OFFSET(F398,-1,0)","v":"1605"},null,null,null,null,null,null,null,0.91770838389742404,null,null,null,2,null,null,{"$f":"IF(#REF!=1,IFERROR(VLOOKUP(#REF!,[1]Sheet1!$A:$N,U$2,FALSE),\"\"),\"\")","v":{"$error":"#REF!"}},null,null,"H","H M","1x",null,"500 m","Christiania Roklub","Kjetil Undset","09:00",275,null,"Christiania Roklub","Nei",null,"24.08.1970","Ja","M240870KJE01","573717","22.08.2018","Christiania Roklub","Grete Isachsen Stokke","91338845","greteistokke@hotmail.com;grisach@gmail.com","22.08.2018"]
[{"$f":"D399&R399","v":"2423"},{"$f":"OFFSET(B399,-1,0)","v":1},"Søn 02.09",242,null,{"$f":"OFFSET(F399,-1,0)","v":"1605"},null,null,null,null,null,null,null,0.67441793502856462,null,null,null,3,null,null,{"$f":"IF(#REF!=1,IFERROR(VLOOKUP(#REF!,[1]Sheet1!$A:$N,U$2,FALSE),\"\"),\"\")","v":{"$error":"#REF!"}},null,null,"H","H M","1x",null,"500 m","Oslo Roklubb","Anders Formo","09:00",275,null,"Oslo Roklubb","Nei",null,"22.04.1959","Ja","M220459AND01","5795061","06.05.2018","Oslo Roklubb","Peter Ellingsen","97505494","peter.ellingsen@vikenfiber.no","22.08.2018"]
[{"$f":"D400&R400","v":"2424"},{"$f":"OFFSET(B400,-1,0)","v":1},"Søn 02.09",242,null,{"$f":"OFFSET(F400,-1,0)","v":"1605"},null,null,null,null,null,null,null,0.35985733819528909,null,null,null,4,null,null,{"$f":"IF(#REF!=1,IFERROR(VLOOKUP(#REF!,[1]Sheet1!$A:$N,U$2,FALSE),\"\"),\"\")","v":{"$error":"#REF!"}},null,null,"H","H M","1x",null,"500 m","Norske Studenters Roklub","Tor-geir Myhrer","09:00",275,null,"Norske Studenters Roklub","Nei",null,"20.05.1952","Ja","M200552TOR02","5781431","07.06.2018","Norske Studenters Roklub","Erik Juel","48039369","eri-juel@online.no","22.08.2018"]
[null,null," ",null,null,null,null,null,null,null,null,null,null,0.19782003836208761,null,null,null,null,null,null,{"$f":"IF(#REF!=1,IFERROR(VLOOKUP(#REF!,[1]Sheet1!$A:$N,U$2,FALSE),\"\"),\"\")","v":{"$error":"#REF!"}}]
[{"$f":"D402&R402","v":"2430"},1,"Søn 02.09",243,null,{"$f":"VLOOKUP($D402,Tidsplan!$B:$D,3,FALSE)","v":"1610"},{"$f":"VLOOKUP($D402,Tidsplan!$B:$D,2,FALSE)","v":""},null,null,null,null,null,null,0.47783147209778642,null," K",null,0,null,null,{"$f":"IF(#REF!=1,IFERROR(VLOOKUP(#REF!,[1]Sheet1!$A:$N,U$2,FALSE),\"\"),\"\")","v":{"$error":"#REF!"}},null,null,"D","D M","1x",{"$f":"IF(R402<>0,LEFT(Z402,1),0)*1","v":0},"500 m"]
[{"$f":"D403&R403","v":"2431"},{"$f":"OFFSET(B403,-1,0)","v":1},"Søn 02.09",243,null,{"$f":"OFFSET(F403,-1,0)","v":"1610"},null,null,null,null,null,null,null,0.79642648403348237,null,null,null,1,null,null,{"$f":"IF(#REF!=1,IFERROR(VLOOKUP(#REF!,[1]Sheet1!$A:$N,U$2,FALSE),\"\"),\"\")","v":{"$error":"#REF!"}},null,null,"D","D M","1x",null,"500 m","Norske Studenters Roklub","Ulla Stang Dahl","09:00",275,null,"Norske Studenters Roklub","Nei",null,"03.03.1966","Ja","K030366ULL01","7500752",null,"Norske Studenters Roklub","Erik Juel","48039369","eri-juel@online.no","22.08.2018"]
[{"$f":"D404&R404","v":"2440"},1,"Søn 02.09",244,null,{"$f":"VLOOKUP($D404,Tidsplan!$B:$D,3,FALSE)","v":"1615"},{"$f":"VLOOKUP($D404,Tidsplan!$B:$D,2,FALSE)","v":""},null,null,null,null,null,null,0.32190778078209259," ",null,null,0,null,null,{"$f":"IF(#REF!=1,IFERROR(VLOOKUP(#REF!,[1]Sheet1!$A:$N,U$2,FALSE),\"\"),\"\")","v":{"$error":"#REF!"}},null,null,"Åpen","Mix S","8+",{"$f":"IF(R404<>0,LEFT(Z404,1),0)*1","v":0},"500 m"]
[{"$f":"D405&R405","v":"2441"},{"$f":"OFFSET(B405,-1,0)","v":1},"Søn 02.09",244,null,{"$f":"OFFSET(F405,-1,0)","v":"1615"},null,null,null,null,null,null,null,0.25005271987271172,null,null,null,1,null,null,{"$f":"IF(#REF!=1,IFERROR(VLOOKUP(#REF!,[1]Sheet1!$A:$N,U$2,FALSE),\"\"),\"\")","v":{"$error":"#REF!"}},null,null,"Åpen","Mix S","8+",null,"500 m","Bærum Roklubb 1","Caitlin Isabelle Aalders\nThea Hertzum Aunaas\nBrage Kristian Bragstad\nPetter Bratli\nØystein Dingen Endresen\nSindre Fuglseth\nTuva Skatt Gillebo\nStina Halvorsen Vad\nLars Moberg Værnes","09:00",475,null,"Bærum Roklubb",null,null,"03.06.2001\n15.01.2001\n12.09.2000\n17.06.2000\n20.06.2000\n26.09.2000\n17.10.2002\n26.09.2000\n02.06.2000","Nei\nNei\nNei\nNei\nNei\nNei\nNei\nNei\nNei","K030601CAI03\nK150101THE02\nM120900BRA02\nM170600PET01\nM070600ØYS01\nM260900SIN02\nK171002TUV03\nK260900STI02\nM020600LAR02","7289717\n6790513\n8203074\n8020362\n5372192\n6073987\n6101180\n6778019\n4487587","17.04.2018\n17.04.2018\n\n17.04.2018\n13.04.2018\n17.04.2018\n\n13.04.2018\n13.04.2018","Bærum Roklubb\nBærum Roklubb\nBærum Roklubb\nBærum Roklubb\nBærum Roklubb\nBærum Roklubb\nBærum Roklubb\nBærum Roklubb\nBærum Roklubb","Bente Dingen\n","45411863\n","bente.dingen@lundin-norway.no\n","22.08.2018\n22.08.2018\n22.08.2018\n22.08.2018\n22.08.2018\n22.08.2018\n22.08.2018\n22.08.2018\n22.08.2018",null,null,null,null,null,null,null,null,"  "]
[{"$f":"D406&R406","v":"2442"},null,"Søn 02.09",244,null,{"$f":"OFFSET(F406,-1,0)","v":"1615"},null,null,null,null,null,null,null,0.99058692856444908,null,null,null,2,null,null,{"$f":"IF(#REF!=1,IFERROR(VLOOKUP(#REF!,[1]Sheet1!$A:$N,U$2,FALSE),\"\"),\"\")","v":{"$error":"#REF!"}},null,null,"Åpen","Åpen","8+",null,"500 m","Norske Studenters Roklub 1",null,"09:00",475,null,"Norske Studenters Roklub"]
["OSI",null,"Søn 02.09",244,null,{"$f":"OFFSET(F407,-1,0)","v":"1615"},null,null,null,null,null,null,null,0.45486133994490152,null,null,null,3,null,null,{"$f":"IF(#REF!=1,IFERROR(VLOOKUP(#REF!,[1]Sheet1!$A:$N,U$2,FALSE),\"\"),\"\")","v":{"$error":"#REF!"}},null,null,"Åpen","Åpen","8+",null,"500 m","OSI","Markus Christensen, \nHalvor West, \nFelix Fritz,\n Yvonne Neraal, \n Rikke Kjærås,\n Mari Berger Hanestad,\n Une Tjøm, \nHeidi Guldvog Hartvedt,\n Maria Fonneløp Inderberg","09:00",475,null,"OSI"]
[null,null,null,null,null,null,null,null,null,null,null,null,null,null,null,null,null,null,null,null,{"$f":"IF(#REF!=1,IFERROR(VLOOKUP(#REF!,[1]Sheet1!$A:$N,U$2,FALSE),\"\"),\"\")","v":{"$error":"#REF!"}}]

{"sheet":"Søndg løp","index":5,"n_rows":48,"n_cols":8,"rows_kept":48,"cut":false,"hidden":false,"merged":[[0,0,0,7],[2,1,2,2],[5,0,5,7]]}
["LØPSOPPSETT SØNDAG"]
["DAG","Løp nr.","Kjønn","Klasse","Båttype","Distanse","ANNET","Startkontingent"]
["Søndag","FORSØKSLØP\nFORSØKSLØP"]
[null,201,"H","JB","1x",500,"K",275]
[null,202,"D","JB","1x",500," ",275]
["Pause\nLAGLEDERMØTE kl. 11.00"]
[null,203,"D/H","Nybeg","Åpen",500," ",150]
[null,205,"D","JA","8+",500,"SP/K",475]
[null,206,"H","JC","1x",500," ",275]
[null,207,"D","JC","2x",500," ",325]
[null,208,"D","S","1x",500,"K",275]
[null,209,"D","JA","2x",500,"K",325]
[null,210,"D","S","2-",500,null,325]
[null,211,"H","JA","1x",500,"SP",275]
[null,212,"H","S/Master","4-",500,"SP/K",375]
[null,204,"D/H","JD","1x",500,null,275]
[null,213,"D","Master","4x",500,null,375]
[null,214,"H","JA","2-",500,"K",325]
[null,215,"H","S","1x",500," SP",275]
[null,{"$f":"B19+1","v":216},"D","JA","4-",500,"K",375]
[null,{"$f":"B20+1","v":217},"H","S L ","1x",500,"SP",275]
[null,218,"D","S","2x",500,"SP/K ",325]
[null,219,"H","JC","2x",500," ",325]
[null,220,"D","JC","1x",500," ",275]
[null,221,"H","JB","2x",500," ",325]
[null,222,"D","JA","1x",500,"SP",275]
[null,223,"D","JB","4x",500," ",375]
[null,224,"H","Master","2x",500,"K",325]
[null,225,"D","Master","2x",500," ",325]
[null,226,"D","S L ","2x",500,"SP",325]
[null,227,"H","S","2x",500,"K",325]
[null,228,"D","S","4x",500,"SP",375]
[null,229,"H","JA","4x",500,"K",375]
[null,230,"D","JA","2-",500,"K",325]
[null,231,"H","JB","4-",500," ",375]
[null,232,"D","JB","2x",500," ",325]
[null,233,"MIX","JC","4x",500,null,375]
[null,234,"H","JA","4-",500,"SP",375]
[null,235,"H","S","2-",500,"K ",325]
[null,236,"D","JA","4x",500,"K",375]
[null,237,"H","S L"," 2x",500,"K",325]
[null,238,"D","S L ","1x",500,null,275]
[null,239,"H","S/Master","4x",500," ",375]
[null,240,"H","JA","2x",500,"SP",325]
[null,241,"H","JB","4x",500," ",375]
[null,242,"H","Master","1x",500," ",275]
[null,243,"D","Master","1x",500," K",275]
[null,244,"MIX","Åpen","8+",500," ",475]

{"sheet":"LØPSOPPSETT OPPSLAG","index":6,"n_rows":203,"n_cols":12,"rows_kept":203,"cut":false,"hidden":true,"merged":[[48,1,48,2],[51,0,51,7]]}
["LØPSOPPSETT LØRDAG"]
["Dag","Løp nr.","Kjønn","Klasse","Båttype","Distanse","ANNET","START\nFINALE"]
["LØRDAG","FORSØKSLØP\nFORSØKSLØP"]
[null,101,"H","JB","1x",500," ","12:45:00"]
[null,102,"D","JB","1x",500,"K","14:40:00"]
["Pause\nLAGLEDERMØTE kl. 11.00"]
[]
[null,103,"D/H","Nybeg","Åpen",500," ","12:00:00"]
[null,104,"D/H","JD","2x",500," ","12:05:00"]
[null,105,"H","JA","8+",500,"SP/K","14:00:00"]
[null,106,"H","JC","1x",500," ","12:10:00"]
[null,107,"D","JC","2x",500," ","12:20:00"]
[null,108,"D","S","1x",500,"SP","12:25:00"]
[null,109,"D","JA","2x",500,"SP","12:35:00"]
[null,110,"D","S","2-",500,null,"14:20:00"]
[null,111,"H","JA","1x",500,"K","12:40:00"]
[null,112,"H","S/Master","4-",500," ","13:10:00"]
[null,113,"D","Master","4x",500,"K"]
[null,114,"H","JA","2-",500,"SP"," "]
[null,115,"H","S","1x",500,"K "," "]
[null,116,"H","S L ","1x",500,"K "," "]
[null,117,"D","S","2x",500,null,"13:20:00"]
[null,118,"H","JC","2x",500," ","13:30:00"]
[null,119,"D","JC","1x",500," ","13:40:00"]
[null,120,"H","JB","2x",500,"K","13:45:00"]
[null,121,"D","JA","1x",500,"K","13:55:00"]
[null,122,"D","JB","4x",500,"K","14:05:00"]
[null,123,"H","Master","2x",500," ","15:15:00"]
[null,124,"D","Master","2x",500,"K","14:15:00"]
[null,125,"D","S L"," 2x",500,"K "," "]
[null,126,"H","S","2x",500,"SP"," "]
[null,127,"D","S","4x",500,"K ","14:25:00"]
[null,128,"H","JA","4x",500,"SP","14:30:00"]
[null,129,"H","JB","4-",500,"K","15:05:00"]
[null,130,"D","JB","2x",500,"K","13:05:00"]
[null,131,"MIX","JC","4x",500,null,"14:45:00"]
[null,132,"H","JA","4-",500,"K","14:50:00"]
[null,133,"H","S","2-",500,"K"," "]
[null,134,"D","JA","4x",500,"SP","14:55:00"]
[null,135,"H","S L"," 2x",500,"SP"," "]
[null,136,"D","S L"," 1x",500,"SP"," "]
[null,137,"H","S/Master","4x",500,"SP/K"," "]
[null,138,"H","JA","2x",500,"K","15:00:00"]
[null,139,"H","JB","4x",500,"K","14:35:00"]
[null,140,"H","Master","1x",500,"K","14:10:00"]
[null,141,"D","Master","1x",500," "," "]
[null,142,"D","S","8+",500,"SP","15:10:00"]
["DAG","Løp nr.","Kjønn","Klasse","Båttype","Distanse"]
["Søndag","FORSØKSLØP\nFORSØKSLØP"]
[null,201,"H","JB","1x",500,"K",250]
[null,202,"D","JB","1x",500," ",250]
["Pause\nLAGLEDERMØTE kl. 11.00"]
[null,203,"D/H","Nybeg","Åpen",500," ",120]
[null,204,"D/H","JD","1x",500,null,250]
[null,205,"D","JA","8+",500,"SP/K",450]
[null,206,"H","JC","1x",500," ",250]
[null,207,"D","JC","2x",500," ",300]
[null,208,"D","S","1x",500,"K",250]
[null,209,"D","JA","2x",500,"K",300]
[null,210,"D","S","2-",500,null,300]
[null,211,"H","JA","1x",500,"SP",250]
[null,212,"H","S/Master","4-",500,"SP/K",350]
[null,213,"D","Master","4x",500,null,350]
[null,214,"H","JA","2-",500,"K",300]
[null,215,"H","S","1x",500," SP",250]
[null,216,"H","S L ","1x",500,"SP",250]
[null,217,"D","S","2x",500,"SP/K ",300]
[null,218,"H","JC","2x",500," ",300]
[null,219,"D","JC","1x",500," ",250]
[null,220,"H","JB","2x",500," ",300]
[null,221,"D","JA","1x",500,"SP",250]
[null,222,"D","JB","4x",500," ",350]
[null,223,"H","Master","2x",500,"K",300]
[null,224,"D","Master","2x",500," ",300]
[null,225,"D","S L ","2x",500,"SP",300]
[null,226,"H","S","2x",500,"K",300]
[null,227,"D","S","4x",500,"SP",350]
[null,228,"H","JA","4x",500,"K",350]
[null,229,"H","JB","4-",500," ",350]
[null,230,"D","JB","2x",500," ",300]
[null,231,"MIX","JC","4x",500,null,350]
[null,232,"H","JA","4-",500,"SP",350]
[null,233,"H","S","2-",500,"K ",300]
[null,234,"D","JA","4x",500,"K",350]
[null,235,"H","S L"," 2x",500,"K",300]
[null,236,"D","S L ","1x",500,null,250]
[null,237,"H","S/Master","4x",500," ",350]
[null,238,"H","JA","2x",500,"SP",300]
[null,239,"H","JB","4x",500," ",350]
[null,240,"H","Master","1x",500," ",250]
[null,241,"D","Master","1x",500," K",250]
[null,242,"MIX","Åpen","8+",500," ",450]
[]
[]
[]
[]
[]
[]
[]
[]
[]
[]
[]
[]
[]
[]
[]
[]
[]
[]
[]
[]
[]
[]
[]
[]
[]
[]
[]
[]
[]
[]
[]
[]
[]
[]
[]
[]
[]
[]
[]
[]
[]
[]
[]
[]
[]
[]
[]
[]
[]
[]
[]
[]
[]
[]
[]
[]
[]
[]
[]
[]
[]
[]
[]
[]
[]
[]
[]
[]
[]
[]
[]
[]
[]
[]
[]
[]
[]
[]
[]
[]
[]
[]
[]
[]
[]
[]
[]
[]
[]
[]
[]
[]
[]
[]
[]
[]
[]
[]
[]
[]
[]
[]
[]
[]
[]
[]
[]
[]
[]
[]
[null,null,null,null,null,null,null,null,null,null,null,{"$f":"VLOOKUP(\"\"&B203,'Lørdag løp'!A6+'LØPSOPPSETT OPPSLAG'!A6,2,FALSE)","v":{"$error":"#VALUE!"}}]

{"sheet":"Krysstabell","index":7,"n_rows":32,"n_cols":9,"rows_kept":32,"cut":false,"hidden":false,"merged":[[22,0,23,0],[24,0,25,0],[26,0,27,0],[28,0,29,0],[30,0,31,0],[0,0,0,8],[20,0,21,0],[2,0,3,0],[4,0,5,0],[6,0,7,0],[8,0,9,0],[10,0,11,0],[12,0,13,0],[14,0,15,0],[16,0,17,0],[18,0,19,0]]}
["KRYSSTABELL LØP"]
["KLASSE","Dag","1x","2x","2-","4x","4-","8+","Åpen"]
["Damer Senior","Lørdag",108,118,110,128,null,144]
[null,"Søndag",208,218,210,228]
["Damer Senior Lv","Lørdag",138,126]
[null,"Søndag",238,226]
["Damer Master","Lørdag",143,125,null,113]
[null,"Søndag",243,225,null,213]
["Damer Junior A","Lørdag",122,109,129,136,116]
[null,"Søndag",222,209,229,236,216,205]
["Damer Junior B","Lørdag",102,132,null,123]
[null,"Søndag",202,232,null,223]
["Damer Junior C","Lørdag",120,107]
[null,"Søndag",220,207]
["Herrer Senior","Lørdag",115,127,135,139]
[null,"Søndag",215,227,235,239,212]
["Herrer Senior Lv","Lørdag",117,137]
[null,"Søndag",217,237]
["Herrer Master","Lørdag",142,124,null,139,112]
[null,"Søndag",242,224,null,239,212]
["Herrer Junior A","Lørdag",111,140,114,130,134,105]
[null,"Søndag",211,240,214,230,234]
["Herrer Junior B","Lørdag",101,121,null,141,131]
[null,"Søndag",201,221,null,241,231]
["Herrer Junior C","Lørdag",106,119]
[null,"Søndag",206,219]
["Damer/Herrer J. D","Lørdag",null,104]
[null,"Søndag",204]
["Åpen Nybegynner","Lørdag",null,null,null,null,null,null,103]
[null,"Søndag",null,null,null,null,null,null,203]
["Mix","Lørdag",null,null,null,133]
[null,"Søndag",null,null,null,233,null,244]

{"sheet":"FORMATERINGER","index":8,"n_rows":10,"n_cols":19,"rows_kept":10,"cut":false,"hidden":true,"merged":[]}
["LØP NR","Finaler/heat","Forsøk og\nOppsamling","Tidspunkt\nforsøk","Tidspunkt \noppsamling","Tidspunkt \nveiing","Plassering","TID:","START NR","Kjønn","Klasse","Båttype","Distanse","ROKLUBB","ROERE","OKR JUBILEUMSLØP","START\nFINALE","START-KONTIGENT","Etteranmeldt\n/ Strøket"]
[200,"A",1,"10.30","11.30","10.45",0,0,0,"Mix","Mas","2X",1000,null,null,"OKR","11:00:00","200"]
[]
[215,"A",2,"10.30","11.30","10.45",0,0,0,"H","S","2-",2000,null,null,null,"Utgår","200"]
[]
[200,"A",1,"10.30","11.30","10.45",1,"07.36.04",1,"M","Mas","2X",1000,"NSR","NN\nNN","OKR","11:00:00",400,"X"]
[]
[]
["NB ! Fra denne folder skal du kun kopiere formatet, ikke innholdet i cellene !"]
["Sett derfor din cursor i ønsket rad helt i venstre marg, velg \"format painter\" og kopier over til folder LØRDAG eller SØNDAG"]